BEGIN:VCALENDAR
VERSION:2.0
PRODID:-//AFLabs urnik izvoz - fmf//aflabs.si//SI
DTSTAMP:20260424T104645Z
NAME:UL FMF urnik
REFRESH-INTERVAL:PT1H
SOURCE:https://urnik.fmf.uni-lj.si/teacher/107?day=2024-02-05&export=1
URL:https://urnik.fmf.uni-lj.si/teacher/107?day=2024-02-05&export=1
X-PUBLISHED-TTL:PT1H
X-WR-CALNAME:UL FMF urnik
X-WR-TIMEZONE:Europe/Ljubljana
BEGIN:VTIMEZONE
TZID:Europe/Ljubljana
BEGIN:DAYLIGHT
DTSTART:20260329T020000
RDATE:20260329T020000
RDATE:20270328T020000
TZNAME:CEST
TZOFFSETFROM:+0100
TZOFFSETTO:+0200
END:DAYLIGHT
BEGIN:STANDARD
DTSTART:20261025T030000
RDATE:20261025T030000
RDATE:20271031T030000
TZNAME:CET
TZOFFSETFROM:+0200
TZOFFSETTO:+0100
END:STANDARD
END:VTIMEZONE
BEGIN:VEVENT
SUMMARY:Fizika (FKKT Teh. varnost) ()\, Predavanja (P)
DTSTART;TZID=Europe/Ljubljana:20240101T130000
DTEND;TZID=Europe/Ljubljana:20240101T160000
DTSTAMP:20260424T104645Z
UID:fmf-AFLABS-URNIK:premaknjeno-srecanje:25836
CATEGORIES:Entry,Standard
COLOR:darkgreen
DESCRIPTION:Predmet: Fizika (FKKT Teh. varnost) ()\, Predavanja (P)\nLetni
 ki: \nIzvajalci: Miha Ravnik\nProstor: MFP
LOCATION:MFP
ORGANIZER:Miha Ravnik
RELATED-TO:fmf-AFLABS-URNIK:srecanje:9092
X-WR-TIMEZONE:Europe/Ljubljana
END:VEVENT
BEGIN:VEVENT
SUMMARY:Fizika (FKKT Teh. varnost) ()\, Predavanja (P)
DTSTART;TZID=Europe/Ljubljana:20240108T130000
DTEND;TZID=Europe/Ljubljana:20240108T160000
DTSTAMP:20260424T104645Z
UID:fmf-AFLABS-URNIK:premaknjeno-srecanje:25837
CATEGORIES:Entry,Standard
COLOR:darkgreen
DESCRIPTION:Predmet: Fizika (FKKT Teh. varnost) ()\, Predavanja (P)\nLetni
 ki: \nIzvajalci: Miha Ravnik\nProstor: MFP
LOCATION:MFP
ORGANIZER:Miha Ravnik
RELATED-TO:fmf-AFLABS-URNIK:srecanje:9092
X-WR-TIMEZONE:Europe/Ljubljana
END:VEVENT
BEGIN:VEVENT
SUMMARY:Fizika (FKKT Teh. varnost) ()\, Predavanja (P)
DTSTART;TZID=Europe/Ljubljana:20240115T130000
DTEND;TZID=Europe/Ljubljana:20240115T160000
DTSTAMP:20260424T104645Z
UID:fmf-AFLABS-URNIK:premaknjeno-srecanje:25838
CATEGORIES:Entry,Standard
COLOR:darkgreen
DESCRIPTION:Predmet: Fizika (FKKT Teh. varnost) ()\, Predavanja (P)\nLetni
 ki: \nIzvajalci: Miha Ravnik\nProstor: MFP
LOCATION:MFP
ORGANIZER:Miha Ravnik
RELATED-TO:fmf-AFLABS-URNIK:srecanje:9092
X-WR-TIMEZONE:Europe/Ljubljana
END:VEVENT
BEGIN:VEVENT
SUMMARY:Fizika (FKKT Teh. varnost) ()\, Predavanja (P)
DTSTART;TZID=Europe/Ljubljana:20240122T130000
DTEND;TZID=Europe/Ljubljana:20240122T160000
DTSTAMP:20260424T104645Z
UID:fmf-AFLABS-URNIK:premaknjeno-srecanje:25839
CATEGORIES:Entry,Standard
COLOR:darkgreen
DESCRIPTION:Predmet: Fizika (FKKT Teh. varnost) ()\, Predavanja (P)\nLetni
 ki: \nIzvajalci: Miha Ravnik\nProstor: MFP
LOCATION:MFP
ORGANIZER:Miha Ravnik
RELATED-TO:fmf-AFLABS-URNIK:srecanje:9092
X-WR-TIMEZONE:Europe/Ljubljana
END:VEVENT
BEGIN:VEVENT
SUMMARY:Kolegij dekana ()\, Ostalo (O)
DTSTART;TZID=Europe/Ljubljana:20240101T080000
DTEND;TZID=Europe/Ljubljana:20240101T120000
DTSTAMP:20260424T104645Z
UID:fmf-AFLABS-URNIK:premaknjeno-srecanje:52108
CATEGORIES:Entry,Standard
COLOR:darkgreen
DESCRIPTION:Predmet: Kolegij dekana ()\, Ostalo (O)\nLetniki: \nIzvajalci:
  Miran Černe\, Bor Plestenjak\, Miha Ravnik\, Ljupčo Todorovski\nProstor
 : Sejna soba J21
LOCATION:Sejna soba J21
ORGANIZER:Miran Černe, Bor Plestenjak, Miha Ravnik, Ljupčo Todorovski
RELATED-TO:fmf-AFLABS-URNIK:srecanje:9221
X-WR-TIMEZONE:Europe/Ljubljana
END:VEVENT
BEGIN:VEVENT
SUMMARY:Kolegij dekana ()\, Ostalo (O)
DTSTART;TZID=Europe/Ljubljana:20240108T080000
DTEND;TZID=Europe/Ljubljana:20240108T120000
DTSTAMP:20260424T104645Z
UID:fmf-AFLABS-URNIK:premaknjeno-srecanje:52109
CATEGORIES:Entry,Standard
COLOR:darkgreen
DESCRIPTION:Predmet: Kolegij dekana ()\, Ostalo (O)\nLetniki: \nIzvajalci:
  Miran Černe\, Bor Plestenjak\, Miha Ravnik\, Ljupčo Todorovski\nProstor
 : Sejna soba J21
LOCATION:Sejna soba J21
ORGANIZER:Miran Černe, Bor Plestenjak, Miha Ravnik, Ljupčo Todorovski
RELATED-TO:fmf-AFLABS-URNIK:srecanje:9221
X-WR-TIMEZONE:Europe/Ljubljana
END:VEVENT
BEGIN:VEVENT
SUMMARY:Kolegij dekana ()\, Ostalo (O)
DTSTART;TZID=Europe/Ljubljana:20240115T080000
DTEND;TZID=Europe/Ljubljana:20240115T120000
DTSTAMP:20260424T104645Z
UID:fmf-AFLABS-URNIK:premaknjeno-srecanje:52110
CATEGORIES:Entry,Standard
COLOR:darkgreen
DESCRIPTION:Predmet: Kolegij dekana ()\, Ostalo (O)\nLetniki: \nIzvajalci:
  Miran Černe\, Bor Plestenjak\, Miha Ravnik\, Ljupčo Todorovski\nProstor
 : Sejna soba J21
LOCATION:Sejna soba J21
ORGANIZER:Miran Černe, Bor Plestenjak, Miha Ravnik, Ljupčo Todorovski
RELATED-TO:fmf-AFLABS-URNIK:srecanje:9221
X-WR-TIMEZONE:Europe/Ljubljana
END:VEVENT
BEGIN:VEVENT
SUMMARY:Kolegij dekana ()\, Ostalo (O)
DTSTART;TZID=Europe/Ljubljana:20240122T080000
DTEND;TZID=Europe/Ljubljana:20240122T120000
DTSTAMP:20260424T104645Z
UID:fmf-AFLABS-URNIK:premaknjeno-srecanje:52111
CATEGORIES:Entry,Standard
COLOR:darkgreen
DESCRIPTION:Predmet: Kolegij dekana ()\, Ostalo (O)\nLetniki: \nIzvajalci:
  Miran Černe\, Bor Plestenjak\, Miha Ravnik\, Ljupčo Todorovski\nProstor
 : Sejna soba J21
LOCATION:Sejna soba J21
ORGANIZER:Miran Černe, Bor Plestenjak, Miha Ravnik, Ljupčo Todorovski
RELATED-TO:fmf-AFLABS-URNIK:srecanje:9221
X-WR-TIMEZONE:Europe/Ljubljana
END:VEVENT
BEGIN:VEVENT
SUMMARY:Seminar skupine za fiziko mehke in delno urejene snovi ()\, Semina
 r (S)
DTSTART;TZID=Europe/Ljubljana:20240102T100000
DTEND;TZID=Europe/Ljubljana:20240102T120000
DTSTAMP:20260424T104645Z
UID:fmf-AFLABS-URNIK:premaknjeno-srecanje:102073
CATEGORIES:Entry,Standard
COLOR:darkgreen
DESCRIPTION:Predmet: Seminar skupine za fiziko mehke in delno urejene snov
 i ()\, Seminar (S)\nLetniki: \nIzvajalci: Polona Aupič\, Enej Caf\, Simon
  Čopar\, Benjamin Knez\, Žiga Kos\, Nika Kralj\, Matevž Marinčič\, Pe
 ter Marinko\, Urban Mur\, Miha Ravnik\, Peter Ropač\, Andreja Šarlah\, G
 regor Skačej\, Daniel Svenšek\, Jaka Zaplotnik\, Slobodan Žumer\nProsto
 r: F7
LOCATION:F7
ORGANIZER:Polona Aupič, Enej Caf, Simon Čopar, Benjamin Knez, Žiga Kos,
  Nika Kralj, Matevž Marinčič, Peter Marinko, Urban Mur, Miha Ravnik, Pe
 ter Ropač, Andreja Šarlah, Gregor Skačej, Daniel Svenšek, Jaka Zaplotn
 ik, Slobodan Žumer
RELATED-TO:fmf-AFLABS-URNIK:srecanje:9462
X-WR-TIMEZONE:Europe/Ljubljana
END:VEVENT
BEGIN:VEVENT
SUMMARY:Seminar skupine za fiziko mehke in delno urejene snovi ()\, Semina
 r (S)
DTSTART;TZID=Europe/Ljubljana:20240109T100000
DTEND;TZID=Europe/Ljubljana:20240109T120000
DTSTAMP:20260424T104645Z
UID:fmf-AFLABS-URNIK:premaknjeno-srecanje:102074
CATEGORIES:Entry,Standard
COLOR:darkgreen
DESCRIPTION:Predmet: Seminar skupine za fiziko mehke in delno urejene snov
 i ()\, Seminar (S)\nLetniki: \nIzvajalci: Polona Aupič\, Enej Caf\, Simon
  Čopar\, Benjamin Knez\, Žiga Kos\, Nika Kralj\, Matevž Marinčič\, Pe
 ter Marinko\, Urban Mur\, Miha Ravnik\, Peter Ropač\, Andreja Šarlah\, G
 regor Skačej\, Daniel Svenšek\, Jaka Zaplotnik\, Slobodan Žumer\nProsto
 r: F7
LOCATION:F7
ORGANIZER:Polona Aupič, Enej Caf, Simon Čopar, Benjamin Knez, Žiga Kos,
  Nika Kralj, Matevž Marinčič, Peter Marinko, Urban Mur, Miha Ravnik, Pe
 ter Ropač, Andreja Šarlah, Gregor Skačej, Daniel Svenšek, Jaka Zaplotn
 ik, Slobodan Žumer
RELATED-TO:fmf-AFLABS-URNIK:srecanje:9462
X-WR-TIMEZONE:Europe/Ljubljana
END:VEVENT
BEGIN:VEVENT
SUMMARY:Seminar skupine za fiziko mehke in delno urejene snovi ()\, Semina
 r (S)
DTSTART;TZID=Europe/Ljubljana:20240116T100000
DTEND;TZID=Europe/Ljubljana:20240116T120000
DTSTAMP:20260424T104645Z
UID:fmf-AFLABS-URNIK:premaknjeno-srecanje:102075
CATEGORIES:Entry,Standard
COLOR:darkgreen
DESCRIPTION:Predmet: Seminar skupine za fiziko mehke in delno urejene snov
 i ()\, Seminar (S)\nLetniki: \nIzvajalci: Polona Aupič\, Enej Caf\, Simon
  Čopar\, Benjamin Knez\, Žiga Kos\, Nika Kralj\, Matevž Marinčič\, Pe
 ter Marinko\, Urban Mur\, Miha Ravnik\, Peter Ropač\, Andreja Šarlah\, G
 regor Skačej\, Daniel Svenšek\, Jaka Zaplotnik\, Slobodan Žumer\nProsto
 r: F7
LOCATION:F7
ORGANIZER:Polona Aupič, Enej Caf, Simon Čopar, Benjamin Knez, Žiga Kos,
  Nika Kralj, Matevž Marinčič, Peter Marinko, Urban Mur, Miha Ravnik, Pe
 ter Ropač, Andreja Šarlah, Gregor Skačej, Daniel Svenšek, Jaka Zaplotn
 ik, Slobodan Žumer
RELATED-TO:fmf-AFLABS-URNIK:srecanje:9462
X-WR-TIMEZONE:Europe/Ljubljana
END:VEVENT
BEGIN:VEVENT
SUMMARY:Seminar skupine za fiziko mehke in delno urejene snovi ()\, Semina
 r (S)
DTSTART;TZID=Europe/Ljubljana:20240123T100000
DTEND;TZID=Europe/Ljubljana:20240123T120000
DTSTAMP:20260424T104645Z
UID:fmf-AFLABS-URNIK:premaknjeno-srecanje:102076
CATEGORIES:Entry,Standard
COLOR:darkgreen
DESCRIPTION:Predmet: Seminar skupine za fiziko mehke in delno urejene snov
 i ()\, Seminar (S)\nLetniki: \nIzvajalci: Polona Aupič\, Enej Caf\, Simon
  Čopar\, Benjamin Knez\, Žiga Kos\, Nika Kralj\, Matevž Marinčič\, Pe
 ter Marinko\, Urban Mur\, Miha Ravnik\, Peter Ropač\, Andreja Šarlah\, G
 regor Skačej\, Daniel Svenšek\, Jaka Zaplotnik\, Slobodan Žumer\nProsto
 r: F7
LOCATION:F7
ORGANIZER:Polona Aupič, Enej Caf, Simon Čopar, Benjamin Knez, Žiga Kos,
  Nika Kralj, Matevž Marinčič, Peter Marinko, Urban Mur, Miha Ravnik, Pe
 ter Ropač, Andreja Šarlah, Gregor Skačej, Daniel Svenšek, Jaka Zaplotn
 ik, Slobodan Žumer
RELATED-TO:fmf-AFLABS-URNIK:srecanje:9462
X-WR-TIMEZONE:Europe/Ljubljana
END:VEVENT
BEGIN:VEVENT
SUMMARY:Elektromagnetno polje (FIZ-3)\, Predavanja (P)
DTSTART;TZID=Europe/Ljubljana:20240103T110000
DTEND;TZID=Europe/Ljubljana:20240103T140000
DTSTAMP:20260424T104645Z
UID:fmf-AFLABS-URNIK:premaknjeno-srecanje:18296
ATTENDEE:3. letnik (Fizika, 1. stopnja)
CATEGORIES:Entry,Standard
COLOR:darkgreen
DESCRIPTION:Predmet: Elektromagnetno polje (FIZ-3)\, Predavanja (P)\nLetni
 ki: 3. letnik (Fizika\, 1. stopnja)\nIzvajalci: Miha Ravnik\nProstor: F2
LOCATION:F2
ORGANIZER:Miha Ravnik
RELATED-TO:fmf-AFLABS-URNIK:srecanje:9043
X-WR-TIMEZONE:Europe/Ljubljana
END:VEVENT
BEGIN:VEVENT
SUMMARY:Elektromagnetno polje (FIZ-3)\, Predavanja (P)
DTSTART;TZID=Europe/Ljubljana:20240110T110000
DTEND;TZID=Europe/Ljubljana:20240110T140000
DTSTAMP:20260424T104645Z
UID:fmf-AFLABS-URNIK:premaknjeno-srecanje:18297
ATTENDEE:3. letnik (Fizika, 1. stopnja)
CATEGORIES:Entry,Standard
COLOR:darkgreen
DESCRIPTION:Predmet: Elektromagnetno polje (FIZ-3)\, Predavanja (P)\nLetni
 ki: 3. letnik (Fizika\, 1. stopnja)\nIzvajalci: Miha Ravnik\nProstor: F2
LOCATION:F2
ORGANIZER:Miha Ravnik
RELATED-TO:fmf-AFLABS-URNIK:srecanje:9043
X-WR-TIMEZONE:Europe/Ljubljana
END:VEVENT
BEGIN:VEVENT
SUMMARY:Elektromagnetno polje (FIZ-3)\, Predavanja (P)
DTSTART;TZID=Europe/Ljubljana:20240117T110000
DTEND;TZID=Europe/Ljubljana:20240117T140000
DTSTAMP:20260424T104645Z
UID:fmf-AFLABS-URNIK:premaknjeno-srecanje:18298
ATTENDEE:3. letnik (Fizika, 1. stopnja)
CATEGORIES:Entry,Standard
COLOR:darkgreen
DESCRIPTION:Predmet: Elektromagnetno polje (FIZ-3)\, Predavanja (P)\nLetni
 ki: 3. letnik (Fizika\, 1. stopnja)\nIzvajalci: Miha Ravnik\nProstor: F2
LOCATION:F2
ORGANIZER:Miha Ravnik
RELATED-TO:fmf-AFLABS-URNIK:srecanje:9043
X-WR-TIMEZONE:Europe/Ljubljana
END:VEVENT
BEGIN:VEVENT
SUMMARY:Seminar skupine za fiziko mehke in delno urejene snovi ()\, Semina
 r (S)
DTSTART;TZID=Europe/Ljubljana:20240206T100000
DTEND;TZID=Europe/Ljubljana:20240206T120000
DTSTAMP:20260424T104645Z
UID:fmf-AFLABS-URNIK:premaknjeno-srecanje:136456
CATEGORIES:Entry,Standard
COLOR:darkgreen
DESCRIPTION:Predmet: Seminar skupine za fiziko mehke in delno urejene snov
 i ()\, Seminar (S)\nLetniki: \nIzvajalci: Polona Aupič\, Enej Caf\, Simon
  Čopar\, Andraž Gnidovec\, Žiga Kos\, Nika Kralj\, Matevž Marinčič\,
  Peter Marinko\, Urban Mur\, Miha Ravnik\, Peter Ropač\, Andreja Šarlah\
 , Gregor Skačej\, Daniel Svenšek\, Jaka Zaplotnik\, Slobodan Žumer\nPro
 stor: F7
LOCATION:F7
ORGANIZER:Polona Aupič, Enej Caf, Simon Čopar, Andraž Gnidovec, Žiga K
 os, Nika Kralj, Matevž Marinčič, Peter Marinko, Urban Mur, Miha Ravnik,
  Peter Ropač, Andreja Šarlah, Gregor Skačej, Daniel Svenšek, Jaka Zapl
 otnik, Slobodan Žumer
RELATED-TO:fmf-AFLABS-URNIK:srecanje:10383
X-WR-TIMEZONE:Europe/Ljubljana
END:VEVENT
BEGIN:VEVENT
SUMMARY:Seminar skupine za fiziko mehke in delno urejene snovi ()\, Semina
 r (S)
DTSTART;TZID=Europe/Ljubljana:20240213T100000
DTEND;TZID=Europe/Ljubljana:20240213T120000
DTSTAMP:20260424T104645Z
UID:fmf-AFLABS-URNIK:premaknjeno-srecanje:136457
CATEGORIES:Entry,Standard
COLOR:darkgreen
DESCRIPTION:Predmet: Seminar skupine za fiziko mehke in delno urejene snov
 i ()\, Seminar (S)\nLetniki: \nIzvajalci: Polona Aupič\, Enej Caf\, Simon
  Čopar\, Andraž Gnidovec\, Žiga Kos\, Nika Kralj\, Matevž Marinčič\,
  Peter Marinko\, Urban Mur\, Miha Ravnik\, Peter Ropač\, Andreja Šarlah\
 , Gregor Skačej\, Daniel Svenšek\, Jaka Zaplotnik\, Slobodan Žumer\nPro
 stor: F7
LOCATION:F7
ORGANIZER:Polona Aupič, Enej Caf, Simon Čopar, Andraž Gnidovec, Žiga K
 os, Nika Kralj, Matevž Marinčič, Peter Marinko, Urban Mur, Miha Ravnik,
  Peter Ropač, Andreja Šarlah, Gregor Skačej, Daniel Svenšek, Jaka Zapl
 otnik, Slobodan Žumer
RELATED-TO:fmf-AFLABS-URNIK:srecanje:10383
X-WR-TIMEZONE:Europe/Ljubljana
END:VEVENT
BEGIN:VEVENT
SUMMARY:Seminar skupine za fiziko mehke in delno urejene snovi ()\, Semina
 r (S)
DTSTART;TZID=Europe/Ljubljana:20240220T100000
DTEND;TZID=Europe/Ljubljana:20240220T120000
DTSTAMP:20260424T104645Z
UID:fmf-AFLABS-URNIK:premaknjeno-srecanje:136458
CATEGORIES:Entry,Standard
COLOR:darkgreen
DESCRIPTION:Predmet: Seminar skupine za fiziko mehke in delno urejene snov
 i ()\, Seminar (S)\nLetniki: \nIzvajalci: Polona Aupič\, Enej Caf\, Simon
  Čopar\, Andraž Gnidovec\, Žiga Kos\, Nika Kralj\, Matevž Marinčič\,
  Peter Marinko\, Urban Mur\, Miha Ravnik\, Peter Ropač\, Andreja Šarlah\
 , Gregor Skačej\, Daniel Svenšek\, Jaka Zaplotnik\, Slobodan Žumer\nPro
 stor: F7
LOCATION:F7
ORGANIZER:Polona Aupič, Enej Caf, Simon Čopar, Andraž Gnidovec, Žiga K
 os, Nika Kralj, Matevž Marinčič, Peter Marinko, Urban Mur, Miha Ravnik,
  Peter Ropač, Andreja Šarlah, Gregor Skačej, Daniel Svenšek, Jaka Zapl
 otnik, Slobodan Žumer
RELATED-TO:fmf-AFLABS-URNIK:srecanje:10383
X-WR-TIMEZONE:Europe/Ljubljana
END:VEVENT
BEGIN:VEVENT
SUMMARY:Seminar skupine za fiziko mehke in delno urejene snovi ()\, Semina
 r (S)
DTSTART;TZID=Europe/Ljubljana:20240227T100000
DTEND;TZID=Europe/Ljubljana:20240227T120000
DTSTAMP:20260424T104645Z
UID:fmf-AFLABS-URNIK:premaknjeno-srecanje:136459
CATEGORIES:Entry,Standard
COLOR:darkgreen
DESCRIPTION:Predmet: Seminar skupine za fiziko mehke in delno urejene snov
 i ()\, Seminar (S)\nLetniki: \nIzvajalci: Polona Aupič\, Enej Caf\, Simon
  Čopar\, Andraž Gnidovec\, Žiga Kos\, Nika Kralj\, Matevž Marinčič\,
  Peter Marinko\, Urban Mur\, Miha Ravnik\, Peter Ropač\, Andreja Šarlah\
 , Gregor Skačej\, Daniel Svenšek\, Jaka Zaplotnik\, Slobodan Žumer\nPro
 stor: F7
LOCATION:F7
ORGANIZER:Polona Aupič, Enej Caf, Simon Čopar, Andraž Gnidovec, Žiga K
 os, Nika Kralj, Matevž Marinčič, Peter Marinko, Urban Mur, Miha Ravnik,
  Peter Ropač, Andreja Šarlah, Gregor Skačej, Daniel Svenšek, Jaka Zapl
 otnik, Slobodan Žumer
RELATED-TO:fmf-AFLABS-URNIK:srecanje:10383
X-WR-TIMEZONE:Europe/Ljubljana
END:VEVENT
BEGIN:VEVENT
SUMMARY:Seminar skupine za fiziko mehke in delno urejene snovi ()\, Semina
 r (S)
DTSTART;TZID=Europe/Ljubljana:20240305T100000
DTEND;TZID=Europe/Ljubljana:20240305T120000
DTSTAMP:20260424T104645Z
UID:fmf-AFLABS-URNIK:premaknjeno-srecanje:136460
CATEGORIES:Entry,Standard
COLOR:darkgreen
DESCRIPTION:Predmet: Seminar skupine za fiziko mehke in delno urejene snov
 i ()\, Seminar (S)\nLetniki: \nIzvajalci: Polona Aupič\, Enej Caf\, Simon
  Čopar\, Andraž Gnidovec\, Žiga Kos\, Nika Kralj\, Matevž Marinčič\,
  Peter Marinko\, Urban Mur\, Miha Ravnik\, Peter Ropač\, Andreja Šarlah\
 , Gregor Skačej\, Daniel Svenšek\, Jaka Zaplotnik\, Slobodan Žumer\nPro
 stor: F7
LOCATION:F7
ORGANIZER:Polona Aupič, Enej Caf, Simon Čopar, Andraž Gnidovec, Žiga K
 os, Nika Kralj, Matevž Marinčič, Peter Marinko, Urban Mur, Miha Ravnik,
  Peter Ropač, Andreja Šarlah, Gregor Skačej, Daniel Svenšek, Jaka Zapl
 otnik, Slobodan Žumer
RELATED-TO:fmf-AFLABS-URNIK:srecanje:10383
X-WR-TIMEZONE:Europe/Ljubljana
END:VEVENT
BEGIN:VEVENT
SUMMARY:Fizika (FKKT Teh. varnost) ()\, Predavanja (P)
DTSTART;TZID=Europe/Ljubljana:20240219T120000
DTEND;TZID=Europe/Ljubljana:20240219T150000
DTSTAMP:20260424T104645Z
UID:fmf-AFLABS-URNIK:premaknjeno-srecanje:124394
CATEGORIES:Entry,Standard
COLOR:darkgreen
DESCRIPTION:Predmet: Fizika (FKKT Teh. varnost) ()\, Predavanja (P)\nLetni
 ki: \nIzvajalci: Miha Ravnik\nProstor: MFP
LOCATION:MFP
ORGANIZER:Miha Ravnik
RELATED-TO:fmf-AFLABS-URNIK:srecanje:9860
X-WR-TIMEZONE:Europe/Ljubljana
END:VEVENT
BEGIN:VEVENT
SUMMARY:Fizika (FKKT Teh. varnost) ()\, Predavanja (P)
DTSTART;TZID=Europe/Ljubljana:20240226T120000
DTEND;TZID=Europe/Ljubljana:20240226T150000
DTSTAMP:20260424T104645Z
UID:fmf-AFLABS-URNIK:premaknjeno-srecanje:124395
CATEGORIES:Entry,Standard
COLOR:darkgreen
DESCRIPTION:Predmet: Fizika (FKKT Teh. varnost) ()\, Predavanja (P)\nLetni
 ki: \nIzvajalci: Miha Ravnik\nProstor: MFP
LOCATION:MFP
ORGANIZER:Miha Ravnik
RELATED-TO:fmf-AFLABS-URNIK:srecanje:9860
X-WR-TIMEZONE:Europe/Ljubljana
END:VEVENT
BEGIN:VEVENT
SUMMARY:Fizika (FKKT Teh. varnost) ()\, Predavanja (P)
DTSTART;TZID=Europe/Ljubljana:20240304T120000
DTEND;TZID=Europe/Ljubljana:20240304T150000
DTSTAMP:20260424T104645Z
UID:fmf-AFLABS-URNIK:premaknjeno-srecanje:124396
CATEGORIES:Entry,Standard
COLOR:darkgreen
DESCRIPTION:Predmet: Fizika (FKKT Teh. varnost) ()\, Predavanja (P)\nLetni
 ki: \nIzvajalci: Miha Ravnik\nProstor: MFP
LOCATION:MFP
ORGANIZER:Miha Ravnik
RELATED-TO:fmf-AFLABS-URNIK:srecanje:9860
X-WR-TIMEZONE:Europe/Ljubljana
END:VEVENT
BEGIN:VEVENT
SUMMARY:Fizika (FKKT Teh. varnost) ()\, Predavanja (P)
DTSTART;TZID=Europe/Ljubljana:20240311T120000
DTEND;TZID=Europe/Ljubljana:20240311T150000
DTSTAMP:20260424T104645Z
UID:fmf-AFLABS-URNIK:premaknjeno-srecanje:124397
CATEGORIES:Entry,Standard
COLOR:darkgreen
DESCRIPTION:Predmet: Fizika (FKKT Teh. varnost) ()\, Predavanja (P)\nLetni
 ki: \nIzvajalci: Miha Ravnik\nProstor: MFP
LOCATION:MFP
ORGANIZER:Miha Ravnik
RELATED-TO:fmf-AFLABS-URNIK:srecanje:9860
X-WR-TIMEZONE:Europe/Ljubljana
END:VEVENT
BEGIN:VEVENT
SUMMARY:EMP izpit teorija
DTSTART;TZID=Europe/Ljubljana:20240207T090000
DTEND;TZID=Europe/Ljubljana:20240207T140000
DTSTAMP:20260424T104645Z
UID:fmf-AFLABS-URNIK:rezervacija:14813
ATTENDEE:3. letnik (Fizika, 1. stopnja)
CATEGORIES:Reservation
COLOR:royalblue
DESCRIPTION:Predmeti: Elektromagnetno polje (FIZ-3)\nLetniki: 3. letnik (F
 izika\, 1. stopnja)\nIzvajalci: Miha Ravnik\nProstori: F8
LOCATION:F8
ORGANIZER:Miha Ravnik
X-WR-TIMEZONE:Europe/Ljubljana
END:VEVENT
BEGIN:VEVENT
SUMMARY:NOO OKOLJSKE TEHNOLOGIJE - SESTANEK ČLANIC
DTSTART;TZID=Europe/Ljubljana:20240221T110000
DTEND;TZID=Europe/Ljubljana:20240221T130000
DTSTAMP:20260424T104645Z
UID:fmf-AFLABS-URNIK:rezervacija:14936
CATEGORIES:Reservation
COLOR:royalblue
DESCRIPTION:Predmeti: \nLetniki: \nIzvajalci: Miha Ravnik\nProstori: Sejna
  soba J21
LOCATION:Sejna soba J21
ORGANIZER:Miha Ravnik
X-WR-TIMEZONE:Europe/Ljubljana
END:VEVENT
BEGIN:VEVENT
SUMMARY:EMP 2. izpit teorija
DTSTART;TZID=Europe/Ljubljana:20240216T080000
DTEND;TZID=Europe/Ljubljana:20240216T140000
DTSTAMP:20260424T104645Z
UID:fmf-AFLABS-URNIK:rezervacija:14991
ATTENDEE:3. letnik (Fizika, 1. stopnja)
CATEGORIES:Reservation
COLOR:royalblue
DESCRIPTION:Predmeti: Elektromagnetno polje (FIZ-3)\nLetniki: 3. letnik (F
 izika\, 1. stopnja)\nIzvajalci: Miha Ravnik\nProstori: F2
LOCATION:F2
ORGANIZER:Miha Ravnik
X-WR-TIMEZONE:Europe/Ljubljana
END:VEVENT
BEGIN:VEVENT
SUMMARY:Nadomeščanje
DTSTART;TZID=Europe/Ljubljana:20240219T150000
DTEND;TZID=Europe/Ljubljana:20240219T170000
DTSTAMP:20260424T104645Z
UID:fmf-AFLABS-URNIK:rezervacija:15040
CATEGORIES:Reservation
COLOR:royalblue
DESCRIPTION:Predmeti: Fizika (FKKT Teh. varnost) ()\nLetniki: \nIzvajalci:
  Miha Ravnik\, Jaka Zaplotnik\nProstori: MFP
LOCATION:MFP
ORGANIZER:Miha Ravnik, Jaka Zaplotnik
X-WR-TIMEZONE:Europe/Ljubljana
END:VEVENT
END:VCALENDAR
