BEGIN:VCALENDAR
VERSION:2.0
PRODID:-//AFLabs urnik izvoz - fmf//aflabs.si//SI
DTSTAMP:20260419T143034Z
NAME:UL FMF urnik
REFRESH-INTERVAL:PT1H
SOURCE:https://urnik.fmf.uni-lj.si/teacher/1097?day=2024-05-20&export=1
URL:https://urnik.fmf.uni-lj.si/teacher/1097?day=2024-05-20&export=1
X-PUBLISHED-TTL:PT1H
X-WR-CALNAME:UL FMF urnik
X-WR-TIMEZONE:Europe/Ljubljana
BEGIN:VTIMEZONE
TZID:Europe/Ljubljana
BEGIN:DAYLIGHT
DTSTART:20260329T020000
RDATE:20260329T020000
RDATE:20270328T020000
TZNAME:CEST
TZOFFSETFROM:+0100
TZOFFSETTO:+0200
END:DAYLIGHT
BEGIN:STANDARD
DTSTART:20261025T030000
RDATE:20261025T030000
RDATE:20271031T030000
TZNAME:CET
TZOFFSETFROM:+0200
TZOFFSETTO:+0100
END:STANDARD
END:VTIMEZONE
BEGIN:VEVENT
SUMMARY:1.kviz NM2
DTSTART;TZID=Europe/Ljubljana:20240417T180000
DTEND;TZID=Europe/Ljubljana:20240417T200000
DTSTAMP:20260419T143034Z
UID:fmf-AFLABS-URNIK:rezervacija:15328
ATTENDEE:2. letnik (FM)
ATTENDEE:3. letnik (IŠRM)
CATEGORIES:Reservation
COLOR:royalblue
DESCRIPTION:Predmeti: Numerične metode 2 (FM-2\, IŠRM-3)\nLetniki: 2. le
 tnik (FM)\, 3. letnik (IŠRM)\nIzvajalci: Marjetka Knez\, Ada Sadl\nProsto
 ri: 3.10\, 3.11
LOCATION:3.10\, 3.11
ORGANIZER:Marjetka Knez, Ada Sadl
X-WR-TIMEZONE:Europe/Ljubljana
END:VEVENT
BEGIN:VEVENT
SUMMARY:Računalniške vaje NM2
DTSTART;TZID=Europe/Ljubljana:20240327T140000
DTEND;TZID=Europe/Ljubljana:20240327T160000
DTSTAMP:20260419T143034Z
UID:fmf-AFLABS-URNIK:rezervacija:15847
ATTENDEE:2. letnik (FM)
ATTENDEE:3. letnik (IŠRM)
CATEGORIES:Reservation
COLOR:royalblue
DESCRIPTION:Predmeti: Numerične metode 2 (FM-2\, IŠRM-3)\nLetniki: 2. le
 tnik (FM)\, 3. letnik (IŠRM)\nIzvajalci: Ada Sadl\nProstori: 3.10
LOCATION:3.10
ORGANIZER:Ada Sadl
X-WR-TIMEZONE:Europe/Ljubljana
END:VEVENT
BEGIN:VEVENT
SUMMARY:Racunalniske vaje NM2
DTSTART;TZID=Europe/Ljubljana:20240403T140000
DTEND;TZID=Europe/Ljubljana:20240403T160000
DTSTAMP:20260419T143034Z
UID:fmf-AFLABS-URNIK:rezervacija:16029
ATTENDEE:2. letnik (FM)
ATTENDEE:3. letnik (IŠRM)
CATEGORIES:Reservation
COLOR:royalblue
DESCRIPTION:Predmeti: Numerične metode 2 (FM-2\, IŠRM-3)\nLetniki: 2. le
 tnik (FM)\, 3. letnik (IŠRM)\nIzvajalci: Ada Sadl\nProstori: 3.10
LOCATION:3.10
ORGANIZER:Ada Sadl
X-WR-TIMEZONE:Europe/Ljubljana
END:VEVENT
BEGIN:VEVENT
SUMMARY:Računalniške vaje NM2
DTSTART;TZID=Europe/Ljubljana:20240508T130000
DTEND;TZID=Europe/Ljubljana:20240508T160000
DTSTAMP:20260419T143034Z
UID:fmf-AFLABS-URNIK:rezervacija:16299
ATTENDEE:2. letnik (FM)
ATTENDEE:3. letnik (IŠRM)
CATEGORIES:Reservation
COLOR:royalblue
DESCRIPTION:Predmeti: Numerične metode 2 (FM-2\, IŠRM-3)\nLetniki: 2. le
 tnik (FM)\, 3. letnik (IŠRM)\nIzvajalci: Marjetka Knez\, Ada Sadl\nProsto
 ri: 3.10
LOCATION:3.10
ORGANIZER:Marjetka Knez, Ada Sadl
X-WR-TIMEZONE:Europe/Ljubljana
END:VEVENT
BEGIN:VEVENT
SUMMARY:1.izpit NM2
DTSTART;TZID=Europe/Ljubljana:20240610T100000
DTEND;TZID=Europe/Ljubljana:20240610T120000
DTSTAMP:20260419T143034Z
UID:fmf-AFLABS-URNIK:rezervacija:16342
ATTENDEE:2. letnik (FM)
ATTENDEE:3. letnik (IŠRM)
CATEGORIES:Reservation
COLOR:royalblue
DESCRIPTION:Predmeti: Numerične metode 2 (FM-2\, IŠRM-3)\nLetniki: 2. le
 tnik (FM)\, 3. letnik (IŠRM)\nIzvajalci: Marjetka Knez\, Ada Sadl\nProsto
 ri: 2.05
LOCATION:2.05
ORGANIZER:Marjetka Knez, Ada Sadl
X-WR-TIMEZONE:Europe/Ljubljana
END:VEVENT
BEGIN:VEVENT
SUMMARY:2.izpit NM2
DTSTART;TZID=Europe/Ljubljana:20240624T100000
DTEND;TZID=Europe/Ljubljana:20240624T120000
DTSTAMP:20260419T143034Z
UID:fmf-AFLABS-URNIK:rezervacija:16343
ATTENDEE:2. letnik (FM)
ATTENDEE:3. letnik (IŠRM)
CATEGORIES:Reservation
COLOR:royalblue
DESCRIPTION:Predmeti: Numerične metode 2 (FM-2\, IŠRM-3)\nLetniki: 2. le
 tnik (FM)\, 3. letnik (IŠRM)\nIzvajalci: Marjetka Knez\, Ada Sadl\nProsto
 ri: 2.01
LOCATION:2.01
ORGANIZER:Marjetka Knez, Ada Sadl
X-WR-TIMEZONE:Europe/Ljubljana
END:VEVENT
BEGIN:VEVENT
SUMMARY:2.kviz NM2
DTSTART;TZID=Europe/Ljubljana:20240529T170000
DTEND;TZID=Europe/Ljubljana:20240529T200000
DTSTAMP:20260419T143034Z
UID:fmf-AFLABS-URNIK:rezervacija:16402
ATTENDEE:2. letnik (FM)
ATTENDEE:3. letnik (IŠRM)
CATEGORIES:Reservation
COLOR:royalblue
DESCRIPTION:Predmeti: Numerične metode 2 (FM-2\, IŠRM-3)\nLetniki: 2. le
 tnik (FM)\, 3. letnik (IŠRM)\nIzvajalci: Marjetka Knez\, Ada Sadl\nProsto
 ri: 3.10\, 3.11
LOCATION:3.10\, 3.11
ORGANIZER:Marjetka Knez, Ada Sadl
X-WR-TIMEZONE:Europe/Ljubljana
END:VEVENT
BEGIN:VEVENT
SUMMARY:Računalniške vaje NM2
DTSTART;TZID=Europe/Ljubljana:20240522T130000
DTEND;TZID=Europe/Ljubljana:20240522T160000
DTSTAMP:20260419T143034Z
UID:fmf-AFLABS-URNIK:rezervacija:16403
ATTENDEE:2. letnik (FM)
ATTENDEE:3. letnik (IŠRM)
CATEGORIES:Reservation
COLOR:royalblue
DESCRIPTION:Predmeti: Numerične metode 2 (FM-2\, IŠRM-3)\nLetniki: 2. le
 tnik (FM)\, 3. letnik (IŠRM)\nIzvajalci: Ada Sadl\nProstori: 3.10
LOCATION:3.10
ORGANIZER:Ada Sadl
X-WR-TIMEZONE:Europe/Ljubljana
END:VEVENT
BEGIN:VEVENT
SUMMARY:2.izpit NM1-FIN
DTSTART;TZID=Europe/Ljubljana:20240606T100000
DTEND;TZID=Europe/Ljubljana:20240606T120000
DTSTAMP:20260419T143034Z
UID:fmf-AFLABS-URNIK:rezervacija:16409
ATTENDEE:2. letnik (FM)
CATEGORIES:Reservation
COLOR:royalblue
DESCRIPTION:Predmeti: Numerične metode 1 (FM-2)\nLetniki: 2. letnik (FM)\
 nIzvajalci: Tadej Kanduč\, Bor Plestenjak\, Ada Sadl\nProstori: 3.05
LOCATION:3.05
ORGANIZER:Tadej Kanduč, Bor Plestenjak, Ada Sadl
X-WR-TIMEZONE:Europe/Ljubljana
END:VEVENT
BEGIN:VEVENT
SUMMARY:Vaje NM2
DTSTART;TZID=Europe/Ljubljana:20240515T140000
DTEND;TZID=Europe/Ljubljana:20240515T160000
DTSTAMP:20260419T143034Z
UID:fmf-AFLABS-URNIK:rezervacija:16461
ATTENDEE:2. letnik (FM)
ATTENDEE:3. letnik (IŠRM)
CATEGORIES:Reservation
COLOR:royalblue
DESCRIPTION:Predmeti: Numerične metode 2 (FM-2\, IŠRM-3)\nLetniki: 2. le
 tnik (FM)\, 3. letnik (IŠRM)\nIzvajalci: Ada Sadl\nProstori: 3.07
LOCATION:3.07
ORGANIZER:Ada Sadl
X-WR-TIMEZONE:Europe/Ljubljana
END:VEVENT
END:VCALENDAR
