BEGIN:VCALENDAR
VERSION:2.0
PRODID:-//AFLabs urnik izvoz - fmf//aflabs.si//SI
DTSTAMP:20260423T062558Z
NAME:UL FMF urnik
REFRESH-INTERVAL:PT1H
SOURCE:https://urnik.fmf.uni-lj.si/teacher/1107?day=2024-02-05&export=1
URL:https://urnik.fmf.uni-lj.si/teacher/1107?day=2024-02-05&export=1
X-PUBLISHED-TTL:PT1H
X-WR-CALNAME:UL FMF urnik
X-WR-TIMEZONE:Europe/Ljubljana
BEGIN:VTIMEZONE
TZID:Europe/Ljubljana
BEGIN:DAYLIGHT
DTSTART:20260329T020000
RDATE:20260329T020000
RDATE:20270328T020000
TZNAME:CEST
TZOFFSETFROM:+0100
TZOFFSETTO:+0200
END:DAYLIGHT
BEGIN:STANDARD
DTSTART:20261025T030000
RDATE:20261025T030000
RDATE:20271031T030000
TZNAME:CET
TZOFFSETFROM:+0200
TZOFFSETTO:+0100
END:STANDARD
END:VTIMEZONE
BEGIN:VEVENT
SUMMARY:Življenje in dinamika zvezd (FIZ-M2)\, Predavanja (P)
DTSTART;TZID=Europe/Ljubljana:20240101T100000
DTEND;TZID=Europe/Ljubljana:20240101T130000
DTSTAMP:20260423T062558Z
UID:fmf-AFLABS-URNIK:premaknjeno-srecanje:122526
ATTENDEE:2. letnik (Fizika, 2. stopnja)
CATEGORIES:Entry,Standard
COLOR:darkgreen
DESCRIPTION:Predmet: Življenje in dinamika zvezd (FIZ-M2)\, Predavanja (P
 )\nLetniki: 2. letnik (Fizika\, 2. stopnja)\nIzvajalci: Maruša Bradač\nP
 rostor: F7
LOCATION:F7
ORGANIZER:Maruša Bradač
RELATED-TO:fmf-AFLABS-URNIK:srecanje:9581
X-WR-TIMEZONE:Europe/Ljubljana
END:VEVENT
BEGIN:VEVENT
SUMMARY:Življenje in dinamika zvezd (FIZ-M2)\, Predavanja (P)
DTSTART;TZID=Europe/Ljubljana:20240108T100000
DTEND;TZID=Europe/Ljubljana:20240108T130000
DTSTAMP:20260423T062558Z
UID:fmf-AFLABS-URNIK:premaknjeno-srecanje:122527
ATTENDEE:2. letnik (Fizika, 2. stopnja)
CATEGORIES:Entry,Standard
COLOR:darkgreen
DESCRIPTION:Predmet: Življenje in dinamika zvezd (FIZ-M2)\, Predavanja (P
 )\nLetniki: 2. letnik (Fizika\, 2. stopnja)\nIzvajalci: Maruša Bradač\nP
 rostor: F7
LOCATION:F7
ORGANIZER:Maruša Bradač
RELATED-TO:fmf-AFLABS-URNIK:srecanje:9581
X-WR-TIMEZONE:Europe/Ljubljana
END:VEVENT
BEGIN:VEVENT
SUMMARY:Življenje in dinamika zvezd (FIZ-M2)\, Predavanja (P)
DTSTART;TZID=Europe/Ljubljana:20240115T100000
DTEND;TZID=Europe/Ljubljana:20240115T130000
DTSTAMP:20260423T062558Z
UID:fmf-AFLABS-URNIK:premaknjeno-srecanje:122528
ATTENDEE:2. letnik (Fizika, 2. stopnja)
CATEGORIES:Entry,Standard
COLOR:darkgreen
DESCRIPTION:Predmet: Življenje in dinamika zvezd (FIZ-M2)\, Predavanja (P
 )\nLetniki: 2. letnik (Fizika\, 2. stopnja)\nIzvajalci: Maruša Bradač\nP
 rostor: F7
LOCATION:F7
ORGANIZER:Maruša Bradač
RELATED-TO:fmf-AFLABS-URNIK:srecanje:9581
X-WR-TIMEZONE:Europe/Ljubljana
END:VEVENT
BEGIN:VEVENT
SUMMARY:Življenje in dinamika zvezd (FIZ-M2)\, Predavanja (P)
DTSTART;TZID=Europe/Ljubljana:20240122T100000
DTEND;TZID=Europe/Ljubljana:20240122T130000
DTSTAMP:20260423T062558Z
UID:fmf-AFLABS-URNIK:premaknjeno-srecanje:122529
ATTENDEE:2. letnik (Fizika, 2. stopnja)
CATEGORIES:Entry,Standard
COLOR:darkgreen
DESCRIPTION:Predmet: Življenje in dinamika zvezd (FIZ-M2)\, Predavanja (P
 )\nLetniki: 2. letnik (Fizika\, 2. stopnja)\nIzvajalci: Maruša Bradač\nP
 rostor: F7
LOCATION:F7
ORGANIZER:Maruša Bradač
RELATED-TO:fmf-AFLABS-URNIK:srecanje:9581
X-WR-TIMEZONE:Europe/Ljubljana
END:VEVENT
BEGIN:VEVENT
SUMMARY:Sestanek skupine
DTSTART;TZID=Europe/Ljubljana:20240111T120000
DTEND;TZID=Europe/Ljubljana:20240111T140000
DTSTAMP:20260423T062558Z
UID:fmf-AFLABS-URNIK:rezervacija:14281
CATEGORIES:Reservation
COLOR:royalblue
DESCRIPTION:Predmeti: \nLetniki: \nIzvajalci: Maruša Bradač\nProstori: F
 8
LOCATION:F8
ORGANIZER:Maruša Bradač
X-WR-TIMEZONE:Europe/Ljubljana
END:VEVENT
BEGIN:VEVENT
SUMMARY:Ustni izpiti
DTSTART;TZID=Europe/Ljubljana:20240206T100000
DTEND;TZID=Europe/Ljubljana:20240206T140000
DTSTAMP:20260423T062558Z
UID:fmf-AFLABS-URNIK:rezervacija:14456
ATTENDEE:2. letnik (Fizika, 2. stopnja)
CATEGORIES:Reservation
COLOR:royalblue
DESCRIPTION:Predmeti: Življenje in dinamika zvezd (FIZ-M2)\nLetniki: 2. l
 etnik (Fizika\, 2. stopnja)\nIzvajalci: Maruša Bradač\nProstori: F6
LOCATION:F6
ORGANIZER:Maruša Bradač
X-WR-TIMEZONE:Europe/Ljubljana
END:VEVENT
BEGIN:VEVENT
SUMMARY:Ustni izpitu
DTSTART;TZID=Europe/Ljubljana:20240212T110000
DTEND;TZID=Europe/Ljubljana:20240212T140000
DTSTAMP:20260423T062558Z
UID:fmf-AFLABS-URNIK:rezervacija:14458
ATTENDEE:2. letnik (Fizika, 2. stopnja)
CATEGORIES:Reservation
COLOR:royalblue
DESCRIPTION:Predmeti: Življenje in dinamika zvezd (FIZ-M2)\nLetniki: 2. l
 etnik (Fizika\, 2. stopnja)\nIzvajalci: Maruša Bradač\nProstori: F6
LOCATION:F6
ORGANIZER:Maruša Bradač
X-WR-TIMEZONE:Europe/Ljubljana
END:VEVENT
BEGIN:VEVENT
SUMMARY:Ustni izpiti
DTSTART;TZID=Europe/Ljubljana:20240212T100000
DTEND;TZID=Europe/Ljubljana:20240212T140000
DTSTAMP:20260423T062558Z
UID:fmf-AFLABS-URNIK:rezervacija:14459
ATTENDEE:2. letnik (Fizika, 2. stopnja)
CATEGORIES:Reservation
COLOR:royalblue
DESCRIPTION:Predmeti: Življenje in dinamika zvezd (FIZ-M2)\nLetniki: 2. l
 etnik (Fizika\, 2. stopnja)\nIzvajalci: Maruša Bradač\nProstori: F3
LOCATION:F3
ORGANIZER:Maruša Bradač
X-WR-TIMEZONE:Europe/Ljubljana
END:VEVENT
BEGIN:VEVENT
SUMMARY:Sestanek skupine
DTSTART;TZID=Europe/Ljubljana:20240220T100000
DTEND;TZID=Europe/Ljubljana:20240220T130000
DTSTAMP:20260423T062558Z
UID:fmf-AFLABS-URNIK:rezervacija:15108
CATEGORIES:Reservation
COLOR:royalblue
DESCRIPTION:Predmeti: \nLetniki: \nIzvajalci: Maruša Bradač\nProstori: F
 8
LOCATION:F8
ORGANIZER:Maruša Bradač
X-WR-TIMEZONE:Europe/Ljubljana
END:VEVENT
BEGIN:VEVENT
SUMMARY:Sestanekskupine
DTSTART;TZID=Europe/Ljubljana:20240226T120000
DTEND;TZID=Europe/Ljubljana:20240226T140000
DTSTAMP:20260423T062558Z
UID:fmf-AFLABS-URNIK:rezervacija:15266
CATEGORIES:Reservation
COLOR:royalblue
DESCRIPTION:Predmeti: \nLetniki: \nIzvajalci: Maruša Bradač\nProstori: F
 3
LOCATION:F3
ORGANIZER:Maruša Bradač
X-WR-TIMEZONE:Europe/Ljubljana
END:VEVENT
BEGIN:VEVENT
SUMMARY:Sestanek skupine
DTSTART;TZID=Europe/Ljubljana:20240306T120000
DTEND;TZID=Europe/Ljubljana:20240306T133000
DTSTAMP:20260423T062558Z
UID:fmf-AFLABS-URNIK:rezervacija:15680
CATEGORIES:Reservation
COLOR:royalblue
DESCRIPTION:Predmeti: \nLetniki: \nIzvajalci: Maruša Bradač\nProstori: K
 uščerjev seminar
LOCATION:Kuščerjev seminar
ORGANIZER:Maruša Bradač
X-WR-TIMEZONE:Europe/Ljubljana
END:VEVENT
END:VCALENDAR
