BEGIN:VCALENDAR
VERSION:2.0
PRODID:-//AFLabs urnik izvoz - fmf//aflabs.si//SI
DTSTAMP:20260423T022143Z
NAME:UL FMF urnik
REFRESH-INTERVAL:PT1H
SOURCE:https://urnik.fmf.uni-lj.si/teacher/113?day=2021-01-18&export=1
URL:https://urnik.fmf.uni-lj.si/teacher/113?day=2021-01-18&export=1
X-PUBLISHED-TTL:PT1H
X-WR-CALNAME:UL FMF urnik
X-WR-TIMEZONE:Europe/Ljubljana
BEGIN:VTIMEZONE
TZID:Europe/Ljubljana
BEGIN:DAYLIGHT
DTSTART:20260329T020000
RDATE:20260329T020000
RDATE:20270328T020000
TZNAME:CEST
TZOFFSETFROM:+0100
TZOFFSETTO:+0200
END:DAYLIGHT
BEGIN:STANDARD
DTSTART:20261025T030000
RDATE:20261025T030000
RDATE:20271031T030000
TZNAME:CET
TZOFFSETFROM:+0200
TZOFFSETTO:+0100
END:STANDARD
END:VTIMEZONE
BEGIN:VEVENT
SUMMARY:Fizika (FRI) ()\, Predavanja (P)
DTSTART;TZID=Europe/Ljubljana:20201215T140000
DTEND;TZID=Europe/Ljubljana:20201215T170000
DTSTAMP:20260423T022143Z
UID:fmf-AFLABS-URNIK:premaknjeno-srecanje:26257
CATEGORIES:Entry,Standard
COLOR:darkgreen
DESCRIPTION:Predmet: Fizika (FRI) ()\, Predavanja (P)\nLetniki: \nIzvajalc
 i: Borut Paul Kerševan\nProstor: VFP
LOCATION:VFP
ORGANIZER:Borut Paul Kerševan
RELATED-TO:fmf-AFLABS-URNIK:srecanje:4777
X-WR-TIMEZONE:Europe/Ljubljana
END:VEVENT
BEGIN:VEVENT
SUMMARY:Fizika (FRI) ()\, Predavanja (P)
DTSTART;TZID=Europe/Ljubljana:20201222T140000
DTEND;TZID=Europe/Ljubljana:20201222T170000
DTSTAMP:20260423T022143Z
UID:fmf-AFLABS-URNIK:premaknjeno-srecanje:26258
CATEGORIES:Entry,Standard
COLOR:darkgreen
DESCRIPTION:Predmet: Fizika (FRI) ()\, Predavanja (P)\nLetniki: \nIzvajalc
 i: Borut Paul Kerševan\nProstor: VFP
LOCATION:VFP
ORGANIZER:Borut Paul Kerševan
RELATED-TO:fmf-AFLABS-URNIK:srecanje:4777
X-WR-TIMEZONE:Europe/Ljubljana
END:VEVENT
BEGIN:VEVENT
SUMMARY:Fizika (FRI) ()\, Predavanja (P)
DTSTART;TZID=Europe/Ljubljana:20201229T140000
DTEND;TZID=Europe/Ljubljana:20201229T170000
DTSTAMP:20260423T022143Z
UID:fmf-AFLABS-URNIK:premaknjeno-srecanje:26259
CATEGORIES:Entry,Standard
COLOR:darkgreen
DESCRIPTION:Predmet: Fizika (FRI) ()\, Predavanja (P)\nLetniki: \nIzvajalc
 i: Borut Paul Kerševan\nProstor: VFP
LOCATION:VFP
ORGANIZER:Borut Paul Kerševan
RELATED-TO:fmf-AFLABS-URNIK:srecanje:4777
X-WR-TIMEZONE:Europe/Ljubljana
END:VEVENT
BEGIN:VEVENT
SUMMARY:Fizika (FRI) ()\, Predavanja (P)
DTSTART;TZID=Europe/Ljubljana:20210105T140000
DTEND;TZID=Europe/Ljubljana:20210105T170000
DTSTAMP:20260423T022143Z
UID:fmf-AFLABS-URNIK:premaknjeno-srecanje:26260
CATEGORIES:Entry,Standard
COLOR:darkgreen
DESCRIPTION:Predmet: Fizika (FRI) ()\, Predavanja (P)\nLetniki: \nIzvajalc
 i: Borut Paul Kerševan\nProstor: VFP
LOCATION:VFP
ORGANIZER:Borut Paul Kerševan
RELATED-TO:fmf-AFLABS-URNIK:srecanje:4777
X-WR-TIMEZONE:Europe/Ljubljana
END:VEVENT
BEGIN:VEVENT
SUMMARY:Fizika (FRI) ()\, Predavanja (P)
DTSTART;TZID=Europe/Ljubljana:20210112T140000
DTEND;TZID=Europe/Ljubljana:20210112T170000
DTSTAMP:20260423T022143Z
UID:fmf-AFLABS-URNIK:premaknjeno-srecanje:26261
CATEGORIES:Entry,Standard
COLOR:darkgreen
DESCRIPTION:Predmet: Fizika (FRI) ()\, Predavanja (P)\nLetniki: \nIzvajalc
 i: Borut Paul Kerševan\nProstor: VFP
LOCATION:VFP
ORGANIZER:Borut Paul Kerševan
RELATED-TO:fmf-AFLABS-URNIK:srecanje:4777
X-WR-TIMEZONE:Europe/Ljubljana
END:VEVENT
BEGIN:VEVENT
SUMMARY:Matematično-fizikalni praktikum (FIZ-3)\, Predavanja (P)
DTSTART;TZID=Europe/Ljubljana:20201216T140000
DTEND;TZID=Europe/Ljubljana:20201216T160000
DTSTAMP:20260423T022143Z
UID:fmf-AFLABS-URNIK:premaknjeno-srecanje:70111
ATTENDEE:3. letnik (Fizika, 1. stopnja)
CATEGORIES:Entry,Standard
COLOR:darkgreen
DESCRIPTION:Predmet: Matematično-fizikalni praktikum (FIZ-3)\, Predavanja
  (P)\nLetniki: 3. letnik (Fizika\, 1. stopnja)\nIzvajalci: Borut Paul Ker
 ševan\nProstor: F2
LOCATION:F2
ORGANIZER:Borut Paul Kerševan
RELATED-TO:fmf-AFLABS-URNIK:srecanje:5007
X-WR-TIMEZONE:Europe/Ljubljana
END:VEVENT
BEGIN:VEVENT
SUMMARY:Matematično-fizikalni praktikum (FIZ-3)\, Predavanja (P)
DTSTART;TZID=Europe/Ljubljana:20201223T140000
DTEND;TZID=Europe/Ljubljana:20201223T160000
DTSTAMP:20260423T022143Z
UID:fmf-AFLABS-URNIK:premaknjeno-srecanje:70112
ATTENDEE:3. letnik (Fizika, 1. stopnja)
CATEGORIES:Entry,Standard
COLOR:darkgreen
DESCRIPTION:Predmet: Matematično-fizikalni praktikum (FIZ-3)\, Predavanja
  (P)\nLetniki: 3. letnik (Fizika\, 1. stopnja)\nIzvajalci: Borut Paul Ker
 ševan\nProstor: F2
LOCATION:F2
ORGANIZER:Borut Paul Kerševan
RELATED-TO:fmf-AFLABS-URNIK:srecanje:5007
X-WR-TIMEZONE:Europe/Ljubljana
END:VEVENT
BEGIN:VEVENT
SUMMARY:Matematično-fizikalni praktikum (FIZ-3)\, Predavanja (P)
DTSTART;TZID=Europe/Ljubljana:20201230T140000
DTEND;TZID=Europe/Ljubljana:20201230T160000
DTSTAMP:20260423T022143Z
UID:fmf-AFLABS-URNIK:premaknjeno-srecanje:70113
ATTENDEE:3. letnik (Fizika, 1. stopnja)
CATEGORIES:Entry,Standard
COLOR:darkgreen
DESCRIPTION:Predmet: Matematično-fizikalni praktikum (FIZ-3)\, Predavanja
  (P)\nLetniki: 3. letnik (Fizika\, 1. stopnja)\nIzvajalci: Borut Paul Ker
 ševan\nProstor: F2
LOCATION:F2
ORGANIZER:Borut Paul Kerševan
RELATED-TO:fmf-AFLABS-URNIK:srecanje:5007
X-WR-TIMEZONE:Europe/Ljubljana
END:VEVENT
BEGIN:VEVENT
SUMMARY:Matematično-fizikalni praktikum (FIZ-3)\, Predavanja (P)
DTSTART;TZID=Europe/Ljubljana:20210106T140000
DTEND;TZID=Europe/Ljubljana:20210106T160000
DTSTAMP:20260423T022143Z
UID:fmf-AFLABS-URNIK:premaknjeno-srecanje:70114
ATTENDEE:3. letnik (Fizika, 1. stopnja)
CATEGORIES:Entry,Standard
COLOR:darkgreen
DESCRIPTION:Predmet: Matematično-fizikalni praktikum (FIZ-3)\, Predavanja
  (P)\nLetniki: 3. letnik (Fizika\, 1. stopnja)\nIzvajalci: Borut Paul Ker
 ševan\nProstor: F2
LOCATION:F2
ORGANIZER:Borut Paul Kerševan
RELATED-TO:fmf-AFLABS-URNIK:srecanje:5007
X-WR-TIMEZONE:Europe/Ljubljana
END:VEVENT
BEGIN:VEVENT
SUMMARY:Matematično-fizikalni praktikum (FIZ-3)\, Predavanja (P)
DTSTART;TZID=Europe/Ljubljana:20210113T140000
DTEND;TZID=Europe/Ljubljana:20210113T160000
DTSTAMP:20260423T022143Z
UID:fmf-AFLABS-URNIK:premaknjeno-srecanje:70115
ATTENDEE:3. letnik (Fizika, 1. stopnja)
CATEGORIES:Entry,Standard
COLOR:darkgreen
DESCRIPTION:Predmet: Matematično-fizikalni praktikum (FIZ-3)\, Predavanja
  (P)\nLetniki: 3. letnik (Fizika\, 1. stopnja)\nIzvajalci: Borut Paul Ker
 ševan\nProstor: F2
LOCATION:F2
ORGANIZER:Borut Paul Kerševan
RELATED-TO:fmf-AFLABS-URNIK:srecanje:5007
X-WR-TIMEZONE:Europe/Ljubljana
END:VEVENT
BEGIN:VEVENT
SUMMARY:Matematično-fizikalni praktikum (FIZ-3)\, Seminar (S)
DTSTART;TZID=Europe/Ljubljana:20201216T130000
DTEND;TZID=Europe/Ljubljana:20201216T140000
DTSTAMP:20260423T022143Z
UID:fmf-AFLABS-URNIK:premaknjeno-srecanje:70220
ATTENDEE:3. letnik (Fizika, 1. stopnja)
CATEGORIES:Entry,Standard
COLOR:darkgreen
DESCRIPTION:Predmet: Matematično-fizikalni praktikum (FIZ-3)\, Seminar (S
 )\nLetniki: 3. letnik (Fizika\, 1. stopnja)\nIzvajalci: Borut Paul Keršev
 an\nProstor: F2
LOCATION:F2
ORGANIZER:Borut Paul Kerševan
RELATED-TO:fmf-AFLABS-URNIK:srecanje:5008
X-WR-TIMEZONE:Europe/Ljubljana
END:VEVENT
BEGIN:VEVENT
SUMMARY:Matematično-fizikalni praktikum (FIZ-3)\, Seminar (S)
DTSTART;TZID=Europe/Ljubljana:20201223T130000
DTEND;TZID=Europe/Ljubljana:20201223T140000
DTSTAMP:20260423T022143Z
UID:fmf-AFLABS-URNIK:premaknjeno-srecanje:70221
ATTENDEE:3. letnik (Fizika, 1. stopnja)
CATEGORIES:Entry,Standard
COLOR:darkgreen
DESCRIPTION:Predmet: Matematično-fizikalni praktikum (FIZ-3)\, Seminar (S
 )\nLetniki: 3. letnik (Fizika\, 1. stopnja)\nIzvajalci: Borut Paul Keršev
 an\nProstor: F2
LOCATION:F2
ORGANIZER:Borut Paul Kerševan
RELATED-TO:fmf-AFLABS-URNIK:srecanje:5008
X-WR-TIMEZONE:Europe/Ljubljana
END:VEVENT
BEGIN:VEVENT
SUMMARY:Matematično-fizikalni praktikum (FIZ-3)\, Seminar (S)
DTSTART;TZID=Europe/Ljubljana:20201230T130000
DTEND;TZID=Europe/Ljubljana:20201230T140000
DTSTAMP:20260423T022143Z
UID:fmf-AFLABS-URNIK:premaknjeno-srecanje:70222
ATTENDEE:3. letnik (Fizika, 1. stopnja)
CATEGORIES:Entry,Standard
COLOR:darkgreen
DESCRIPTION:Predmet: Matematično-fizikalni praktikum (FIZ-3)\, Seminar (S
 )\nLetniki: 3. letnik (Fizika\, 1. stopnja)\nIzvajalci: Borut Paul Keršev
 an\nProstor: F2
LOCATION:F2
ORGANIZER:Borut Paul Kerševan
RELATED-TO:fmf-AFLABS-URNIK:srecanje:5008
X-WR-TIMEZONE:Europe/Ljubljana
END:VEVENT
BEGIN:VEVENT
SUMMARY:Matematično-fizikalni praktikum (FIZ-3)\, Seminar (S)
DTSTART;TZID=Europe/Ljubljana:20210106T130000
DTEND;TZID=Europe/Ljubljana:20210106T140000
DTSTAMP:20260423T022143Z
UID:fmf-AFLABS-URNIK:premaknjeno-srecanje:70223
ATTENDEE:3. letnik (Fizika, 1. stopnja)
CATEGORIES:Entry,Standard
COLOR:darkgreen
DESCRIPTION:Predmet: Matematično-fizikalni praktikum (FIZ-3)\, Seminar (S
 )\nLetniki: 3. letnik (Fizika\, 1. stopnja)\nIzvajalci: Borut Paul Keršev
 an\nProstor: F2
LOCATION:F2
ORGANIZER:Borut Paul Kerševan
RELATED-TO:fmf-AFLABS-URNIK:srecanje:5008
X-WR-TIMEZONE:Europe/Ljubljana
END:VEVENT
BEGIN:VEVENT
SUMMARY:Matematično-fizikalni praktikum (FIZ-3)\, Seminar (S)
DTSTART;TZID=Europe/Ljubljana:20210113T130000
DTEND;TZID=Europe/Ljubljana:20210113T140000
DTSTAMP:20260423T022143Z
UID:fmf-AFLABS-URNIK:premaknjeno-srecanje:70224
ATTENDEE:3. letnik (Fizika, 1. stopnja)
CATEGORIES:Entry,Standard
COLOR:darkgreen
DESCRIPTION:Predmet: Matematično-fizikalni praktikum (FIZ-3)\, Seminar (S
 )\nLetniki: 3. letnik (Fizika\, 1. stopnja)\nIzvajalci: Borut Paul Keršev
 an\nProstor: F2
LOCATION:F2
ORGANIZER:Borut Paul Kerševan
RELATED-TO:fmf-AFLABS-URNIK:srecanje:5008
X-WR-TIMEZONE:Europe/Ljubljana
END:VEVENT
BEGIN:VEVENT
SUMMARY:Praktikum strojnega učenja v fiziki (FIZ-M2\, JET-1\, JET-2\, MEF
 -1\, MEF-2)\, Predavanja (P)
DTSTART;TZID=Europe/Ljubljana:20201218T130000
DTEND;TZID=Europe/Ljubljana:20201218T150000
DTSTAMP:20260423T022143Z
UID:fmf-AFLABS-URNIK:premaknjeno-srecanje:84727
ATTENDEE:1. letnik (Jedrska tehnika, 2. stopnja)
ATTENDEE:1. letnik (Medicinska fizika, 2. stopnja)
ATTENDEE:2. letnik (Fizika, 2. stopnja)
ATTENDEE:2. letnik (Jedrska tehnika, 2. stopnja)
ATTENDEE:2. letnik (Medicinska fizika, 2. stopnja)
CATEGORIES:Entry,Standard
COLOR:darkgreen
DESCRIPTION:Predmet: Praktikum strojnega učenja v fiziki (FIZ-M2\, JET-1\
 , JET-2\, MEF-1\, MEF-2)\, Predavanja (P)\nLetniki: 2. letnik (Fizika\, 2.
  stopnja)\, 1. letnik (Jedrska tehnika\, 2. stopnja)\, 2. letnik (Jedrska 
 tehnika\, 2. stopnja)\, 1. letnik (Medicinska fizika\, 2. stopnja)\, 2. le
 tnik (Medicinska fizika\, 2. stopnja)\nIzvajalci: Simon Čopar\, Jernej Fe
 sel Kamenik\, Borut Paul Kerševan\nProstor: F1
LOCATION:F1
ORGANIZER:Simon Čopar, Jernej Fesel Kamenik, Borut Paul Kerševan
RELATED-TO:fmf-AFLABS-URNIK:srecanje:5339
X-WR-TIMEZONE:Europe/Ljubljana
END:VEVENT
BEGIN:VEVENT
SUMMARY:Praktikum strojnega učenja v fiziki (FIZ-M2\, JET-1\, JET-2\, MEF
 -1\, MEF-2)\, Predavanja (P)
DTSTART;TZID=Europe/Ljubljana:20201225T130000
DTEND;TZID=Europe/Ljubljana:20201225T150000
DTSTAMP:20260423T022143Z
UID:fmf-AFLABS-URNIK:premaknjeno-srecanje:84728
ATTENDEE:1. letnik (Jedrska tehnika, 2. stopnja)
ATTENDEE:1. letnik (Medicinska fizika, 2. stopnja)
ATTENDEE:2. letnik (Fizika, 2. stopnja)
ATTENDEE:2. letnik (Jedrska tehnika, 2. stopnja)
ATTENDEE:2. letnik (Medicinska fizika, 2. stopnja)
CATEGORIES:Entry,Standard
COLOR:darkgreen
DESCRIPTION:Predmet: Praktikum strojnega učenja v fiziki (FIZ-M2\, JET-1\
 , JET-2\, MEF-1\, MEF-2)\, Predavanja (P)\nLetniki: 2. letnik (Fizika\, 2.
  stopnja)\, 1. letnik (Jedrska tehnika\, 2. stopnja)\, 2. letnik (Jedrska 
 tehnika\, 2. stopnja)\, 1. letnik (Medicinska fizika\, 2. stopnja)\, 2. le
 tnik (Medicinska fizika\, 2. stopnja)\nIzvajalci: Simon Čopar\, Jernej Fe
 sel Kamenik\, Borut Paul Kerševan\nProstor: F1
LOCATION:F1
ORGANIZER:Simon Čopar, Jernej Fesel Kamenik, Borut Paul Kerševan
RELATED-TO:fmf-AFLABS-URNIK:srecanje:5339
X-WR-TIMEZONE:Europe/Ljubljana
END:VEVENT
BEGIN:VEVENT
SUMMARY:Praktikum strojnega učenja v fiziki (FIZ-M2\, JET-1\, JET-2\, MEF
 -1\, MEF-2)\, Predavanja (P)
DTSTART;TZID=Europe/Ljubljana:20210101T130000
DTEND;TZID=Europe/Ljubljana:20210101T150000
DTSTAMP:20260423T022143Z
UID:fmf-AFLABS-URNIK:premaknjeno-srecanje:84729
ATTENDEE:1. letnik (Jedrska tehnika, 2. stopnja)
ATTENDEE:1. letnik (Medicinska fizika, 2. stopnja)
ATTENDEE:2. letnik (Fizika, 2. stopnja)
ATTENDEE:2. letnik (Jedrska tehnika, 2. stopnja)
ATTENDEE:2. letnik (Medicinska fizika, 2. stopnja)
CATEGORIES:Entry,Standard
COLOR:darkgreen
DESCRIPTION:Predmet: Praktikum strojnega učenja v fiziki (FIZ-M2\, JET-1\
 , JET-2\, MEF-1\, MEF-2)\, Predavanja (P)\nLetniki: 2. letnik (Fizika\, 2.
  stopnja)\, 1. letnik (Jedrska tehnika\, 2. stopnja)\, 2. letnik (Jedrska 
 tehnika\, 2. stopnja)\, 1. letnik (Medicinska fizika\, 2. stopnja)\, 2. le
 tnik (Medicinska fizika\, 2. stopnja)\nIzvajalci: Simon Čopar\, Jernej Fe
 sel Kamenik\, Borut Paul Kerševan\nProstor: F1
LOCATION:F1
ORGANIZER:Simon Čopar, Jernej Fesel Kamenik, Borut Paul Kerševan
RELATED-TO:fmf-AFLABS-URNIK:srecanje:5339
X-WR-TIMEZONE:Europe/Ljubljana
END:VEVENT
BEGIN:VEVENT
SUMMARY:Praktikum strojnega učenja v fiziki (FIZ-M2\, JET-1\, JET-2\, MEF
 -1\, MEF-2)\, Predavanja (P)
DTSTART;TZID=Europe/Ljubljana:20210108T130000
DTEND;TZID=Europe/Ljubljana:20210108T150000
DTSTAMP:20260423T022143Z
UID:fmf-AFLABS-URNIK:premaknjeno-srecanje:84730
ATTENDEE:1. letnik (Jedrska tehnika, 2. stopnja)
ATTENDEE:1. letnik (Medicinska fizika, 2. stopnja)
ATTENDEE:2. letnik (Fizika, 2. stopnja)
ATTENDEE:2. letnik (Jedrska tehnika, 2. stopnja)
ATTENDEE:2. letnik (Medicinska fizika, 2. stopnja)
CATEGORIES:Entry,Standard
COLOR:darkgreen
DESCRIPTION:Predmet: Praktikum strojnega učenja v fiziki (FIZ-M2\, JET-1\
 , JET-2\, MEF-1\, MEF-2)\, Predavanja (P)\nLetniki: 2. letnik (Fizika\, 2.
  stopnja)\, 1. letnik (Jedrska tehnika\, 2. stopnja)\, 2. letnik (Jedrska 
 tehnika\, 2. stopnja)\, 1. letnik (Medicinska fizika\, 2. stopnja)\, 2. le
 tnik (Medicinska fizika\, 2. stopnja)\nIzvajalci: Simon Čopar\, Jernej Fe
 sel Kamenik\, Borut Paul Kerševan\nProstor: F1
LOCATION:F1
ORGANIZER:Simon Čopar, Jernej Fesel Kamenik, Borut Paul Kerševan
RELATED-TO:fmf-AFLABS-URNIK:srecanje:5339
X-WR-TIMEZONE:Europe/Ljubljana
END:VEVENT
BEGIN:VEVENT
SUMMARY:Praktikum strojnega učenja v fiziki (FIZ-M2\, JET-1\, JET-2\, MEF
 -1\, MEF-2)\, Predavanja (P)
DTSTART;TZID=Europe/Ljubljana:20210115T130000
DTEND;TZID=Europe/Ljubljana:20210115T150000
DTSTAMP:20260423T022143Z
UID:fmf-AFLABS-URNIK:premaknjeno-srecanje:84731
ATTENDEE:1. letnik (Jedrska tehnika, 2. stopnja)
ATTENDEE:1. letnik (Medicinska fizika, 2. stopnja)
ATTENDEE:2. letnik (Fizika, 2. stopnja)
ATTENDEE:2. letnik (Jedrska tehnika, 2. stopnja)
ATTENDEE:2. letnik (Medicinska fizika, 2. stopnja)
CATEGORIES:Entry,Standard
COLOR:darkgreen
DESCRIPTION:Predmet: Praktikum strojnega učenja v fiziki (FIZ-M2\, JET-1\
 , JET-2\, MEF-1\, MEF-2)\, Predavanja (P)\nLetniki: 2. letnik (Fizika\, 2.
  stopnja)\, 1. letnik (Jedrska tehnika\, 2. stopnja)\, 2. letnik (Jedrska 
 tehnika\, 2. stopnja)\, 1. letnik (Medicinska fizika\, 2. stopnja)\, 2. le
 tnik (Medicinska fizika\, 2. stopnja)\nIzvajalci: Simon Čopar\, Jernej Fe
 sel Kamenik\, Borut Paul Kerševan\nProstor: F1
LOCATION:F1
ORGANIZER:Simon Čopar, Jernej Fesel Kamenik, Borut Paul Kerševan
RELATED-TO:fmf-AFLABS-URNIK:srecanje:5339
X-WR-TIMEZONE:Europe/Ljubljana
END:VEVENT
BEGIN:VEVENT
SUMMARY:Praktikum strojnega učenja v fiziki (FIZ-M2\, JET-1\, JET-2\, MEF
 -1\, MEF-2)\, Vaje (V)
DTSTART;TZID=Europe/Ljubljana:20201218T150000
DTEND;TZID=Europe/Ljubljana:20201218T180000
DTSTAMP:20260423T022143Z
UID:fmf-AFLABS-URNIK:premaknjeno-srecanje:84790
ATTENDEE:1. letnik (Jedrska tehnika, 2. stopnja)
ATTENDEE:1. letnik (Medicinska fizika, 2. stopnja)
ATTENDEE:2. letnik (Fizika, 2. stopnja)
ATTENDEE:2. letnik (Jedrska tehnika, 2. stopnja)
ATTENDEE:2. letnik (Medicinska fizika, 2. stopnja)
CATEGORIES:Entry,Standard
COLOR:darkgreen
DESCRIPTION:Predmet: Praktikum strojnega učenja v fiziki (FIZ-M2\, JET-1\
 , JET-2\, MEF-1\, MEF-2)\, Vaje (V)\nLetniki: 2. letnik (Fizika\, 2. stopn
 ja)\, 1. letnik (Jedrska tehnika\, 2. stopnja)\, 2. letnik (Jedrska tehnik
 a\, 2. stopnja)\, 1. letnik (Medicinska fizika\, 2. stopnja)\, 2. letnik (
 Medicinska fizika\, 2. stopnja)\nIzvajalci: Simon Čopar\, Jernej Fesel Ka
 menik\, Borut Paul Kerševan\nProstor: F1
LOCATION:F1
ORGANIZER:Simon Čopar, Jernej Fesel Kamenik, Borut Paul Kerševan
RELATED-TO:fmf-AFLABS-URNIK:srecanje:5340
X-WR-TIMEZONE:Europe/Ljubljana
END:VEVENT
BEGIN:VEVENT
SUMMARY:Praktikum strojnega učenja v fiziki (FIZ-M2\, JET-1\, JET-2\, MEF
 -1\, MEF-2)\, Vaje (V)
DTSTART;TZID=Europe/Ljubljana:20201225T150000
DTEND;TZID=Europe/Ljubljana:20201225T180000
DTSTAMP:20260423T022143Z
UID:fmf-AFLABS-URNIK:premaknjeno-srecanje:84791
ATTENDEE:1. letnik (Jedrska tehnika, 2. stopnja)
ATTENDEE:1. letnik (Medicinska fizika, 2. stopnja)
ATTENDEE:2. letnik (Fizika, 2. stopnja)
ATTENDEE:2. letnik (Jedrska tehnika, 2. stopnja)
ATTENDEE:2. letnik (Medicinska fizika, 2. stopnja)
CATEGORIES:Entry,Standard
COLOR:darkgreen
DESCRIPTION:Predmet: Praktikum strojnega učenja v fiziki (FIZ-M2\, JET-1\
 , JET-2\, MEF-1\, MEF-2)\, Vaje (V)\nLetniki: 2. letnik (Fizika\, 2. stopn
 ja)\, 1. letnik (Jedrska tehnika\, 2. stopnja)\, 2. letnik (Jedrska tehnik
 a\, 2. stopnja)\, 1. letnik (Medicinska fizika\, 2. stopnja)\, 2. letnik (
 Medicinska fizika\, 2. stopnja)\nIzvajalci: Simon Čopar\, Jernej Fesel Ka
 menik\, Borut Paul Kerševan\nProstor: F1
LOCATION:F1
ORGANIZER:Simon Čopar, Jernej Fesel Kamenik, Borut Paul Kerševan
RELATED-TO:fmf-AFLABS-URNIK:srecanje:5340
X-WR-TIMEZONE:Europe/Ljubljana
END:VEVENT
BEGIN:VEVENT
SUMMARY:Praktikum strojnega učenja v fiziki (FIZ-M2\, JET-1\, JET-2\, MEF
 -1\, MEF-2)\, Vaje (V)
DTSTART;TZID=Europe/Ljubljana:20210101T150000
DTEND;TZID=Europe/Ljubljana:20210101T180000
DTSTAMP:20260423T022143Z
UID:fmf-AFLABS-URNIK:premaknjeno-srecanje:84792
ATTENDEE:1. letnik (Jedrska tehnika, 2. stopnja)
ATTENDEE:1. letnik (Medicinska fizika, 2. stopnja)
ATTENDEE:2. letnik (Fizika, 2. stopnja)
ATTENDEE:2. letnik (Jedrska tehnika, 2. stopnja)
ATTENDEE:2. letnik (Medicinska fizika, 2. stopnja)
CATEGORIES:Entry,Standard
COLOR:darkgreen
DESCRIPTION:Predmet: Praktikum strojnega učenja v fiziki (FIZ-M2\, JET-1\
 , JET-2\, MEF-1\, MEF-2)\, Vaje (V)\nLetniki: 2. letnik (Fizika\, 2. stopn
 ja)\, 1. letnik (Jedrska tehnika\, 2. stopnja)\, 2. letnik (Jedrska tehnik
 a\, 2. stopnja)\, 1. letnik (Medicinska fizika\, 2. stopnja)\, 2. letnik (
 Medicinska fizika\, 2. stopnja)\nIzvajalci: Simon Čopar\, Jernej Fesel Ka
 menik\, Borut Paul Kerševan\nProstor: F1
LOCATION:F1
ORGANIZER:Simon Čopar, Jernej Fesel Kamenik, Borut Paul Kerševan
RELATED-TO:fmf-AFLABS-URNIK:srecanje:5340
X-WR-TIMEZONE:Europe/Ljubljana
END:VEVENT
BEGIN:VEVENT
SUMMARY:Praktikum strojnega učenja v fiziki (FIZ-M2\, JET-1\, JET-2\, MEF
 -1\, MEF-2)\, Vaje (V)
DTSTART;TZID=Europe/Ljubljana:20210108T150000
DTEND;TZID=Europe/Ljubljana:20210108T180000
DTSTAMP:20260423T022143Z
UID:fmf-AFLABS-URNIK:premaknjeno-srecanje:84793
ATTENDEE:1. letnik (Jedrska tehnika, 2. stopnja)
ATTENDEE:1. letnik (Medicinska fizika, 2. stopnja)
ATTENDEE:2. letnik (Fizika, 2. stopnja)
ATTENDEE:2. letnik (Jedrska tehnika, 2. stopnja)
ATTENDEE:2. letnik (Medicinska fizika, 2. stopnja)
CATEGORIES:Entry,Standard
COLOR:darkgreen
DESCRIPTION:Predmet: Praktikum strojnega učenja v fiziki (FIZ-M2\, JET-1\
 , JET-2\, MEF-1\, MEF-2)\, Vaje (V)\nLetniki: 2. letnik (Fizika\, 2. stopn
 ja)\, 1. letnik (Jedrska tehnika\, 2. stopnja)\, 2. letnik (Jedrska tehnik
 a\, 2. stopnja)\, 1. letnik (Medicinska fizika\, 2. stopnja)\, 2. letnik (
 Medicinska fizika\, 2. stopnja)\nIzvajalci: Simon Čopar\, Jernej Fesel Ka
 menik\, Borut Paul Kerševan\nProstor: F1
LOCATION:F1
ORGANIZER:Simon Čopar, Jernej Fesel Kamenik, Borut Paul Kerševan
RELATED-TO:fmf-AFLABS-URNIK:srecanje:5340
X-WR-TIMEZONE:Europe/Ljubljana
END:VEVENT
BEGIN:VEVENT
SUMMARY:Praktikum strojnega učenja v fiziki (FIZ-M2\, JET-1\, JET-2\, MEF
 -1\, MEF-2)\, Vaje (V)
DTSTART;TZID=Europe/Ljubljana:20210115T150000
DTEND;TZID=Europe/Ljubljana:20210115T180000
DTSTAMP:20260423T022143Z
UID:fmf-AFLABS-URNIK:premaknjeno-srecanje:84794
ATTENDEE:1. letnik (Jedrska tehnika, 2. stopnja)
ATTENDEE:1. letnik (Medicinska fizika, 2. stopnja)
ATTENDEE:2. letnik (Fizika, 2. stopnja)
ATTENDEE:2. letnik (Jedrska tehnika, 2. stopnja)
ATTENDEE:2. letnik (Medicinska fizika, 2. stopnja)
CATEGORIES:Entry,Standard
COLOR:darkgreen
DESCRIPTION:Predmet: Praktikum strojnega učenja v fiziki (FIZ-M2\, JET-1\
 , JET-2\, MEF-1\, MEF-2)\, Vaje (V)\nLetniki: 2. letnik (Fizika\, 2. stopn
 ja)\, 1. letnik (Jedrska tehnika\, 2. stopnja)\, 2. letnik (Jedrska tehnik
 a\, 2. stopnja)\, 1. letnik (Medicinska fizika\, 2. stopnja)\, 2. letnik (
 Medicinska fizika\, 2. stopnja)\nIzvajalci: Simon Čopar\, Jernej Fesel Ka
 menik\, Borut Paul Kerševan\nProstor: F1
LOCATION:F1
ORGANIZER:Simon Čopar, Jernej Fesel Kamenik, Borut Paul Kerševan
RELATED-TO:fmf-AFLABS-URNIK:srecanje:5340
X-WR-TIMEZONE:Europe/Ljubljana
END:VEVENT
BEGIN:VEVENT
SUMMARY:Matematična fizika I (FIZ-2)\, Predavanja (P)
DTSTART;TZID=Europe/Ljubljana:20210215T120000
DTEND;TZID=Europe/Ljubljana:20210215T150000
DTSTAMP:20260423T022143Z
UID:fmf-AFLABS-URNIK:premaknjeno-srecanje:68042
ATTENDEE:2. letnik (Fizika, 1. stopnja)
CATEGORIES:Entry,Standard
COLOR:darkgreen
DESCRIPTION:Predmet: Matematična fizika I (FIZ-2)\, Predavanja (P)\nLetni
 ki: 2. letnik (Fizika\, 1. stopnja)\nIzvajalci: Borut Paul Kerševan\nPros
 tor: F1
LOCATION:F1
ORGANIZER:Borut Paul Kerševan
RELATED-TO:fmf-AFLABS-URNIK:srecanje:5723
X-WR-TIMEZONE:Europe/Ljubljana
END:VEVENT
BEGIN:VEVENT
SUMMARY:Matematična fizika I (FIZ-2)\, Predavanja (P)
DTSTART;TZID=Europe/Ljubljana:20210222T120000
DTEND;TZID=Europe/Ljubljana:20210222T150000
DTSTAMP:20260423T022143Z
UID:fmf-AFLABS-URNIK:premaknjeno-srecanje:68043
ATTENDEE:2. letnik (Fizika, 1. stopnja)
CATEGORIES:Entry,Standard
COLOR:darkgreen
DESCRIPTION:Predmet: Matematična fizika I (FIZ-2)\, Predavanja (P)\nLetni
 ki: 2. letnik (Fizika\, 1. stopnja)\nIzvajalci: Borut Paul Kerševan\nPros
 tor: F1
LOCATION:F1
ORGANIZER:Borut Paul Kerševan
RELATED-TO:fmf-AFLABS-URNIK:srecanje:5723
X-WR-TIMEZONE:Europe/Ljubljana
END:VEVENT
BEGIN:VEVENT
SUMMARY:Matematično fizikalni seminar (APF-3)\, Vaje (V)
DTSTART;TZID=Europe/Ljubljana:20210217T120000
DTEND;TZID=Europe/Ljubljana:20210217T160000
DTSTAMP:20260423T022143Z
UID:fmf-AFLABS-URNIK:premaknjeno-srecanje:69166
ATTENDEE:3. letnik (Aplikativna fizika)
CATEGORIES:Entry,Standard
COLOR:darkgreen
DESCRIPTION:Predmet: Matematično fizikalni seminar (APF-3)\, Vaje (V)\nLe
 tniki: 3. letnik (Aplikativna fizika)\nIzvajalci: Borut Paul Kerševan\nPr
 ostor: F7
LOCATION:F7
ORGANIZER:Borut Paul Kerševan
RELATED-TO:fmf-AFLABS-URNIK:srecanje:5732
X-WR-TIMEZONE:Europe/Ljubljana
END:VEVENT
END:VCALENDAR
