BEGIN:VCALENDAR
VERSION:2.0
PRODID:-//AFLabs urnik izvoz - fmf//aflabs.si//SI
DTSTAMP:20260421T172535Z
NAME:UL FMF urnik
REFRESH-INTERVAL:PT1H
SOURCE:https://urnik.fmf.uni-lj.si/teacher/113?day=2022-01-24&export=1
URL:https://urnik.fmf.uni-lj.si/teacher/113?day=2022-01-24&export=1
X-PUBLISHED-TTL:PT1H
X-WR-CALNAME:UL FMF urnik
X-WR-TIMEZONE:Europe/Ljubljana
BEGIN:VTIMEZONE
TZID:Europe/Ljubljana
BEGIN:DAYLIGHT
DTSTART:20260329T020000
RDATE:20260329T020000
RDATE:20270328T020000
TZNAME:CEST
TZOFFSETFROM:+0100
TZOFFSETTO:+0200
END:DAYLIGHT
BEGIN:STANDARD
DTSTART:20261025T030000
RDATE:20261025T030000
RDATE:20271031T030000
TZNAME:CET
TZOFFSETFROM:+0200
TZOFFSETTO:+0100
END:STANDARD
END:VTIMEZONE
BEGIN:VEVENT
SUMMARY:Fizika (FRI) ()\, Predavanja (P)
DTSTART;TZID=Europe/Ljubljana:20211221T140000
DTEND;TZID=Europe/Ljubljana:20211221T170000
DTSTAMP:20260421T172535Z
UID:fmf-AFLABS-URNIK:premaknjeno-srecanje:26273
CATEGORIES:Entry,Standard
COLOR:darkgreen
DESCRIPTION:Predmet: Fizika (FRI) ()\, Predavanja (P)\nLetniki: \nIzvajalc
 i: Borut Paul Kerševan\nProstor: VFP
LOCATION:VFP
ORGANIZER:Borut Paul Kerševan
RELATED-TO:fmf-AFLABS-URNIK:srecanje:6229
X-WR-TIMEZONE:Europe/Ljubljana
END:VEVENT
BEGIN:VEVENT
SUMMARY:Fizika (FRI) ()\, Predavanja (P)
DTSTART;TZID=Europe/Ljubljana:20211228T140000
DTEND;TZID=Europe/Ljubljana:20211228T170000
DTSTAMP:20260421T172535Z
UID:fmf-AFLABS-URNIK:premaknjeno-srecanje:26274
CATEGORIES:Entry,Standard
COLOR:darkgreen
DESCRIPTION:Predmet: Fizika (FRI) ()\, Predavanja (P)\nLetniki: \nIzvajalc
 i: Borut Paul Kerševan\nProstor: VFP
LOCATION:VFP
ORGANIZER:Borut Paul Kerševan
RELATED-TO:fmf-AFLABS-URNIK:srecanje:6229
X-WR-TIMEZONE:Europe/Ljubljana
END:VEVENT
BEGIN:VEVENT
SUMMARY:Fizika (FRI) ()\, Predavanja (P)
DTSTART;TZID=Europe/Ljubljana:20220104T140000
DTEND;TZID=Europe/Ljubljana:20220104T170000
DTSTAMP:20260421T172535Z
UID:fmf-AFLABS-URNIK:premaknjeno-srecanje:26275
CATEGORIES:Entry,Standard
COLOR:darkgreen
DESCRIPTION:Predmet: Fizika (FRI) ()\, Predavanja (P)\nLetniki: \nIzvajalc
 i: Borut Paul Kerševan\nProstor: VFP
LOCATION:VFP
ORGANIZER:Borut Paul Kerševan
RELATED-TO:fmf-AFLABS-URNIK:srecanje:6229
X-WR-TIMEZONE:Europe/Ljubljana
END:VEVENT
BEGIN:VEVENT
SUMMARY:Fizika (FRI) ()\, Predavanja (P)
DTSTART;TZID=Europe/Ljubljana:20220111T140000
DTEND;TZID=Europe/Ljubljana:20220111T170000
DTSTAMP:20260421T172535Z
UID:fmf-AFLABS-URNIK:premaknjeno-srecanje:26276
CATEGORIES:Entry,Standard
COLOR:darkgreen
DESCRIPTION:Predmet: Fizika (FRI) ()\, Predavanja (P)\nLetniki: \nIzvajalc
 i: Borut Paul Kerševan\nProstor: VFP
LOCATION:VFP
ORGANIZER:Borut Paul Kerševan
RELATED-TO:fmf-AFLABS-URNIK:srecanje:6229
X-WR-TIMEZONE:Europe/Ljubljana
END:VEVENT
BEGIN:VEVENT
SUMMARY:Matematično-fizikalni praktikum (FIZ-3)\, Predavanja (P)
DTSTART;TZID=Europe/Ljubljana:20211223T130000
DTEND;TZID=Europe/Ljubljana:20211223T150000
DTSTAMP:20260421T172535Z
UID:fmf-AFLABS-URNIK:premaknjeno-srecanje:70143
ATTENDEE:3. letnik (Fizika, 1. stopnja)
CATEGORIES:Entry,Standard
COLOR:darkgreen
DESCRIPTION:Predmet: Matematično-fizikalni praktikum (FIZ-3)\, Predavanja
  (P)\nLetniki: 3. letnik (Fizika\, 1. stopnja)\nIzvajalci: Borut Paul Ker
 ševan\nProstor: F4
LOCATION:F4
ORGANIZER:Borut Paul Kerševan
RELATED-TO:fmf-AFLABS-URNIK:srecanje:6436
X-WR-TIMEZONE:Europe/Ljubljana
END:VEVENT
BEGIN:VEVENT
SUMMARY:Matematično-fizikalni praktikum (FIZ-3)\, Predavanja (P)
DTSTART;TZID=Europe/Ljubljana:20211230T130000
DTEND;TZID=Europe/Ljubljana:20211230T150000
DTSTAMP:20260421T172535Z
UID:fmf-AFLABS-URNIK:premaknjeno-srecanje:70144
ATTENDEE:3. letnik (Fizika, 1. stopnja)
CATEGORIES:Entry,Standard
COLOR:darkgreen
DESCRIPTION:Predmet: Matematično-fizikalni praktikum (FIZ-3)\, Predavanja
  (P)\nLetniki: 3. letnik (Fizika\, 1. stopnja)\nIzvajalci: Borut Paul Ker
 ševan\nProstor: F4
LOCATION:F4
ORGANIZER:Borut Paul Kerševan
RELATED-TO:fmf-AFLABS-URNIK:srecanje:6436
X-WR-TIMEZONE:Europe/Ljubljana
END:VEVENT
BEGIN:VEVENT
SUMMARY:Matematično-fizikalni praktikum (FIZ-3)\, Predavanja (P)
DTSTART;TZID=Europe/Ljubljana:20220106T130000
DTEND;TZID=Europe/Ljubljana:20220106T150000
DTSTAMP:20260421T172535Z
UID:fmf-AFLABS-URNIK:premaknjeno-srecanje:70145
ATTENDEE:3. letnik (Fizika, 1. stopnja)
CATEGORIES:Entry,Standard
COLOR:darkgreen
DESCRIPTION:Predmet: Matematično-fizikalni praktikum (FIZ-3)\, Predavanja
  (P)\nLetniki: 3. letnik (Fizika\, 1. stopnja)\nIzvajalci: Borut Paul Ker
 ševan\nProstor: F4
LOCATION:F4
ORGANIZER:Borut Paul Kerševan
RELATED-TO:fmf-AFLABS-URNIK:srecanje:6436
X-WR-TIMEZONE:Europe/Ljubljana
END:VEVENT
BEGIN:VEVENT
SUMMARY:Matematično-fizikalni praktikum (FIZ-3)\, Predavanja (P)
DTSTART;TZID=Europe/Ljubljana:20220113T130000
DTEND;TZID=Europe/Ljubljana:20220113T150000
DTSTAMP:20260421T172535Z
UID:fmf-AFLABS-URNIK:premaknjeno-srecanje:70146
ATTENDEE:3. letnik (Fizika, 1. stopnja)
CATEGORIES:Entry,Standard
COLOR:darkgreen
DESCRIPTION:Predmet: Matematično-fizikalni praktikum (FIZ-3)\, Predavanja
  (P)\nLetniki: 3. letnik (Fizika\, 1. stopnja)\nIzvajalci: Borut Paul Ker
 ševan\nProstor: F4
LOCATION:F4
ORGANIZER:Borut Paul Kerševan
RELATED-TO:fmf-AFLABS-URNIK:srecanje:6436
X-WR-TIMEZONE:Europe/Ljubljana
END:VEVENT
BEGIN:VEVENT
SUMMARY:Matematično-fizikalni praktikum (FIZ-3)\, Seminar (S)
DTSTART;TZID=Europe/Ljubljana:20211223T120000
DTEND;TZID=Europe/Ljubljana:20211223T130000
DTSTAMP:20260421T172535Z
UID:fmf-AFLABS-URNIK:premaknjeno-srecanje:70236
ATTENDEE:3. letnik (Fizika, 1. stopnja)
CATEGORIES:Entry,Standard
COLOR:darkgreen
DESCRIPTION:Predmet: Matematično-fizikalni praktikum (FIZ-3)\, Seminar (S
 )\nLetniki: 3. letnik (Fizika\, 1. stopnja)\nIzvajalci: Borut Paul Keršev
 an\nProstor: F4
LOCATION:F4
ORGANIZER:Borut Paul Kerševan
RELATED-TO:fmf-AFLABS-URNIK:srecanje:6437
X-WR-TIMEZONE:Europe/Ljubljana
END:VEVENT
BEGIN:VEVENT
SUMMARY:Matematično-fizikalni praktikum (FIZ-3)\, Seminar (S)
DTSTART;TZID=Europe/Ljubljana:20211230T120000
DTEND;TZID=Europe/Ljubljana:20211230T130000
DTSTAMP:20260421T172535Z
UID:fmf-AFLABS-URNIK:premaknjeno-srecanje:70237
ATTENDEE:3. letnik (Fizika, 1. stopnja)
CATEGORIES:Entry,Standard
COLOR:darkgreen
DESCRIPTION:Predmet: Matematično-fizikalni praktikum (FIZ-3)\, Seminar (S
 )\nLetniki: 3. letnik (Fizika\, 1. stopnja)\nIzvajalci: Borut Paul Keršev
 an\nProstor: F4
LOCATION:F4
ORGANIZER:Borut Paul Kerševan
RELATED-TO:fmf-AFLABS-URNIK:srecanje:6437
X-WR-TIMEZONE:Europe/Ljubljana
END:VEVENT
BEGIN:VEVENT
SUMMARY:Matematično-fizikalni praktikum (FIZ-3)\, Seminar (S)
DTSTART;TZID=Europe/Ljubljana:20220106T120000
DTEND;TZID=Europe/Ljubljana:20220106T130000
DTSTAMP:20260421T172535Z
UID:fmf-AFLABS-URNIK:premaknjeno-srecanje:70238
ATTENDEE:3. letnik (Fizika, 1. stopnja)
CATEGORIES:Entry,Standard
COLOR:darkgreen
DESCRIPTION:Predmet: Matematično-fizikalni praktikum (FIZ-3)\, Seminar (S
 )\nLetniki: 3. letnik (Fizika\, 1. stopnja)\nIzvajalci: Borut Paul Keršev
 an\nProstor: F4
LOCATION:F4
ORGANIZER:Borut Paul Kerševan
RELATED-TO:fmf-AFLABS-URNIK:srecanje:6437
X-WR-TIMEZONE:Europe/Ljubljana
END:VEVENT
BEGIN:VEVENT
SUMMARY:Matematično-fizikalni praktikum (FIZ-3)\, Seminar (S)
DTSTART;TZID=Europe/Ljubljana:20220113T120000
DTEND;TZID=Europe/Ljubljana:20220113T130000
DTSTAMP:20260421T172535Z
UID:fmf-AFLABS-URNIK:premaknjeno-srecanje:70239
ATTENDEE:3. letnik (Fizika, 1. stopnja)
CATEGORIES:Entry,Standard
COLOR:darkgreen
DESCRIPTION:Predmet: Matematično-fizikalni praktikum (FIZ-3)\, Seminar (S
 )\nLetniki: 3. letnik (Fizika\, 1. stopnja)\nIzvajalci: Borut Paul Keršev
 an\nProstor: F4
LOCATION:F4
ORGANIZER:Borut Paul Kerševan
RELATED-TO:fmf-AFLABS-URNIK:srecanje:6437
X-WR-TIMEZONE:Europe/Ljubljana
END:VEVENT
BEGIN:VEVENT
SUMMARY:Praktikum strojnega učenja v fiziki (FIZ-M2\, JET-1\, JET-2\, MEF
 -1\, MEF-2)\, Predavanja (P)
DTSTART;TZID=Europe/Ljubljana:20211224T120000
DTEND;TZID=Europe/Ljubljana:20211224T140000
DTSTAMP:20260421T172535Z
UID:fmf-AFLABS-URNIK:premaknjeno-srecanje:84712
ATTENDEE:1. letnik (Jedrska tehnika, 2. stopnja)
ATTENDEE:1. letnik (Medicinska fizika, 2. stopnja)
ATTENDEE:2. letnik (Fizika, 2. stopnja)
ATTENDEE:2. letnik (Jedrska tehnika, 2. stopnja)
ATTENDEE:2. letnik (Medicinska fizika, 2. stopnja)
CATEGORIES:Entry,Standard
COLOR:darkgreen
DESCRIPTION:Predmet: Praktikum strojnega učenja v fiziki (FIZ-M2\, JET-1\
 , JET-2\, MEF-1\, MEF-2)\, Predavanja (P)\nLetniki: 2. letnik (Fizika\, 2.
  stopnja)\, 1. letnik (Jedrska tehnika\, 2. stopnja)\, 2. letnik (Jedrska 
 tehnika\, 2. stopnja)\, 1. letnik (Medicinska fizika\, 2. stopnja)\, 2. le
 tnik (Medicinska fizika\, 2. stopnja)\nIzvajalci: Simon Čopar\, Jernej Fe
 sel Kamenik\, Borut Paul Kerševan\nProstor: F1
LOCATION:F1
ORGANIZER:Simon Čopar, Jernej Fesel Kamenik, Borut Paul Kerševan
RELATED-TO:fmf-AFLABS-URNIK:srecanje:6743
X-WR-TIMEZONE:Europe/Ljubljana
END:VEVENT
BEGIN:VEVENT
SUMMARY:Praktikum strojnega učenja v fiziki (FIZ-M2\, JET-1\, JET-2\, MEF
 -1\, MEF-2)\, Predavanja (P)
DTSTART;TZID=Europe/Ljubljana:20211231T120000
DTEND;TZID=Europe/Ljubljana:20211231T140000
DTSTAMP:20260421T172535Z
UID:fmf-AFLABS-URNIK:premaknjeno-srecanje:84713
ATTENDEE:1. letnik (Jedrska tehnika, 2. stopnja)
ATTENDEE:1. letnik (Medicinska fizika, 2. stopnja)
ATTENDEE:2. letnik (Fizika, 2. stopnja)
ATTENDEE:2. letnik (Jedrska tehnika, 2. stopnja)
ATTENDEE:2. letnik (Medicinska fizika, 2. stopnja)
CATEGORIES:Entry,Standard
COLOR:darkgreen
DESCRIPTION:Predmet: Praktikum strojnega učenja v fiziki (FIZ-M2\, JET-1\
 , JET-2\, MEF-1\, MEF-2)\, Predavanja (P)\nLetniki: 2. letnik (Fizika\, 2.
  stopnja)\, 1. letnik (Jedrska tehnika\, 2. stopnja)\, 2. letnik (Jedrska 
 tehnika\, 2. stopnja)\, 1. letnik (Medicinska fizika\, 2. stopnja)\, 2. le
 tnik (Medicinska fizika\, 2. stopnja)\nIzvajalci: Simon Čopar\, Jernej Fe
 sel Kamenik\, Borut Paul Kerševan\nProstor: F1
LOCATION:F1
ORGANIZER:Simon Čopar, Jernej Fesel Kamenik, Borut Paul Kerševan
RELATED-TO:fmf-AFLABS-URNIK:srecanje:6743
X-WR-TIMEZONE:Europe/Ljubljana
END:VEVENT
BEGIN:VEVENT
SUMMARY:Praktikum strojnega učenja v fiziki (FIZ-M2\, JET-1\, JET-2\, MEF
 -1\, MEF-2)\, Predavanja (P)
DTSTART;TZID=Europe/Ljubljana:20220107T120000
DTEND;TZID=Europe/Ljubljana:20220107T140000
DTSTAMP:20260421T172535Z
UID:fmf-AFLABS-URNIK:premaknjeno-srecanje:84714
ATTENDEE:1. letnik (Jedrska tehnika, 2. stopnja)
ATTENDEE:1. letnik (Medicinska fizika, 2. stopnja)
ATTENDEE:2. letnik (Fizika, 2. stopnja)
ATTENDEE:2. letnik (Jedrska tehnika, 2. stopnja)
ATTENDEE:2. letnik (Medicinska fizika, 2. stopnja)
CATEGORIES:Entry,Standard
COLOR:darkgreen
DESCRIPTION:Predmet: Praktikum strojnega učenja v fiziki (FIZ-M2\, JET-1\
 , JET-2\, MEF-1\, MEF-2)\, Predavanja (P)\nLetniki: 2. letnik (Fizika\, 2.
  stopnja)\, 1. letnik (Jedrska tehnika\, 2. stopnja)\, 2. letnik (Jedrska 
 tehnika\, 2. stopnja)\, 1. letnik (Medicinska fizika\, 2. stopnja)\, 2. le
 tnik (Medicinska fizika\, 2. stopnja)\nIzvajalci: Simon Čopar\, Jernej Fe
 sel Kamenik\, Borut Paul Kerševan\nProstor: F1
LOCATION:F1
ORGANIZER:Simon Čopar, Jernej Fesel Kamenik, Borut Paul Kerševan
RELATED-TO:fmf-AFLABS-URNIK:srecanje:6743
X-WR-TIMEZONE:Europe/Ljubljana
END:VEVENT
BEGIN:VEVENT
SUMMARY:Praktikum strojnega učenja v fiziki (FIZ-M2\, JET-1\, JET-2\, MEF
 -1\, MEF-2)\, Predavanja (P)
DTSTART;TZID=Europe/Ljubljana:20220114T120000
DTEND;TZID=Europe/Ljubljana:20220114T140000
DTSTAMP:20260421T172535Z
UID:fmf-AFLABS-URNIK:premaknjeno-srecanje:84715
ATTENDEE:1. letnik (Jedrska tehnika, 2. stopnja)
ATTENDEE:1. letnik (Medicinska fizika, 2. stopnja)
ATTENDEE:2. letnik (Fizika, 2. stopnja)
ATTENDEE:2. letnik (Jedrska tehnika, 2. stopnja)
ATTENDEE:2. letnik (Medicinska fizika, 2. stopnja)
CATEGORIES:Entry,Standard
COLOR:darkgreen
DESCRIPTION:Predmet: Praktikum strojnega učenja v fiziki (FIZ-M2\, JET-1\
 , JET-2\, MEF-1\, MEF-2)\, Predavanja (P)\nLetniki: 2. letnik (Fizika\, 2.
  stopnja)\, 1. letnik (Jedrska tehnika\, 2. stopnja)\, 2. letnik (Jedrska 
 tehnika\, 2. stopnja)\, 1. letnik (Medicinska fizika\, 2. stopnja)\, 2. le
 tnik (Medicinska fizika\, 2. stopnja)\nIzvajalci: Simon Čopar\, Jernej Fe
 sel Kamenik\, Borut Paul Kerševan\nProstor: F1
LOCATION:F1
ORGANIZER:Simon Čopar, Jernej Fesel Kamenik, Borut Paul Kerševan
RELATED-TO:fmf-AFLABS-URNIK:srecanje:6743
X-WR-TIMEZONE:Europe/Ljubljana
END:VEVENT
BEGIN:VEVENT
SUMMARY:Praktikum strojnega učenja v fiziki (FIZ-M2\, JET-1\, JET-2\, MEF
 -1\, MEF-2)\, Vaje (V)
DTSTART;TZID=Europe/Ljubljana:20211224T140000
DTEND;TZID=Europe/Ljubljana:20211224T170000
DTSTAMP:20260421T172535Z
UID:fmf-AFLABS-URNIK:premaknjeno-srecanje:84775
ATTENDEE:1. letnik (Jedrska tehnika, 2. stopnja)
ATTENDEE:1. letnik (Medicinska fizika, 2. stopnja)
ATTENDEE:2. letnik (Fizika, 2. stopnja)
ATTENDEE:2. letnik (Jedrska tehnika, 2. stopnja)
ATTENDEE:2. letnik (Medicinska fizika, 2. stopnja)
CATEGORIES:Entry,Standard
COLOR:darkgreen
DESCRIPTION:Predmet: Praktikum strojnega učenja v fiziki (FIZ-M2\, JET-1\
 , JET-2\, MEF-1\, MEF-2)\, Vaje (V)\nLetniki: 2. letnik (Fizika\, 2. stopn
 ja)\, 1. letnik (Jedrska tehnika\, 2. stopnja)\, 2. letnik (Jedrska tehnik
 a\, 2. stopnja)\, 1. letnik (Medicinska fizika\, 2. stopnja)\, 2. letnik (
 Medicinska fizika\, 2. stopnja)\nIzvajalci: Simon Čopar\, Jernej Fesel Ka
 menik\, Borut Paul Kerševan\nProstor: F1
LOCATION:F1
ORGANIZER:Simon Čopar, Jernej Fesel Kamenik, Borut Paul Kerševan
RELATED-TO:fmf-AFLABS-URNIK:srecanje:6744
X-WR-TIMEZONE:Europe/Ljubljana
END:VEVENT
BEGIN:VEVENT
SUMMARY:Praktikum strojnega učenja v fiziki (FIZ-M2\, JET-1\, JET-2\, MEF
 -1\, MEF-2)\, Vaje (V)
DTSTART;TZID=Europe/Ljubljana:20211231T140000
DTEND;TZID=Europe/Ljubljana:20211231T170000
DTSTAMP:20260421T172535Z
UID:fmf-AFLABS-URNIK:premaknjeno-srecanje:84776
ATTENDEE:1. letnik (Jedrska tehnika, 2. stopnja)
ATTENDEE:1. letnik (Medicinska fizika, 2. stopnja)
ATTENDEE:2. letnik (Fizika, 2. stopnja)
ATTENDEE:2. letnik (Jedrska tehnika, 2. stopnja)
ATTENDEE:2. letnik (Medicinska fizika, 2. stopnja)
CATEGORIES:Entry,Standard
COLOR:darkgreen
DESCRIPTION:Predmet: Praktikum strojnega učenja v fiziki (FIZ-M2\, JET-1\
 , JET-2\, MEF-1\, MEF-2)\, Vaje (V)\nLetniki: 2. letnik (Fizika\, 2. stopn
 ja)\, 1. letnik (Jedrska tehnika\, 2. stopnja)\, 2. letnik (Jedrska tehnik
 a\, 2. stopnja)\, 1. letnik (Medicinska fizika\, 2. stopnja)\, 2. letnik (
 Medicinska fizika\, 2. stopnja)\nIzvajalci: Simon Čopar\, Jernej Fesel Ka
 menik\, Borut Paul Kerševan\nProstor: F1
LOCATION:F1
ORGANIZER:Simon Čopar, Jernej Fesel Kamenik, Borut Paul Kerševan
RELATED-TO:fmf-AFLABS-URNIK:srecanje:6744
X-WR-TIMEZONE:Europe/Ljubljana
END:VEVENT
BEGIN:VEVENT
SUMMARY:Praktikum strojnega učenja v fiziki (FIZ-M2\, JET-1\, JET-2\, MEF
 -1\, MEF-2)\, Vaje (V)
DTSTART;TZID=Europe/Ljubljana:20220107T140000
DTEND;TZID=Europe/Ljubljana:20220107T170000
DTSTAMP:20260421T172535Z
UID:fmf-AFLABS-URNIK:premaknjeno-srecanje:84777
ATTENDEE:1. letnik (Jedrska tehnika, 2. stopnja)
ATTENDEE:1. letnik (Medicinska fizika, 2. stopnja)
ATTENDEE:2. letnik (Fizika, 2. stopnja)
ATTENDEE:2. letnik (Jedrska tehnika, 2. stopnja)
ATTENDEE:2. letnik (Medicinska fizika, 2. stopnja)
CATEGORIES:Entry,Standard
COLOR:darkgreen
DESCRIPTION:Predmet: Praktikum strojnega učenja v fiziki (FIZ-M2\, JET-1\
 , JET-2\, MEF-1\, MEF-2)\, Vaje (V)\nLetniki: 2. letnik (Fizika\, 2. stopn
 ja)\, 1. letnik (Jedrska tehnika\, 2. stopnja)\, 2. letnik (Jedrska tehnik
 a\, 2. stopnja)\, 1. letnik (Medicinska fizika\, 2. stopnja)\, 2. letnik (
 Medicinska fizika\, 2. stopnja)\nIzvajalci: Simon Čopar\, Jernej Fesel Ka
 menik\, Borut Paul Kerševan\nProstor: F1
LOCATION:F1
ORGANIZER:Simon Čopar, Jernej Fesel Kamenik, Borut Paul Kerševan
RELATED-TO:fmf-AFLABS-URNIK:srecanje:6744
X-WR-TIMEZONE:Europe/Ljubljana
END:VEVENT
BEGIN:VEVENT
SUMMARY:Praktikum strojnega učenja v fiziki (FIZ-M2\, JET-1\, JET-2\, MEF
 -1\, MEF-2)\, Vaje (V)
DTSTART;TZID=Europe/Ljubljana:20220114T140000
DTEND;TZID=Europe/Ljubljana:20220114T170000
DTSTAMP:20260421T172535Z
UID:fmf-AFLABS-URNIK:premaknjeno-srecanje:84778
ATTENDEE:1. letnik (Jedrska tehnika, 2. stopnja)
ATTENDEE:1. letnik (Medicinska fizika, 2. stopnja)
ATTENDEE:2. letnik (Fizika, 2. stopnja)
ATTENDEE:2. letnik (Jedrska tehnika, 2. stopnja)
ATTENDEE:2. letnik (Medicinska fizika, 2. stopnja)
CATEGORIES:Entry,Standard
COLOR:darkgreen
DESCRIPTION:Predmet: Praktikum strojnega učenja v fiziki (FIZ-M2\, JET-1\
 , JET-2\, MEF-1\, MEF-2)\, Vaje (V)\nLetniki: 2. letnik (Fizika\, 2. stopn
 ja)\, 1. letnik (Jedrska tehnika\, 2. stopnja)\, 2. letnik (Jedrska tehnik
 a\, 2. stopnja)\, 1. letnik (Medicinska fizika\, 2. stopnja)\, 2. letnik (
 Medicinska fizika\, 2. stopnja)\nIzvajalci: Simon Čopar\, Jernej Fesel Ka
 menik\, Borut Paul Kerševan\nProstor: F1
LOCATION:F1
ORGANIZER:Simon Čopar, Jernej Fesel Kamenik, Borut Paul Kerševan
RELATED-TO:fmf-AFLABS-URNIK:srecanje:6744
X-WR-TIMEZONE:Europe/Ljubljana
END:VEVENT
BEGIN:VEVENT
SUMMARY:Matematična fizika I (FIZ-2)\, Predavanja (P)
DTSTART;TZID=Europe/Ljubljana:20220214T120000
DTEND;TZID=Europe/Ljubljana:20220214T150000
DTSTAMP:20260421T172535Z
UID:fmf-AFLABS-URNIK:premaknjeno-srecanje:68058
ATTENDEE:2. letnik (Fizika, 1. stopnja)
CATEGORIES:Entry,Standard
COLOR:darkgreen
DESCRIPTION:Predmet: Matematična fizika I (FIZ-2)\, Predavanja (P)\nLetni
 ki: 2. letnik (Fizika\, 1. stopnja)\nIzvajalci: Borut Paul Kerševan\nPros
 tor: F2
LOCATION:F2
ORGANIZER:Borut Paul Kerševan
RELATED-TO:fmf-AFLABS-URNIK:srecanje:7107
X-WR-TIMEZONE:Europe/Ljubljana
END:VEVENT
BEGIN:VEVENT
SUMMARY:Matematična fizika I (FIZ-2)\, Predavanja (P)
DTSTART;TZID=Europe/Ljubljana:20220221T120000
DTEND;TZID=Europe/Ljubljana:20220221T150000
DTSTAMP:20260421T172535Z
UID:fmf-AFLABS-URNIK:premaknjeno-srecanje:68059
ATTENDEE:2. letnik (Fizika, 1. stopnja)
CATEGORIES:Entry,Standard
COLOR:darkgreen
DESCRIPTION:Predmet: Matematična fizika I (FIZ-2)\, Predavanja (P)\nLetni
 ki: 2. letnik (Fizika\, 1. stopnja)\nIzvajalci: Borut Paul Kerševan\nPros
 tor: F2
LOCATION:F2
ORGANIZER:Borut Paul Kerševan
RELATED-TO:fmf-AFLABS-URNIK:srecanje:7107
X-WR-TIMEZONE:Europe/Ljubljana
END:VEVENT
BEGIN:VEVENT
SUMMARY:Matematična fizika I (FIZ-2)\, Predavanja (P)
DTSTART;TZID=Europe/Ljubljana:20220228T120000
DTEND;TZID=Europe/Ljubljana:20220228T150000
DTSTAMP:20260421T172535Z
UID:fmf-AFLABS-URNIK:premaknjeno-srecanje:68060
ATTENDEE:2. letnik (Fizika, 1. stopnja)
CATEGORIES:Entry,Standard
COLOR:darkgreen
DESCRIPTION:Predmet: Matematična fizika I (FIZ-2)\, Predavanja (P)\nLetni
 ki: 2. letnik (Fizika\, 1. stopnja)\nIzvajalci: Borut Paul Kerševan\nPros
 tor: F2
LOCATION:F2
ORGANIZER:Borut Paul Kerševan
RELATED-TO:fmf-AFLABS-URNIK:srecanje:7107
X-WR-TIMEZONE:Europe/Ljubljana
END:VEVENT
BEGIN:VEVENT
SUMMARY:Fizika jedra in osnovnih delcev (FIZ-3\, MEF-1)\, Predavanja (P)
DTSTART;TZID=Europe/Ljubljana:20220215T110000
DTEND;TZID=Europe/Ljubljana:20220215T140000
DTSTAMP:20260421T172535Z
UID:fmf-AFLABS-URNIK:premaknjeno-srecanje:31065
ATTENDEE:1. letnik (Medicinska fizika, 2. stopnja)
ATTENDEE:3. letnik (Fizika, 1. stopnja)
CATEGORIES:Entry,Standard
COLOR:darkgreen
DESCRIPTION:Predmet: Fizika jedra in osnovnih delcev (FIZ-3\, MEF-1)\, Pre
 davanja (P)\nLetniki: 3. letnik (Fizika\, 1. stopnja)\, 1. letnik (Medicin
 ska fizika\, 2. stopnja)\nIzvajalci: Borut Paul Kerševan\nProstor: F4
LOCATION:F4
ORGANIZER:Borut Paul Kerševan
RELATED-TO:fmf-AFLABS-URNIK:srecanje:6941
X-WR-TIMEZONE:Europe/Ljubljana
END:VEVENT
BEGIN:VEVENT
SUMMARY:Fizika jedra in osnovnih delcev (FIZ-3\, MEF-1)\, Predavanja (P)
DTSTART;TZID=Europe/Ljubljana:20220222T110000
DTEND;TZID=Europe/Ljubljana:20220222T140000
DTSTAMP:20260421T172535Z
UID:fmf-AFLABS-URNIK:premaknjeno-srecanje:31066
ATTENDEE:1. letnik (Medicinska fizika, 2. stopnja)
ATTENDEE:3. letnik (Fizika, 1. stopnja)
CATEGORIES:Entry,Standard
COLOR:darkgreen
DESCRIPTION:Predmet: Fizika jedra in osnovnih delcev (FIZ-3\, MEF-1)\, Pre
 davanja (P)\nLetniki: 3. letnik (Fizika\, 1. stopnja)\, 1. letnik (Medicin
 ska fizika\, 2. stopnja)\nIzvajalci: Borut Paul Kerševan\nProstor: F4
LOCATION:F4
ORGANIZER:Borut Paul Kerševan
RELATED-TO:fmf-AFLABS-URNIK:srecanje:6941
X-WR-TIMEZONE:Europe/Ljubljana
END:VEVENT
END:VCALENDAR
