BEGIN:VCALENDAR
VERSION:2.0
PRODID:-//AFLabs urnik izvoz - fmf//aflabs.si//SI
DTSTAMP:20260419T124051Z
NAME:UL FMF urnik
REFRESH-INTERVAL:PT1H
SOURCE:https://urnik.fmf.uni-lj.si/teacher/113?day=2025-09-15&export=1
URL:https://urnik.fmf.uni-lj.si/teacher/113?day=2025-09-15&export=1
X-PUBLISHED-TTL:PT1H
X-WR-CALNAME:UL FMF urnik
X-WR-TIMEZONE:Europe/Ljubljana
BEGIN:VTIMEZONE
TZID:Europe/Ljubljana
BEGIN:DAYLIGHT
DTSTART:20260329T020000
RDATE:20260329T020000
RDATE:20270328T020000
TZNAME:CEST
TZOFFSETFROM:+0100
TZOFFSETTO:+0200
END:DAYLIGHT
BEGIN:STANDARD
DTSTART:20261025T030000
RDATE:20261025T030000
RDATE:20271031T030000
TZNAME:CET
TZOFFSETFROM:+0200
TZOFFSETTO:+0100
END:STANDARD
END:VTIMEZONE
BEGIN:VEVENT
SUMMARY:Matematično-fizikalni praktikum (FIZ-3)\, Seminar (S)
DTSTART;TZID=Europe/Ljubljana:20251002T120000
DTEND;TZID=Europe/Ljubljana:20251002T130000
DTSTAMP:20260419T124051Z
UID:fmf-AFLABS-URNIK:premaknjeno-srecanje:230749
ATTENDEE:3. letnik (Fizika, 1. stopnja)
CATEGORIES:Entry,Standard
COLOR:darkgreen
DESCRIPTION:Predmet: Matematično-fizikalni praktikum (FIZ-3)\, Seminar (S
 )\nLetniki: 3. letnik (Fizika\, 1. stopnja)\nIzvajalci: Borut Paul Keršev
 an\nProstor: F4
LOCATION:F4
ORGANIZER:Borut Paul Kerševan
RELATED-TO:fmf-AFLABS-URNIK:srecanje:16093
X-WR-TIMEZONE:Europe/Ljubljana
END:VEVENT
BEGIN:VEVENT
SUMMARY:Matematično-fizikalni praktikum (FIZ-3)\, Seminar (S)
DTSTART;TZID=Europe/Ljubljana:20251009T120000
DTEND;TZID=Europe/Ljubljana:20251009T130000
DTSTAMP:20260419T124051Z
UID:fmf-AFLABS-URNIK:premaknjeno-srecanje:230750
ATTENDEE:3. letnik (Fizika, 1. stopnja)
CATEGORIES:Entry,Standard
COLOR:darkgreen
DESCRIPTION:Predmet: Matematično-fizikalni praktikum (FIZ-3)\, Seminar (S
 )\nLetniki: 3. letnik (Fizika\, 1. stopnja)\nIzvajalci: Borut Paul Keršev
 an\nProstor: F4
LOCATION:F4
ORGANIZER:Borut Paul Kerševan
RELATED-TO:fmf-AFLABS-URNIK:srecanje:16093
X-WR-TIMEZONE:Europe/Ljubljana
END:VEVENT
BEGIN:VEVENT
SUMMARY:Matematično-fizikalni praktikum (FIZ-3)\, Seminar (S)
DTSTART;TZID=Europe/Ljubljana:20251016T120000
DTEND;TZID=Europe/Ljubljana:20251016T130000
DTSTAMP:20260419T124051Z
UID:fmf-AFLABS-URNIK:premaknjeno-srecanje:230751
ATTENDEE:3. letnik (Fizika, 1. stopnja)
CATEGORIES:Entry,Standard
COLOR:darkgreen
DESCRIPTION:Predmet: Matematično-fizikalni praktikum (FIZ-3)\, Seminar (S
 )\nLetniki: 3. letnik (Fizika\, 1. stopnja)\nIzvajalci: Borut Paul Keršev
 an\nProstor: F4
LOCATION:F4
ORGANIZER:Borut Paul Kerševan
RELATED-TO:fmf-AFLABS-URNIK:srecanje:16093
X-WR-TIMEZONE:Europe/Ljubljana
END:VEVENT
BEGIN:VEVENT
SUMMARY:Matematično-fizikalni praktikum (FIZ-3)\, Predavanja (P)
DTSTART;TZID=Europe/Ljubljana:20251002T100000
DTEND;TZID=Europe/Ljubljana:20251002T120000
DTSTAMP:20260419T124051Z
UID:fmf-AFLABS-URNIK:premaknjeno-srecanje:230791
ATTENDEE:3. letnik (Fizika, 1. stopnja)
CATEGORIES:Entry,Standard
COLOR:darkgreen
DESCRIPTION:Predmet: Matematično-fizikalni praktikum (FIZ-3)\, Predavanja
  (P)\nLetniki: 3. letnik (Fizika\, 1. stopnja)\nIzvajalci: Borut Paul Ker
 ševan\nProstor: F4
LOCATION:F4
ORGANIZER:Borut Paul Kerševan
RELATED-TO:fmf-AFLABS-URNIK:srecanje:16092
X-WR-TIMEZONE:Europe/Ljubljana
END:VEVENT
BEGIN:VEVENT
SUMMARY:Matematično-fizikalni praktikum (FIZ-3)\, Predavanja (P)
DTSTART;TZID=Europe/Ljubljana:20251009T100000
DTEND;TZID=Europe/Ljubljana:20251009T120000
DTSTAMP:20260419T124051Z
UID:fmf-AFLABS-URNIK:premaknjeno-srecanje:230792
ATTENDEE:3. letnik (Fizika, 1. stopnja)
CATEGORIES:Entry,Standard
COLOR:darkgreen
DESCRIPTION:Predmet: Matematično-fizikalni praktikum (FIZ-3)\, Predavanja
  (P)\nLetniki: 3. letnik (Fizika\, 1. stopnja)\nIzvajalci: Borut Paul Ker
 ševan\nProstor: F4
LOCATION:F4
ORGANIZER:Borut Paul Kerševan
RELATED-TO:fmf-AFLABS-URNIK:srecanje:16092
X-WR-TIMEZONE:Europe/Ljubljana
END:VEVENT
BEGIN:VEVENT
SUMMARY:Matematično-fizikalni praktikum (FIZ-3)\, Predavanja (P)
DTSTART;TZID=Europe/Ljubljana:20251016T100000
DTEND;TZID=Europe/Ljubljana:20251016T120000
DTSTAMP:20260419T124051Z
UID:fmf-AFLABS-URNIK:premaknjeno-srecanje:230793
ATTENDEE:3. letnik (Fizika, 1. stopnja)
CATEGORIES:Entry,Standard
COLOR:darkgreen
DESCRIPTION:Predmet: Matematično-fizikalni praktikum (FIZ-3)\, Predavanja
  (P)\nLetniki: 3. letnik (Fizika\, 1. stopnja)\nIzvajalci: Borut Paul Ker
 ševan\nProstor: F4
LOCATION:F4
ORGANIZER:Borut Paul Kerševan
RELATED-TO:fmf-AFLABS-URNIK:srecanje:16092
X-WR-TIMEZONE:Europe/Ljubljana
END:VEVENT
BEGIN:VEVENT
SUMMARY:Praktikum strojnega učenja v fiziki (FIZ-M2\, JET-1\, JET-2\, MEF
 -1\, MEF-2)\, Predavanja (P)
DTSTART;TZID=Europe/Ljubljana:20251003T130000
DTEND;TZID=Europe/Ljubljana:20251003T150000
DTSTAMP:20260419T124051Z
UID:fmf-AFLABS-URNIK:premaknjeno-srecanje:231049
ATTENDEE:1. letnik (Jedrska tehnika, 2. stopnja)
ATTENDEE:1. letnik (Medicinska fizika, 2. stopnja)
ATTENDEE:2. letnik (Fizika, 2. stopnja)
ATTENDEE:2. letnik (Jedrska tehnika, 2. stopnja)
ATTENDEE:2. letnik (Medicinska fizika, 2. stopnja)
CATEGORIES:Entry,Standard
COLOR:darkgreen
DESCRIPTION:Predmet: Praktikum strojnega učenja v fiziki (FIZ-M2\, JET-1\
 , JET-2\, MEF-1\, MEF-2)\, Predavanja (P)\nLetniki: 2. letnik (Fizika\, 2.
  stopnja)\, 1. letnik (Jedrska tehnika\, 2. stopnja)\, 2. letnik (Jedrska 
 tehnika\, 2. stopnja)\, 1. letnik (Medicinska fizika\, 2. stopnja)\, 2. le
 tnik (Medicinska fizika\, 2. stopnja)\nIzvajalci: Simon Čopar\, Borut Pau
 l Kerševan\nProstor: F5
LOCATION:F5
ORGANIZER:Simon Čopar, Borut Paul Kerševan
RELATED-TO:fmf-AFLABS-URNIK:srecanje:16219
X-WR-TIMEZONE:Europe/Ljubljana
END:VEVENT
BEGIN:VEVENT
SUMMARY:Praktikum strojnega učenja v fiziki (FIZ-M2\, JET-1\, JET-2\, MEF
 -1\, MEF-2)\, Predavanja (P)
DTSTART;TZID=Europe/Ljubljana:20251010T130000
DTEND;TZID=Europe/Ljubljana:20251010T150000
DTSTAMP:20260419T124051Z
UID:fmf-AFLABS-URNIK:premaknjeno-srecanje:231050
ATTENDEE:1. letnik (Jedrska tehnika, 2. stopnja)
ATTENDEE:1. letnik (Medicinska fizika, 2. stopnja)
ATTENDEE:2. letnik (Fizika, 2. stopnja)
ATTENDEE:2. letnik (Jedrska tehnika, 2. stopnja)
ATTENDEE:2. letnik (Medicinska fizika, 2. stopnja)
CATEGORIES:Entry,Standard
COLOR:darkgreen
DESCRIPTION:Predmet: Praktikum strojnega učenja v fiziki (FIZ-M2\, JET-1\
 , JET-2\, MEF-1\, MEF-2)\, Predavanja (P)\nLetniki: 2. letnik (Fizika\, 2.
  stopnja)\, 1. letnik (Jedrska tehnika\, 2. stopnja)\, 2. letnik (Jedrska 
 tehnika\, 2. stopnja)\, 1. letnik (Medicinska fizika\, 2. stopnja)\, 2. le
 tnik (Medicinska fizika\, 2. stopnja)\nIzvajalci: Simon Čopar\, Borut Pau
 l Kerševan\nProstor: F5
LOCATION:F5
ORGANIZER:Simon Čopar, Borut Paul Kerševan
RELATED-TO:fmf-AFLABS-URNIK:srecanje:16219
X-WR-TIMEZONE:Europe/Ljubljana
END:VEVENT
BEGIN:VEVENT
SUMMARY:Praktikum strojnega učenja v fiziki (FIZ-M2\, JET-1\, JET-2\, MEF
 -1\, MEF-2)\, Predavanja (P)
DTSTART;TZID=Europe/Ljubljana:20251017T130000
DTEND;TZID=Europe/Ljubljana:20251017T150000
DTSTAMP:20260419T124051Z
UID:fmf-AFLABS-URNIK:premaknjeno-srecanje:231051
ATTENDEE:1. letnik (Jedrska tehnika, 2. stopnja)
ATTENDEE:1. letnik (Medicinska fizika, 2. stopnja)
ATTENDEE:2. letnik (Fizika, 2. stopnja)
ATTENDEE:2. letnik (Jedrska tehnika, 2. stopnja)
ATTENDEE:2. letnik (Medicinska fizika, 2. stopnja)
CATEGORIES:Entry,Standard
COLOR:darkgreen
DESCRIPTION:Predmet: Praktikum strojnega učenja v fiziki (FIZ-M2\, JET-1\
 , JET-2\, MEF-1\, MEF-2)\, Predavanja (P)\nLetniki: 2. letnik (Fizika\, 2.
  stopnja)\, 1. letnik (Jedrska tehnika\, 2. stopnja)\, 2. letnik (Jedrska 
 tehnika\, 2. stopnja)\, 1. letnik (Medicinska fizika\, 2. stopnja)\, 2. le
 tnik (Medicinska fizika\, 2. stopnja)\nIzvajalci: Simon Čopar\, Borut Pau
 l Kerševan\nProstor: F5
LOCATION:F5
ORGANIZER:Simon Čopar, Borut Paul Kerševan
RELATED-TO:fmf-AFLABS-URNIK:srecanje:16219
X-WR-TIMEZONE:Europe/Ljubljana
END:VEVENT
BEGIN:VEVENT
SUMMARY:Fizika (FRI) ()\, Predavanja (P)
DTSTART;TZID=Europe/Ljubljana:20251007T140000
DTEND;TZID=Europe/Ljubljana:20251007T170000
DTSTAMP:20260419T124051Z
UID:fmf-AFLABS-URNIK:premaknjeno-srecanje:217509
CATEGORIES:Entry,Standard
COLOR:darkgreen
DESCRIPTION:Predmet: Fizika (FRI) ()\, Predavanja (P)\nLetniki: \nIzvajalc
 i: Borut Paul Kerševan\nProstor: VFP
LOCATION:VFP
ORGANIZER:Borut Paul Kerševan
RELATED-TO:fmf-AFLABS-URNIK:srecanje:15906
X-WR-TIMEZONE:Europe/Ljubljana
END:VEVENT
BEGIN:VEVENT
SUMMARY:Fizika (FRI) ()\, Predavanja (P)
DTSTART;TZID=Europe/Ljubljana:20251014T140000
DTEND;TZID=Europe/Ljubljana:20251014T170000
DTSTAMP:20260419T124051Z
UID:fmf-AFLABS-URNIK:premaknjeno-srecanje:217510
CATEGORIES:Entry,Standard
COLOR:darkgreen
DESCRIPTION:Predmet: Fizika (FRI) ()\, Predavanja (P)\nLetniki: \nIzvajalc
 i: Borut Paul Kerševan\nProstor: VFP
LOCATION:VFP
ORGANIZER:Borut Paul Kerševan
RELATED-TO:fmf-AFLABS-URNIK:srecanje:15906
X-WR-TIMEZONE:Europe/Ljubljana
END:VEVENT
BEGIN:VEVENT
SUMMARY:Jedra\, kvarki in leptoni (FIZ-M1)\, Predavanja (P)
DTSTART;TZID=Europe/Ljubljana:20251007T080000
DTEND;TZID=Europe/Ljubljana:20251007T110000
DTSTAMP:20260419T124051Z
UID:fmf-AFLABS-URNIK:premaknjeno-srecanje:218956
ATTENDEE:1. letnik (Fizika, 2. stopnja)
CATEGORIES:Entry,Standard
COLOR:darkgreen
DESCRIPTION:Predmet: Jedra\, kvarki in leptoni (FIZ-M1)\, Predavanja (P)\n
 Letniki: 1. letnik (Fizika\, 2. stopnja)\nIzvajalci: Borut Paul Kerševan\
 nProstor: F4
LOCATION:F4
ORGANIZER:Borut Paul Kerševan
RELATED-TO:fmf-AFLABS-URNIK:srecanje:15999
X-WR-TIMEZONE:Europe/Ljubljana
END:VEVENT
BEGIN:VEVENT
SUMMARY:Jedra\, kvarki in leptoni (FIZ-M1)\, Predavanja (P)
DTSTART;TZID=Europe/Ljubljana:20251014T080000
DTEND;TZID=Europe/Ljubljana:20251014T110000
DTSTAMP:20260419T124051Z
UID:fmf-AFLABS-URNIK:premaknjeno-srecanje:218957
ATTENDEE:1. letnik (Fizika, 2. stopnja)
CATEGORIES:Entry,Standard
COLOR:darkgreen
DESCRIPTION:Predmet: Jedra\, kvarki in leptoni (FIZ-M1)\, Predavanja (P)\n
 Letniki: 1. letnik (Fizika\, 2. stopnja)\nIzvajalci: Borut Paul Kerševan\
 nProstor: F4
LOCATION:F4
ORGANIZER:Borut Paul Kerševan
RELATED-TO:fmf-AFLABS-URNIK:srecanje:15999
X-WR-TIMEZONE:Europe/Ljubljana
END:VEVENT
BEGIN:VEVENT
SUMMARY:COMETA COST poletna šola
DTSTART;TZID=Europe/Ljubljana:20250701T080000
DTEND;TZID=Europe/Ljubljana:20250701T180000
DTSTAMP:20260419T124051Z
UID:fmf-AFLABS-URNIK:rezervacija:20288
CATEGORIES:Reservation
COLOR:royalblue
DESCRIPTION:Predmeti: \nLetniki: \nIzvajalci: Jernej Fesel Kamenik\, Borut
  Paul Kerševan\nProstori: F1\, F2
LOCATION:F1\, F2
ORGANIZER:Jernej Fesel Kamenik, Borut Paul Kerševan
X-WR-TIMEZONE:Europe/Ljubljana
END:VEVENT
BEGIN:VEVENT
SUMMARY:Ustni izpit FJOD
DTSTART;TZID=Europe/Ljubljana:20250912T100000
DTEND;TZID=Europe/Ljubljana:20250912T150000
DTSTAMP:20260419T124051Z
UID:fmf-AFLABS-URNIK:rezervacija:23759
ATTENDEE:1. letnik (Medicinska fizika, 2. stopnja)
ATTENDEE:3. letnik (Fizika, 1. stopnja)
CATEGORIES:Reservation
COLOR:royalblue
DESCRIPTION:Predmeti: Fizika jedra in osnovnih delcev (FIZ-3\, MEF-1)\nLet
 niki: 3. letnik (Fizika\, 1. stopnja)\, 1. letnik (Medicinska fizika\, 2. 
 stopnja)\nIzvajalci: Borut Paul Kerševan\nProstori: F4
LOCATION:F4
ORGANIZER:Borut Paul Kerševan
X-WR-TIMEZONE:Europe/Ljubljana
END:VEVENT
BEGIN:VEVENT
SUMMARY:ATLAS Collaboration Software & Computing Week
DTSTART;TZID=Europe/Ljubljana:20250924T080000
DTEND;TZID=Europe/Ljubljana:20250924T200000
DTSTAMP:20260419T124051Z
UID:fmf-AFLABS-URNIK:rezervacija:24216
CATEGORIES:Reservation
COLOR:royalblue
DESCRIPTION:Predmeti: \nLetniki: \nIzvajalci: Borut Paul Kerševan\, Miha 
 Muškinja\nProstori: F1\, MFP
LOCATION:F1\, MFP
ORGANIZER:Borut Paul Kerševan, Miha Muškinja
X-WR-TIMEZONE:Europe/Ljubljana
END:VEVENT
BEGIN:VEVENT
SUMMARY:COMETA COST poletna šola
DTSTART;TZID=Europe/Ljubljana:20250627T080000
DTEND;TZID=Europe/Ljubljana:20250627T180000
DTSTAMP:20260419T124051Z
UID:fmf-AFLABS-URNIK:rezervacija:20286
CATEGORIES:Reservation
COLOR:royalblue
DESCRIPTION:Predmeti: \nLetniki: \nIzvajalci: Jernej Fesel Kamenik\, Borut
  Paul Kerševan\nProstori: F1\, F2
LOCATION:F1\, F2
ORGANIZER:Jernej Fesel Kamenik, Borut Paul Kerševan
X-WR-TIMEZONE:Europe/Ljubljana
END:VEVENT
BEGIN:VEVENT
SUMMARY:ATLAS Collaboration Software & Computing Week
DTSTART;TZID=Europe/Ljubljana:20250925T080000
DTEND;TZID=Europe/Ljubljana:20250925T200000
DTSTAMP:20260419T124051Z
UID:fmf-AFLABS-URNIK:rezervacija:24217
CATEGORIES:Reservation
COLOR:royalblue
DESCRIPTION:Predmeti: \nLetniki: \nIzvajalci: Borut Paul Kerševan\, Miha 
 Muškinja\nProstori: F1\, MFP
LOCATION:F1\, MFP
ORGANIZER:Borut Paul Kerševan, Miha Muškinja
X-WR-TIMEZONE:Europe/Ljubljana
END:VEVENT
BEGIN:VEVENT
SUMMARY:ATLAS Collaboration Software & Computing Week
DTSTART;TZID=Europe/Ljubljana:20250923T080000
DTEND;TZID=Europe/Ljubljana:20250923T200000
DTSTAMP:20260419T124051Z
UID:fmf-AFLABS-URNIK:rezervacija:24215
CATEGORIES:Reservation
COLOR:royalblue
DESCRIPTION:Predmeti: \nLetniki: \nIzvajalci: Borut Paul Kerševan\, Miha 
 Muškinja\nProstori: F1\, MFP
LOCATION:F1\, MFP
ORGANIZER:Borut Paul Kerševan, Miha Muškinja
X-WR-TIMEZONE:Europe/Ljubljana
END:VEVENT
BEGIN:VEVENT
SUMMARY:COMETA COST poletna šola
DTSTART;TZID=Europe/Ljubljana:20250702T080000
DTEND;TZID=Europe/Ljubljana:20250702T180000
DTSTAMP:20260419T124051Z
UID:fmf-AFLABS-URNIK:rezervacija:20289
CATEGORIES:Reservation
COLOR:royalblue
DESCRIPTION:Predmeti: \nLetniki: \nIzvajalci: Jernej Fesel Kamenik\, Borut
  Paul Kerševan\nProstori: F1\, F2
LOCATION:F1\, F2
ORGANIZER:Jernej Fesel Kamenik, Borut Paul Kerševan
X-WR-TIMEZONE:Europe/Ljubljana
END:VEVENT
BEGIN:VEVENT
SUMMARY:COMETA COST poletna šola
DTSTART;TZID=Europe/Ljubljana:20250626T080000
DTEND;TZID=Europe/Ljubljana:20250626T180000
DTSTAMP:20260419T124051Z
UID:fmf-AFLABS-URNIK:rezervacija:20285
CATEGORIES:Reservation
COLOR:royalblue
DESCRIPTION:Predmeti: \nLetniki: \nIzvajalci: Jernej Fesel Kamenik\, Borut
  Paul Kerševan\nProstori: F1\, F2
LOCATION:F1\, F2
ORGANIZER:Jernej Fesel Kamenik, Borut Paul Kerševan
X-WR-TIMEZONE:Europe/Ljubljana
END:VEVENT
BEGIN:VEVENT
SUMMARY:COMETA COST poletna šola
DTSTART;TZID=Europe/Ljubljana:20250630T080000
DTEND;TZID=Europe/Ljubljana:20250630T180000
DTSTAMP:20260419T124051Z
UID:fmf-AFLABS-URNIK:rezervacija:20287
CATEGORIES:Reservation
COLOR:royalblue
DESCRIPTION:Predmeti: \nLetniki: \nIzvajalci: Jernej Fesel Kamenik\, Borut
  Paul Kerševan\nProstori: F1\, F2
LOCATION:F1\, F2
ORGANIZER:Jernej Fesel Kamenik, Borut Paul Kerševan
X-WR-TIMEZONE:Europe/Ljubljana
END:VEVENT
BEGIN:VEVENT
SUMMARY:Ustni izpit FJOD
DTSTART;TZID=Europe/Ljubljana:20250822T100000
DTEND;TZID=Europe/Ljubljana:20250822T150000
DTSTAMP:20260419T124051Z
UID:fmf-AFLABS-URNIK:rezervacija:23516
ATTENDEE:1. letnik (Medicinska fizika, 2. stopnja)
ATTENDEE:3. letnik (Fizika, 1. stopnja)
CATEGORIES:Reservation
COLOR:royalblue
DESCRIPTION:Predmeti: Fizika jedra in osnovnih delcev (FIZ-3\, MEF-1)\nLet
 niki: 3. letnik (Fizika\, 1. stopnja)\, 1. letnik (Medicinska fizika\, 2. 
 stopnja)\nIzvajalci: Borut Paul Kerševan\nProstori: F3
LOCATION:F3
ORGANIZER:Borut Paul Kerševan
X-WR-TIMEZONE:Europe/Ljubljana
END:VEVENT
BEGIN:VEVENT
SUMMARY:ATLAS Collaboration Software & Computing Week
DTSTART;TZID=Europe/Ljubljana:20250926T080000
DTEND;TZID=Europe/Ljubljana:20250926T200000
DTSTAMP:20260419T124051Z
UID:fmf-AFLABS-URNIK:rezervacija:24218
CATEGORIES:Reservation
COLOR:royalblue
DESCRIPTION:Predmeti: \nLetniki: \nIzvajalci: Borut Paul Kerševan\, Miha 
 Muškinja\nProstori: F1\, MFP
LOCATION:F1\, MFP
ORGANIZER:Borut Paul Kerševan, Miha Muškinja
X-WR-TIMEZONE:Europe/Ljubljana
END:VEVENT
BEGIN:VEVENT
SUMMARY:FJOD ustni izpit
DTSTART;TZID=Europe/Ljubljana:20250620T100000
DTEND;TZID=Europe/Ljubljana:20250620T150000
DTSTAMP:20260419T124051Z
UID:fmf-AFLABS-URNIK:rezervacija:22773
ATTENDEE:1. letnik (Medicinska fizika, 2. stopnja)
ATTENDEE:3. letnik (Fizika, 1. stopnja)
CATEGORIES:Reservation
COLOR:royalblue
DESCRIPTION:Predmeti: Fizika jedra in osnovnih delcev (FIZ-3\, MEF-1)\nLet
 niki: 3. letnik (Fizika\, 1. stopnja)\, 1. letnik (Medicinska fizika\, 2. 
 stopnja)\nIzvajalci: Borut Paul Kerševan\nProstori: F3
LOCATION:F3
ORGANIZER:Borut Paul Kerševan
X-WR-TIMEZONE:Europe/Ljubljana
END:VEVENT
BEGIN:VEVENT
SUMMARY:FJOD ustni izpit
DTSTART;TZID=Europe/Ljubljana:20250710T100000
DTEND;TZID=Europe/Ljubljana:20250710T150000
DTSTAMP:20260419T124051Z
UID:fmf-AFLABS-URNIK:rezervacija:22775
ATTENDEE:1. letnik (Medicinska fizika, 2. stopnja)
ATTENDEE:3. letnik (Fizika, 1. stopnja)
CATEGORIES:Reservation
COLOR:royalblue
DESCRIPTION:Predmeti: Fizika jedra in osnovnih delcev (FIZ-3\, MEF-1)\nLet
 niki: 3. letnik (Fizika\, 1. stopnja)\, 1. letnik (Medicinska fizika\, 2. 
 stopnja)\nIzvajalci: Borut Paul Kerševan\nProstori: F3
LOCATION:F3
ORGANIZER:Borut Paul Kerševan
X-WR-TIMEZONE:Europe/Ljubljana
END:VEVENT
BEGIN:VEVENT
SUMMARY:Ustni izpit FJOD
DTSTART;TZID=Europe/Ljubljana:20250902T100000
DTEND;TZID=Europe/Ljubljana:20250902T150000
DTSTAMP:20260419T124051Z
UID:fmf-AFLABS-URNIK:rezervacija:23518
ATTENDEE:1. letnik (Medicinska fizika, 2. stopnja)
ATTENDEE:3. letnik (Fizika, 1. stopnja)
CATEGORIES:Reservation
COLOR:royalblue
DESCRIPTION:Predmeti: Fizika jedra in osnovnih delcev (FIZ-3\, MEF-1)\nLet
 niki: 3. letnik (Fizika\, 1. stopnja)\, 1. letnik (Medicinska fizika\, 2. 
 stopnja)\nIzvajalci: Borut Paul Kerševan\nProstori: F4
LOCATION:F4
ORGANIZER:Borut Paul Kerševan
X-WR-TIMEZONE:Europe/Ljubljana
END:VEVENT
BEGIN:VEVENT
SUMMARY:FJOD ustni izpit
DTSTART;TZID=Europe/Ljubljana:20250630T100000
DTEND;TZID=Europe/Ljubljana:20250630T150000
DTSTAMP:20260419T124051Z
UID:fmf-AFLABS-URNIK:rezervacija:22774
ATTENDEE:1. letnik (Medicinska fizika, 2. stopnja)
ATTENDEE:3. letnik (Fizika, 1. stopnja)
CATEGORIES:Reservation
COLOR:royalblue
DESCRIPTION:Predmeti: Fizika jedra in osnovnih delcev (FIZ-3\, MEF-1)\nLet
 niki: 3. letnik (Fizika\, 1. stopnja)\, 1. letnik (Medicinska fizika\, 2. 
 stopnja)\nIzvajalci: Borut Paul Kerševan\nProstori: F3
LOCATION:F3
ORGANIZER:Borut Paul Kerševan
X-WR-TIMEZONE:Europe/Ljubljana
END:VEVENT
BEGIN:VEVENT
SUMMARY:ATLAS Collaboration Software & Computing Week
DTSTART;TZID=Europe/Ljubljana:20250922T080000
DTEND;TZID=Europe/Ljubljana:20250922T200000
DTSTAMP:20260419T124051Z
UID:fmf-AFLABS-URNIK:rezervacija:24214
CATEGORIES:Reservation
COLOR:royalblue
DESCRIPTION:Predmeti: \nLetniki: \nIzvajalci: Borut Paul Kerševan\, Miha 
 Muškinja\nProstori: F1\, MFP
LOCATION:F1\, MFP
ORGANIZER:Borut Paul Kerševan, Miha Muškinja
X-WR-TIMEZONE:Europe/Ljubljana
END:VEVENT
END:VCALENDAR
