BEGIN:VCALENDAR
VERSION:2.0
PRODID:-//AFLabs urnik izvoz - fmf//aflabs.si//SI
DTSTAMP:20260425T124503Z
NAME:UL FMF urnik
REFRESH-INTERVAL:PT1H
SOURCE:https://urnik.fmf.uni-lj.si/teacher/1147?day=2025-08-04&export=1
URL:https://urnik.fmf.uni-lj.si/teacher/1147?day=2025-08-04&export=1
X-PUBLISHED-TTL:PT1H
X-WR-CALNAME:UL FMF urnik
X-WR-TIMEZONE:Europe/Ljubljana
BEGIN:VTIMEZONE
TZID:Europe/Ljubljana
BEGIN:DAYLIGHT
DTSTART:20260329T020000
RDATE:20260329T020000
RDATE:20270328T020000
TZNAME:CEST
TZOFFSETFROM:+0100
TZOFFSETTO:+0200
END:DAYLIGHT
BEGIN:STANDARD
DTSTART:20261025T030000
RDATE:20261025T030000
RDATE:20271031T030000
TZNAME:CET
TZOFFSETFROM:+0200
TZOFFSETTO:+0100
END:STANDARD
END:VTIMEZONE
BEGIN:VEVENT
SUMMARY:Linearna algebra APF 3. računski izpit
DTSTART;TZID=Europe/Ljubljana:20250616T090000
DTEND;TZID=Europe/Ljubljana:20250616T110000
DTSTAMP:20260425T124503Z
UID:fmf-AFLABS-URNIK:rezervacija:22752
ATTENDEE:1. letnik (Aplikativna fizika)
CATEGORIES:Reservation
COLOR:royalblue
DESCRIPTION:Predmeti: Linearna algebra APF (APF-1)\nLetniki: 1. letnik (Ap
 likativna fizika)\nIzvajalci: Domen Zevnik\, Domen Zevnik\nProstori: Kuš
 čerjev seminar
LOCATION:Kuščerjev seminar
ORGANIZER:Domen Zevnik, Domen Zevnik
X-WR-TIMEZONE:Europe/Ljubljana
END:VEVENT
END:VCALENDAR
