BEGIN:VCALENDAR
VERSION:2.0
PRODID:-//AFLabs urnik izvoz - fmf//aflabs.si//SI
DTSTAMP:20260424T104241Z
NAME:UL FMF urnik
REFRESH-INTERVAL:PT1H
SOURCE:https://urnik.fmf.uni-lj.si/teacher/1148?day=2023-08-21&export=1
URL:https://urnik.fmf.uni-lj.si/teacher/1148?day=2023-08-21&export=1
X-PUBLISHED-TTL:PT1H
X-WR-CALNAME:UL FMF urnik
X-WR-TIMEZONE:Europe/Ljubljana
BEGIN:VTIMEZONE
TZID:Europe/Ljubljana
BEGIN:DAYLIGHT
DTSTART:20260329T020000
RDATE:20260329T020000
RDATE:20270328T020000
TZNAME:CEST
TZOFFSETFROM:+0100
TZOFFSETTO:+0200
END:DAYLIGHT
BEGIN:STANDARD
DTSTART:20261025T030000
RDATE:20261025T030000
RDATE:20271031T030000
TZNAME:CET
TZOFFSETFROM:+0200
TZOFFSETTO:+0100
END:STANDARD
END:VTIMEZONE
BEGIN:VEVENT
SUMMARY:Rezervacija
DTSTART;TZID=Europe/Ljubljana:20230818T090000
DTEND;TZID=Europe/Ljubljana:20230818T110000
DTSTAMP:20260424T104241Z
UID:fmf-AFLABS-URNIK:rezervacija:12815
CATEGORIES:Reservation
COLOR:royalblue
DESCRIPTION:Predmeti: Fizika (FKKT Teh. varnost) ()\nLetniki: \nIzvajalci:
  Jaka Zaplotnik\nProstori: F7
LOCATION:F7
ORGANIZER:Jaka Zaplotnik
X-WR-TIMEZONE:Europe/Ljubljana
END:VEVENT
BEGIN:VEVENT
SUMMARY:Rezervacija
DTSTART;TZID=Europe/Ljubljana:20230818T110000
DTEND;TZID=Europe/Ljubljana:20230818T140000
DTSTAMP:20260424T104241Z
UID:fmf-AFLABS-URNIK:rezervacija:12824
CATEGORIES:Reservation
COLOR:royalblue
DESCRIPTION:Predmeti: Fizika (FKKT Teh. varnost) ()\nLetniki: \nIzvajalci:
  Jaka Zaplotnik\nProstori: F7
LOCATION:F7
ORGANIZER:Jaka Zaplotnik
X-WR-TIMEZONE:Europe/Ljubljana
END:VEVENT
BEGIN:VEVENT
SUMMARY:Rezervacija
DTSTART;TZID=Europe/Ljubljana:20230905T100000
DTEND;TZID=Europe/Ljubljana:20230905T120000
DTSTAMP:20260424T104241Z
UID:fmf-AFLABS-URNIK:rezervacija:13146
CATEGORIES:Reservation
COLOR:royalblue
DESCRIPTION:Predmeti: Seminar skupine za fiziko mehke in delno urejene sno
 vi ()\nLetniki: \nIzvajalci: Jaka Zaplotnik\nProstori: F7
LOCATION:F7
ORGANIZER:Jaka Zaplotnik
X-WR-TIMEZONE:Europe/Ljubljana
END:VEVENT
BEGIN:VEVENT
SUMMARY:Rezervacija
DTSTART;TZID=Europe/Ljubljana:20230912T100000
DTEND;TZID=Europe/Ljubljana:20230912T120000
DTSTAMP:20260424T104241Z
UID:fmf-AFLABS-URNIK:rezervacija:13270
CATEGORIES:Reservation
COLOR:royalblue
DESCRIPTION:Predmeti: Seminar skupine za fiziko mehke in delno urejene sno
 vi ()\nLetniki: \nIzvajalci: Jaka Zaplotnik\nProstori: F7
LOCATION:F7
ORGANIZER:Jaka Zaplotnik
X-WR-TIMEZONE:Europe/Ljubljana
END:VEVENT
BEGIN:VEVENT
SUMMARY:Rezervacija
DTSTART;TZID=Europe/Ljubljana:20230919T100000
DTEND;TZID=Europe/Ljubljana:20230919T120000
DTSTAMP:20260424T104241Z
UID:fmf-AFLABS-URNIK:rezervacija:13320
CATEGORIES:Reservation
COLOR:royalblue
DESCRIPTION:Predmeti: Seminar skupine za fiziko mehke in delno urejene sno
 vi ()\nLetniki: \nIzvajalci: Jaka Zaplotnik\nProstori: F7
LOCATION:F7
ORGANIZER:Jaka Zaplotnik
X-WR-TIMEZONE:Europe/Ljubljana
END:VEVENT
END:VCALENDAR
