BEGIN:VCALENDAR
VERSION:2.0
PRODID:-//AFLabs urnik izvoz - fmf//aflabs.si//SI
DTSTAMP:20260425T110259Z
NAME:UL FMF urnik
REFRESH-INTERVAL:PT1H
SOURCE:https://urnik.fmf.uni-lj.si/teacher/1148?day=2025-02-10&export=1
URL:https://urnik.fmf.uni-lj.si/teacher/1148?day=2025-02-10&export=1
X-PUBLISHED-TTL:PT1H
X-WR-CALNAME:UL FMF urnik
X-WR-TIMEZONE:Europe/Ljubljana
BEGIN:VTIMEZONE
TZID:Europe/Ljubljana
BEGIN:DAYLIGHT
DTSTART:20260329T020000
RDATE:20260329T020000
RDATE:20270328T020000
TZNAME:CEST
TZOFFSETFROM:+0100
TZOFFSETTO:+0200
END:DAYLIGHT
BEGIN:STANDARD
DTSTART:20261025T030000
RDATE:20261025T030000
RDATE:20271031T030000
TZNAME:CET
TZOFFSETFROM:+0200
TZOFFSETTO:+0100
END:STANDARD
END:VTIMEZONE
BEGIN:VEVENT
SUMMARY:Fizika (FKKT Teh. varnost) ()\, Vaje (V)
DTSTART;TZID=Europe/Ljubljana:20250217T150000
DTEND;TZID=Europe/Ljubljana:20250217T170000
DTSTAMP:20260425T110259Z
UID:fmf-AFLABS-URNIK:premaknjeno-srecanje:199688
CATEGORIES:Entry,Standard
COLOR:darkgreen
DESCRIPTION:Predmet: Fizika (FKKT Teh. varnost) ()\, Vaje (V)\nLetniki: \n
 Izvajalci: Jaka Zaplotnik\nProstor: F7
LOCATION:F7
ORGANIZER:Jaka Zaplotnik
RELATED-TO:fmf-AFLABS-URNIK:srecanje:14793
X-WR-TIMEZONE:Europe/Ljubljana
END:VEVENT
BEGIN:VEVENT
SUMMARY:Fizika (FKKT Teh. varnost) ()\, Vaje (V)
DTSTART;TZID=Europe/Ljubljana:20250224T150000
DTEND;TZID=Europe/Ljubljana:20250224T170000
DTSTAMP:20260425T110259Z
UID:fmf-AFLABS-URNIK:premaknjeno-srecanje:199689
CATEGORIES:Entry,Standard
COLOR:darkgreen
DESCRIPTION:Predmet: Fizika (FKKT Teh. varnost) ()\, Vaje (V)\nLetniki: \n
 Izvajalci: Jaka Zaplotnik\nProstor: F7
LOCATION:F7
ORGANIZER:Jaka Zaplotnik
RELATED-TO:fmf-AFLABS-URNIK:srecanje:14793
X-WR-TIMEZONE:Europe/Ljubljana
END:VEVENT
BEGIN:VEVENT
SUMMARY:Fizika (FKKT Teh. varnost) ()\, Vaje (V)
DTSTART;TZID=Europe/Ljubljana:20250303T150000
DTEND;TZID=Europe/Ljubljana:20250303T170000
DTSTAMP:20260425T110259Z
UID:fmf-AFLABS-URNIK:premaknjeno-srecanje:199690
CATEGORIES:Entry,Standard
COLOR:darkgreen
DESCRIPTION:Predmet: Fizika (FKKT Teh. varnost) ()\, Vaje (V)\nLetniki: \n
 Izvajalci: Jaka Zaplotnik\nProstor: F7
LOCATION:F7
ORGANIZER:Jaka Zaplotnik
RELATED-TO:fmf-AFLABS-URNIK:srecanje:14793
X-WR-TIMEZONE:Europe/Ljubljana
END:VEVENT
BEGIN:VEVENT
SUMMARY:Fizika (FKKT Teh. varnost) ()\, Vaje (V)
DTSTART;TZID=Europe/Ljubljana:20250310T150000
DTEND;TZID=Europe/Ljubljana:20250310T170000
DTSTAMP:20260425T110259Z
UID:fmf-AFLABS-URNIK:premaknjeno-srecanje:199691
CATEGORIES:Entry,Standard
COLOR:darkgreen
DESCRIPTION:Predmet: Fizika (FKKT Teh. varnost) ()\, Vaje (V)\nLetniki: \n
 Izvajalci: Jaka Zaplotnik\nProstor: F7
LOCATION:F7
ORGANIZER:Jaka Zaplotnik
RELATED-TO:fmf-AFLABS-URNIK:srecanje:14793
X-WR-TIMEZONE:Europe/Ljubljana
END:VEVENT
BEGIN:VEVENT
SUMMARY:Fizika (FKKT Teh. varnost) ()\, Vaje (V)
DTSTART;TZID=Europe/Ljubljana:20250317T150000
DTEND;TZID=Europe/Ljubljana:20250317T170000
DTSTAMP:20260425T110259Z
UID:fmf-AFLABS-URNIK:premaknjeno-srecanje:199692
CATEGORIES:Entry,Standard
COLOR:darkgreen
DESCRIPTION:Predmet: Fizika (FKKT Teh. varnost) ()\, Vaje (V)\nLetniki: \n
 Izvajalci: Jaka Zaplotnik\nProstor: F7
LOCATION:F7
ORGANIZER:Jaka Zaplotnik
RELATED-TO:fmf-AFLABS-URNIK:srecanje:14793
X-WR-TIMEZONE:Europe/Ljubljana
END:VEVENT
BEGIN:VEVENT
SUMMARY:1. popravni kolokvij
DTSTART;TZID=Europe/Ljubljana:20250127T150000
DTEND;TZID=Europe/Ljubljana:20250127T170000
DTSTAMP:20260425T110259Z
UID:fmf-AFLABS-URNIK:rezervacija:19629
CATEGORIES:Reservation
COLOR:royalblue
DESCRIPTION:Predmeti: Fizika (FKKT Teh. varnost) ()\nLetniki: \nIzvajalci:
  Jaka Zaplotnik\nProstori: F5
LOCATION:F5
ORGANIZER:Jaka Zaplotnik
X-WR-TIMEZONE:Europe/Ljubljana
END:VEVENT
BEGIN:VEVENT
SUMMARY:2. popravni kolokvij
DTSTART;TZID=Europe/Ljubljana:20250207T150000
DTEND;TZID=Europe/Ljubljana:20250207T170000
DTSTAMP:20260425T110259Z
UID:fmf-AFLABS-URNIK:rezervacija:19630
CATEGORIES:Reservation
COLOR:royalblue
DESCRIPTION:Predmeti: Fizika (FKKT Teh. varnost) ()\nLetniki: \nIzvajalci:
  Jaka Zaplotnik\nProstori: F7
LOCATION:F7
ORGANIZER:Jaka Zaplotnik
X-WR-TIMEZONE:Europe/Ljubljana
END:VEVENT
END:VCALENDAR
