BEGIN:VCALENDAR
VERSION:2.0
PRODID:-//AFLabs urnik izvoz - fmf//aflabs.si//SI
DTSTAMP:20260423T035106Z
NAME:UL FMF urnik
REFRESH-INTERVAL:PT1H
SOURCE:https://urnik.fmf.uni-lj.si/teacher/1148?day=2026-02-02&export=1
URL:https://urnik.fmf.uni-lj.si/teacher/1148?day=2026-02-02&export=1
X-PUBLISHED-TTL:PT1H
X-WR-CALNAME:UL FMF urnik
X-WR-TIMEZONE:Europe/Ljubljana
BEGIN:VTIMEZONE
TZID:Europe/Ljubljana
BEGIN:DAYLIGHT
DTSTART:20260329T020000
RDATE:20260329T020000
RDATE:20270328T020000
TZNAME:CEST
TZOFFSETFROM:+0100
TZOFFSETTO:+0200
END:DAYLIGHT
BEGIN:STANDARD
DTSTART:20261025T030000
RDATE:20261025T030000
RDATE:20271031T030000
TZNAME:CET
TZOFFSETFROM:+0200
TZOFFSETTO:+0100
END:STANDARD
END:VTIMEZONE
BEGIN:VEVENT
SUMMARY:Fizika (FKKT Teh. varnost) ()\, Vaje (V)
DTSTART;TZID=Europe/Ljubljana:20260216T150000
DTEND;TZID=Europe/Ljubljana:20260216T170000
DTSTAMP:20260423T035106Z
UID:fmf-AFLABS-URNIK:premaknjeno-srecanje:252074
CATEGORIES:Entry,Standard
COLOR:darkgreen
DESCRIPTION:Predmet: Fizika (FKKT Teh. varnost) ()\, Vaje (V)\nLetniki: \n
 Izvajalci: Jaka Zaplotnik\nProstor: F7
LOCATION:F7
ORGANIZER:Jaka Zaplotnik
RELATED-TO:fmf-AFLABS-URNIK:srecanje:16689
X-WR-TIMEZONE:Europe/Ljubljana
END:VEVENT
BEGIN:VEVENT
SUMMARY:Fizika (FKKT Teh. varnost) ()\, Vaje (V)
DTSTART;TZID=Europe/Ljubljana:20260223T150000
DTEND;TZID=Europe/Ljubljana:20260223T170000
DTSTAMP:20260423T035106Z
UID:fmf-AFLABS-URNIK:premaknjeno-srecanje:252075
CATEGORIES:Entry,Standard
COLOR:darkgreen
DESCRIPTION:Predmet: Fizika (FKKT Teh. varnost) ()\, Vaje (V)\nLetniki: \n
 Izvajalci: Jaka Zaplotnik\nProstor: F7
LOCATION:F7
ORGANIZER:Jaka Zaplotnik
RELATED-TO:fmf-AFLABS-URNIK:srecanje:16689
X-WR-TIMEZONE:Europe/Ljubljana
END:VEVENT
BEGIN:VEVENT
SUMMARY:Fizika (FKKT Teh. varnost) ()\, Vaje (V)
DTSTART;TZID=Europe/Ljubljana:20260302T150000
DTEND;TZID=Europe/Ljubljana:20260302T170000
DTSTAMP:20260423T035106Z
UID:fmf-AFLABS-URNIK:premaknjeno-srecanje:252076
CATEGORIES:Entry,Standard
COLOR:darkgreen
DESCRIPTION:Predmet: Fizika (FKKT Teh. varnost) ()\, Vaje (V)\nLetniki: \n
 Izvajalci: Jaka Zaplotnik\nProstor: F7
LOCATION:F7
ORGANIZER:Jaka Zaplotnik
RELATED-TO:fmf-AFLABS-URNIK:srecanje:16689
X-WR-TIMEZONE:Europe/Ljubljana
END:VEVENT
BEGIN:VEVENT
SUMMARY:Fizika (FKKT Teh. varnost) ()\, Vaje (V)
DTSTART;TZID=Europe/Ljubljana:20260309T150000
DTEND;TZID=Europe/Ljubljana:20260309T170000
DTSTAMP:20260423T035106Z
UID:fmf-AFLABS-URNIK:premaknjeno-srecanje:252077
CATEGORIES:Entry,Standard
COLOR:darkgreen
DESCRIPTION:Predmet: Fizika (FKKT Teh. varnost) ()\, Vaje (V)\nLetniki: \n
 Izvajalci: Jaka Zaplotnik\nProstor: F7
LOCATION:F7
ORGANIZER:Jaka Zaplotnik
RELATED-TO:fmf-AFLABS-URNIK:srecanje:16689
X-WR-TIMEZONE:Europe/Ljubljana
END:VEVENT
BEGIN:VEVENT
SUMMARY:Seminar skupine za fiziko mehke in delno urejene snovi ()\, Ostalo
  (O)
DTSTART;TZID=Europe/Ljubljana:20260217T100000
DTEND;TZID=Europe/Ljubljana:20260217T120000
DTSTAMP:20260423T035106Z
UID:fmf-AFLABS-URNIK:premaknjeno-srecanje:251446
CATEGORIES:Entry,Standard
COLOR:darkgreen
DESCRIPTION:Predmet: Seminar skupine za fiziko mehke in delno urejene snov
 i ()\, Ostalo (O)\nLetniki: \nIzvajalci: Polona Aupič\, Enej Caf\, Simon 
 Čopar\, Andraž Gnidovec\, Žiga Kos\, Nika Kralj\, Matevž Marinčič\, 
 Peter Marinko\, Urban Mur\, Miha Ravnik\, Peter Ropač\, Andreja Šarlah\,
  Gregor Skačej\, Daniel Svenšek\, Jaka Zaplotnik\, Slobodan Žumer\nPros
 tor: F7
LOCATION:F7
ORGANIZER:Polona Aupič, Enej Caf, Simon Čopar, Andraž Gnidovec, Žiga K
 os, Nika Kralj, Matevž Marinčič, Peter Marinko, Urban Mur, Miha Ravnik,
  Peter Ropač, Andreja Šarlah, Gregor Skačej, Daniel Svenšek, Jaka Zapl
 otnik, Slobodan Žumer
RELATED-TO:fmf-AFLABS-URNIK:srecanje:17446
X-WR-TIMEZONE:Europe/Ljubljana
END:VEVENT
BEGIN:VEVENT
SUMMARY:Seminar skupine za fiziko mehke in delno urejene snovi ()\, Ostalo
  (O)
DTSTART;TZID=Europe/Ljubljana:20260224T100000
DTEND;TZID=Europe/Ljubljana:20260224T120000
DTSTAMP:20260423T035106Z
UID:fmf-AFLABS-URNIK:premaknjeno-srecanje:251447
CATEGORIES:Entry,Standard
COLOR:darkgreen
DESCRIPTION:Predmet: Seminar skupine za fiziko mehke in delno urejene snov
 i ()\, Ostalo (O)\nLetniki: \nIzvajalci: Polona Aupič\, Enej Caf\, Simon 
 Čopar\, Andraž Gnidovec\, Žiga Kos\, Nika Kralj\, Matevž Marinčič\, 
 Peter Marinko\, Urban Mur\, Miha Ravnik\, Peter Ropač\, Andreja Šarlah\,
  Gregor Skačej\, Daniel Svenšek\, Jaka Zaplotnik\, Slobodan Žumer\nPros
 tor: F7
LOCATION:F7
ORGANIZER:Polona Aupič, Enej Caf, Simon Čopar, Andraž Gnidovec, Žiga K
 os, Nika Kralj, Matevž Marinčič, Peter Marinko, Urban Mur, Miha Ravnik,
  Peter Ropač, Andreja Šarlah, Gregor Skačej, Daniel Svenšek, Jaka Zapl
 otnik, Slobodan Žumer
RELATED-TO:fmf-AFLABS-URNIK:srecanje:17446
X-WR-TIMEZONE:Europe/Ljubljana
END:VEVENT
BEGIN:VEVENT
SUMMARY:Seminar skupine za fiziko mehke in delno urejene snovi ()\, Ostalo
  (O)
DTSTART;TZID=Europe/Ljubljana:20260303T100000
DTEND;TZID=Europe/Ljubljana:20260303T120000
DTSTAMP:20260423T035106Z
UID:fmf-AFLABS-URNIK:premaknjeno-srecanje:251448
CATEGORIES:Entry,Standard
COLOR:darkgreen
DESCRIPTION:Predmet: Seminar skupine za fiziko mehke in delno urejene snov
 i ()\, Ostalo (O)\nLetniki: \nIzvajalci: Polona Aupič\, Enej Caf\, Simon 
 Čopar\, Andraž Gnidovec\, Žiga Kos\, Nika Kralj\, Matevž Marinčič\, 
 Peter Marinko\, Urban Mur\, Miha Ravnik\, Peter Ropač\, Andreja Šarlah\,
  Gregor Skačej\, Daniel Svenšek\, Jaka Zaplotnik\, Slobodan Žumer\nPros
 tor: F7
LOCATION:F7
ORGANIZER:Polona Aupič, Enej Caf, Simon Čopar, Andraž Gnidovec, Žiga K
 os, Nika Kralj, Matevž Marinčič, Peter Marinko, Urban Mur, Miha Ravnik,
  Peter Ropač, Andreja Šarlah, Gregor Skačej, Daniel Svenšek, Jaka Zapl
 otnik, Slobodan Žumer
RELATED-TO:fmf-AFLABS-URNIK:srecanje:17446
X-WR-TIMEZONE:Europe/Ljubljana
END:VEVENT
BEGIN:VEVENT
SUMMARY:popravni kolokvij
DTSTART;TZID=Europe/Ljubljana:20260204T100000
DTEND;TZID=Europe/Ljubljana:20260204T120000
DTSTAMP:20260423T035106Z
UID:fmf-AFLABS-URNIK:rezervacija:25883
CATEGORIES:Reservation
COLOR:royalblue
DESCRIPTION:Predmeti: Fizika (FKKT Teh. varnost) ()\nLetniki: \nIzvajalci:
  Jaka Zaplotnik\nProstori: F7
LOCATION:F7
ORGANIZER:Jaka Zaplotnik
X-WR-TIMEZONE:Europe/Ljubljana
END:VEVENT
END:VCALENDAR
