BEGIN:VCALENDAR
VERSION:2.0
PRODID:-//AFLabs urnik izvoz - fmf//aflabs.si//SI
DTSTAMP:20260423T225836Z
NAME:UL FMF urnik
REFRESH-INTERVAL:PT1H
SOURCE:https://urnik.fmf.uni-lj.si/teacher/114?day=2022-01-24&export=1
URL:https://urnik.fmf.uni-lj.si/teacher/114?day=2022-01-24&export=1
X-PUBLISHED-TTL:PT1H
X-WR-CALNAME:UL FMF urnik
X-WR-TIMEZONE:Europe/Ljubljana
BEGIN:VTIMEZONE
TZID:Europe/Ljubljana
BEGIN:DAYLIGHT
DTSTART:20260329T020000
RDATE:20260329T020000
RDATE:20270328T020000
TZNAME:CEST
TZOFFSETFROM:+0100
TZOFFSETTO:+0200
END:DAYLIGHT
BEGIN:STANDARD
DTSTART:20261025T030000
RDATE:20261025T030000
RDATE:20271031T030000
TZNAME:CET
TZOFFSETFROM:+0200
TZOFFSETTO:+0100
END:STANDARD
END:VTIMEZONE
BEGIN:VEVENT
SUMMARY:Izbrana poglavja iz fizike snovi (PEF-1\, PEF-2)\, Predavanja (P)
DTSTART;TZID=Europe/Ljubljana:20211223T100000
DTEND;TZID=Europe/Ljubljana:20211223T130000
DTSTAMP:20260423T225836Z
UID:fmf-AFLABS-URNIK:premaknjeno-srecanje:43369
ATTENDEE:1. letnik (Pedagoška fizika, 2. stopnja)
ATTENDEE:2. letnik (Pedagoška fizika, 2. stopnja)
CATEGORIES:Entry,Standard
COLOR:darkgreen
DESCRIPTION:Predmet: Izbrana poglavja iz fizike snovi (PEF-1\, PEF-2)\, Pr
 edavanja (P)\nLetniki: 1. letnik (Pedagoška fizika\, 2. stopnja)\, 2. let
 nik (Pedagoška fizika\, 2. stopnja)\nIzvajalci: Janez Dolinšek\, Boris M
 ajaron\nProstor: F6
LOCATION:F6
ORGANIZER:Janez Dolinšek, Boris Majaron
RELATED-TO:fmf-AFLABS-URNIK:srecanje:6750
X-WR-TIMEZONE:Europe/Ljubljana
END:VEVENT
BEGIN:VEVENT
SUMMARY:Izbrana poglavja iz fizike snovi (PEF-1\, PEF-2)\, Predavanja (P)
DTSTART;TZID=Europe/Ljubljana:20211230T100000
DTEND;TZID=Europe/Ljubljana:20211230T130000
DTSTAMP:20260423T225836Z
UID:fmf-AFLABS-URNIK:premaknjeno-srecanje:43370
ATTENDEE:1. letnik (Pedagoška fizika, 2. stopnja)
ATTENDEE:2. letnik (Pedagoška fizika, 2. stopnja)
CATEGORIES:Entry,Standard
COLOR:darkgreen
DESCRIPTION:Predmet: Izbrana poglavja iz fizike snovi (PEF-1\, PEF-2)\, Pr
 edavanja (P)\nLetniki: 1. letnik (Pedagoška fizika\, 2. stopnja)\, 2. let
 nik (Pedagoška fizika\, 2. stopnja)\nIzvajalci: Janez Dolinšek\, Boris M
 ajaron\nProstor: F6
LOCATION:F6
ORGANIZER:Janez Dolinšek, Boris Majaron
RELATED-TO:fmf-AFLABS-URNIK:srecanje:6750
X-WR-TIMEZONE:Europe/Ljubljana
END:VEVENT
BEGIN:VEVENT
SUMMARY:Izbrana poglavja iz fizike snovi (PEF-1\, PEF-2)\, Predavanja (P)
DTSTART;TZID=Europe/Ljubljana:20220106T100000
DTEND;TZID=Europe/Ljubljana:20220106T130000
DTSTAMP:20260423T225836Z
UID:fmf-AFLABS-URNIK:premaknjeno-srecanje:43371
ATTENDEE:1. letnik (Pedagoška fizika, 2. stopnja)
ATTENDEE:2. letnik (Pedagoška fizika, 2. stopnja)
CATEGORIES:Entry,Standard
COLOR:darkgreen
DESCRIPTION:Predmet: Izbrana poglavja iz fizike snovi (PEF-1\, PEF-2)\, Pr
 edavanja (P)\nLetniki: 1. letnik (Pedagoška fizika\, 2. stopnja)\, 2. let
 nik (Pedagoška fizika\, 2. stopnja)\nIzvajalci: Janez Dolinšek\, Boris M
 ajaron\nProstor: F6
LOCATION:F6
ORGANIZER:Janez Dolinšek, Boris Majaron
RELATED-TO:fmf-AFLABS-URNIK:srecanje:6750
X-WR-TIMEZONE:Europe/Ljubljana
END:VEVENT
BEGIN:VEVENT
SUMMARY:Izbrana poglavja iz fizike snovi (PEF-1\, PEF-2)\, Predavanja (P)
DTSTART;TZID=Europe/Ljubljana:20220113T100000
DTEND;TZID=Europe/Ljubljana:20220113T130000
DTSTAMP:20260423T225836Z
UID:fmf-AFLABS-URNIK:premaknjeno-srecanje:43372
ATTENDEE:1. letnik (Pedagoška fizika, 2. stopnja)
ATTENDEE:2. letnik (Pedagoška fizika, 2. stopnja)
CATEGORIES:Entry,Standard
COLOR:darkgreen
DESCRIPTION:Predmet: Izbrana poglavja iz fizike snovi (PEF-1\, PEF-2)\, Pr
 edavanja (P)\nLetniki: 1. letnik (Pedagoška fizika\, 2. stopnja)\, 2. let
 nik (Pedagoška fizika\, 2. stopnja)\nIzvajalci: Janez Dolinšek\, Boris M
 ajaron\nProstor: F6
LOCATION:F6
ORGANIZER:Janez Dolinšek, Boris Majaron
RELATED-TO:fmf-AFLABS-URNIK:srecanje:6750
X-WR-TIMEZONE:Europe/Ljubljana
END:VEVENT
BEGIN:VEVENT
SUMMARY:Izbrana poglavja iz fizike snovi (PEF-1\, PEF-2)\, Vaje (V)
DTSTART;TZID=Europe/Ljubljana:20211224T120000
DTEND;TZID=Europe/Ljubljana:20211224T140000
DTSTAMP:20260423T225836Z
UID:fmf-AFLABS-URNIK:premaknjeno-srecanje:43417
ATTENDEE:1. letnik (Pedagoška fizika, 2. stopnja)
ATTENDEE:2. letnik (Pedagoška fizika, 2. stopnja)
CATEGORIES:Entry,Standard
COLOR:darkgreen
DESCRIPTION:Predmet: Izbrana poglavja iz fizike snovi (PEF-1\, PEF-2)\, Va
 je (V)\nLetniki: 1. letnik (Pedagoška fizika\, 2. stopnja)\, 2. letnik (P
 edagoška fizika\, 2. stopnja)\nIzvajalci: Janez Dolinšek\, Boris Majaron
 \nProstor: F4
LOCATION:F4
ORGANIZER:Janez Dolinšek, Boris Majaron
RELATED-TO:fmf-AFLABS-URNIK:srecanje:6751
X-WR-TIMEZONE:Europe/Ljubljana
END:VEVENT
BEGIN:VEVENT
SUMMARY:Izbrana poglavja iz fizike snovi (PEF-1\, PEF-2)\, Vaje (V)
DTSTART;TZID=Europe/Ljubljana:20211231T120000
DTEND;TZID=Europe/Ljubljana:20211231T140000
DTSTAMP:20260423T225836Z
UID:fmf-AFLABS-URNIK:premaknjeno-srecanje:43418
ATTENDEE:1. letnik (Pedagoška fizika, 2. stopnja)
ATTENDEE:2. letnik (Pedagoška fizika, 2. stopnja)
CATEGORIES:Entry,Standard
COLOR:darkgreen
DESCRIPTION:Predmet: Izbrana poglavja iz fizike snovi (PEF-1\, PEF-2)\, Va
 je (V)\nLetniki: 1. letnik (Pedagoška fizika\, 2. stopnja)\, 2. letnik (P
 edagoška fizika\, 2. stopnja)\nIzvajalci: Janez Dolinšek\, Boris Majaron
 \nProstor: F4
LOCATION:F4
ORGANIZER:Janez Dolinšek, Boris Majaron
RELATED-TO:fmf-AFLABS-URNIK:srecanje:6751
X-WR-TIMEZONE:Europe/Ljubljana
END:VEVENT
BEGIN:VEVENT
SUMMARY:Izbrana poglavja iz fizike snovi (PEF-1\, PEF-2)\, Vaje (V)
DTSTART;TZID=Europe/Ljubljana:20220107T120000
DTEND;TZID=Europe/Ljubljana:20220107T140000
DTSTAMP:20260423T225836Z
UID:fmf-AFLABS-URNIK:premaknjeno-srecanje:43419
ATTENDEE:1. letnik (Pedagoška fizika, 2. stopnja)
ATTENDEE:2. letnik (Pedagoška fizika, 2. stopnja)
CATEGORIES:Entry,Standard
COLOR:darkgreen
DESCRIPTION:Predmet: Izbrana poglavja iz fizike snovi (PEF-1\, PEF-2)\, Va
 je (V)\nLetniki: 1. letnik (Pedagoška fizika\, 2. stopnja)\, 2. letnik (P
 edagoška fizika\, 2. stopnja)\nIzvajalci: Janez Dolinšek\, Boris Majaron
 \nProstor: F4
LOCATION:F4
ORGANIZER:Janez Dolinšek, Boris Majaron
RELATED-TO:fmf-AFLABS-URNIK:srecanje:6751
X-WR-TIMEZONE:Europe/Ljubljana
END:VEVENT
BEGIN:VEVENT
SUMMARY:Izbrana poglavja iz fizike snovi (PEF-1\, PEF-2)\, Vaje (V)
DTSTART;TZID=Europe/Ljubljana:20220114T120000
DTEND;TZID=Europe/Ljubljana:20220114T140000
DTSTAMP:20260423T225836Z
UID:fmf-AFLABS-URNIK:premaknjeno-srecanje:43420
ATTENDEE:1. letnik (Pedagoška fizika, 2. stopnja)
ATTENDEE:2. letnik (Pedagoška fizika, 2. stopnja)
CATEGORIES:Entry,Standard
COLOR:darkgreen
DESCRIPTION:Predmet: Izbrana poglavja iz fizike snovi (PEF-1\, PEF-2)\, Va
 je (V)\nLetniki: 1. letnik (Pedagoška fizika\, 2. stopnja)\, 2. letnik (P
 edagoška fizika\, 2. stopnja)\nIzvajalci: Janez Dolinšek\, Boris Majaron
 \nProstor: F4
LOCATION:F4
ORGANIZER:Janez Dolinšek, Boris Majaron
RELATED-TO:fmf-AFLABS-URNIK:srecanje:6751
X-WR-TIMEZONE:Europe/Ljubljana
END:VEVENT
BEGIN:VEVENT
SUMMARY:Spektroskopija trdne snovi (FIZ-M1\, FIZ-M2)\, Predavanja (P)
DTSTART;TZID=Europe/Ljubljana:20220217T080000
DTEND;TZID=Europe/Ljubljana:20220217T100000
DTSTAMP:20260423T225836Z
UID:fmf-AFLABS-URNIK:premaknjeno-srecanje:104607
ATTENDEE:1. letnik (Fizika, 2. stopnja)
ATTENDEE:2. letnik (Fizika, 2. stopnja)
CATEGORIES:Entry,Standard
COLOR:darkgreen
DESCRIPTION:Predmet: Spektroskopija trdne snovi (FIZ-M1\, FIZ-M2)\, Predav
 anja (P)\nLetniki: 1. letnik (Fizika\, 2. stopnja)\, 2. letnik (Fizika\, 2
 . stopnja)\nIzvajalci: Janez Dolinšek\nProstor: F3
LOCATION:F3
ORGANIZER:Janez Dolinšek
RELATED-TO:fmf-AFLABS-URNIK:srecanje:7294
X-WR-TIMEZONE:Europe/Ljubljana
END:VEVENT
BEGIN:VEVENT
SUMMARY:Spektroskopija trdne snovi (FIZ-M1\, FIZ-M2)\, Predavanja (P)
DTSTART;TZID=Europe/Ljubljana:20220224T080000
DTEND;TZID=Europe/Ljubljana:20220224T100000
DTSTAMP:20260423T225836Z
UID:fmf-AFLABS-URNIK:premaknjeno-srecanje:104608
ATTENDEE:1. letnik (Fizika, 2. stopnja)
ATTENDEE:2. letnik (Fizika, 2. stopnja)
CATEGORIES:Entry,Standard
COLOR:darkgreen
DESCRIPTION:Predmet: Spektroskopija trdne snovi (FIZ-M1\, FIZ-M2)\, Predav
 anja (P)\nLetniki: 1. letnik (Fizika\, 2. stopnja)\, 2. letnik (Fizika\, 2
 . stopnja)\nIzvajalci: Janez Dolinšek\nProstor: F3
LOCATION:F3
ORGANIZER:Janez Dolinšek
RELATED-TO:fmf-AFLABS-URNIK:srecanje:7294
X-WR-TIMEZONE:Europe/Ljubljana
END:VEVENT
BEGIN:VEVENT
SUMMARY:Spektroskopija trdne snovi (FIZ-M1\, FIZ-M2)\, Vaje (V)
DTSTART;TZID=Europe/Ljubljana:20220217T100000
DTEND;TZID=Europe/Ljubljana:20220217T110000
DTSTAMP:20260423T225836Z
UID:fmf-AFLABS-URNIK:premaknjeno-srecanje:104699
ATTENDEE:1. letnik (Fizika, 2. stopnja)
ATTENDEE:2. letnik (Fizika, 2. stopnja)
CATEGORIES:Entry,Standard
COLOR:darkgreen
DESCRIPTION:Predmet: Spektroskopija trdne snovi (FIZ-M1\, FIZ-M2)\, Vaje (
 V)\nLetniki: 1. letnik (Fizika\, 2. stopnja)\, 2. letnik (Fizika\, 2. stop
 nja)\nIzvajalci: Janez Dolinšek\nProstor: F3
LOCATION:F3
ORGANIZER:Janez Dolinšek
RELATED-TO:fmf-AFLABS-URNIK:srecanje:7295
X-WR-TIMEZONE:Europe/Ljubljana
END:VEVENT
BEGIN:VEVENT
SUMMARY:Spektroskopija trdne snovi (FIZ-M1\, FIZ-M2)\, Vaje (V)
DTSTART;TZID=Europe/Ljubljana:20220224T100000
DTEND;TZID=Europe/Ljubljana:20220224T110000
DTSTAMP:20260423T225836Z
UID:fmf-AFLABS-URNIK:premaknjeno-srecanje:104700
ATTENDEE:1. letnik (Fizika, 2. stopnja)
ATTENDEE:2. letnik (Fizika, 2. stopnja)
CATEGORIES:Entry,Standard
COLOR:darkgreen
DESCRIPTION:Predmet: Spektroskopija trdne snovi (FIZ-M1\, FIZ-M2)\, Vaje (
 V)\nLetniki: 1. letnik (Fizika\, 2. stopnja)\, 2. letnik (Fizika\, 2. stop
 nja)\nIzvajalci: Janez Dolinšek\nProstor: F3
LOCATION:F3
ORGANIZER:Janez Dolinšek
RELATED-TO:fmf-AFLABS-URNIK:srecanje:7295
X-WR-TIMEZONE:Europe/Ljubljana
END:VEVENT
END:VCALENDAR
