BEGIN:VCALENDAR
VERSION:2.0
PRODID:-//AFLabs urnik izvoz - fmf//aflabs.si//SI
DTSTAMP:20260424T192335Z
NAME:UL FMF urnik
REFRESH-INTERVAL:PT1H
SOURCE:https://urnik.fmf.uni-lj.si/teacher/114?day=2023-01-23&export=1
URL:https://urnik.fmf.uni-lj.si/teacher/114?day=2023-01-23&export=1
X-PUBLISHED-TTL:PT1H
X-WR-CALNAME:UL FMF urnik
X-WR-TIMEZONE:Europe/Ljubljana
BEGIN:VTIMEZONE
TZID:Europe/Ljubljana
BEGIN:DAYLIGHT
DTSTART:20260329T020000
RDATE:20260329T020000
RDATE:20270328T020000
TZNAME:CEST
TZOFFSETFROM:+0100
TZOFFSETTO:+0200
END:DAYLIGHT
BEGIN:STANDARD
DTSTART:20261025T030000
RDATE:20261025T030000
RDATE:20271031T030000
TZNAME:CET
TZOFFSETFROM:+0200
TZOFFSETTO:+0100
END:STANDARD
END:VTIMEZONE
BEGIN:VEVENT
SUMMARY:Spektroskopija trdne snovi (FIZ-M1\, FIZ-M2)\, Predavanja (P)
DTSTART;TZID=Europe/Ljubljana:20221221T080000
DTEND;TZID=Europe/Ljubljana:20221221T100000
DTSTAMP:20260424T192335Z
UID:fmf-AFLABS-URNIK:premaknjeno-srecanje:104541
ATTENDEE:1. letnik (Fizika, 2. stopnja)
ATTENDEE:2. letnik (Fizika, 2. stopnja)
CATEGORIES:Entry,Standard
COLOR:darkgreen
DESCRIPTION:Predmet: Spektroskopija trdne snovi (FIZ-M1\, FIZ-M2)\, Predav
 anja (P)\nLetniki: 1. letnik (Fizika\, 2. stopnja)\, 2. letnik (Fizika\, 2
 . stopnja)\nIzvajalci: Janez Dolinšek\nProstor: F7
LOCATION:F7
ORGANIZER:Janez Dolinšek
RELATED-TO:fmf-AFLABS-URNIK:srecanje:8005
X-WR-TIMEZONE:Europe/Ljubljana
END:VEVENT
BEGIN:VEVENT
SUMMARY:Spektroskopija trdne snovi (FIZ-M1\, FIZ-M2)\, Predavanja (P)
DTSTART;TZID=Europe/Ljubljana:20221228T080000
DTEND;TZID=Europe/Ljubljana:20221228T100000
DTSTAMP:20260424T192335Z
UID:fmf-AFLABS-URNIK:premaknjeno-srecanje:104542
ATTENDEE:1. letnik (Fizika, 2. stopnja)
ATTENDEE:2. letnik (Fizika, 2. stopnja)
CATEGORIES:Entry,Standard
COLOR:darkgreen
DESCRIPTION:Predmet: Spektroskopija trdne snovi (FIZ-M1\, FIZ-M2)\, Predav
 anja (P)\nLetniki: 1. letnik (Fizika\, 2. stopnja)\, 2. letnik (Fizika\, 2
 . stopnja)\nIzvajalci: Janez Dolinšek\nProstor: F7
LOCATION:F7
ORGANIZER:Janez Dolinšek
RELATED-TO:fmf-AFLABS-URNIK:srecanje:8005
X-WR-TIMEZONE:Europe/Ljubljana
END:VEVENT
BEGIN:VEVENT
SUMMARY:Spektroskopija trdne snovi (FIZ-M1\, FIZ-M2)\, Predavanja (P)
DTSTART;TZID=Europe/Ljubljana:20230104T080000
DTEND;TZID=Europe/Ljubljana:20230104T100000
DTSTAMP:20260424T192335Z
UID:fmf-AFLABS-URNIK:premaknjeno-srecanje:104543
ATTENDEE:1. letnik (Fizika, 2. stopnja)
ATTENDEE:2. letnik (Fizika, 2. stopnja)
CATEGORIES:Entry,Standard
COLOR:darkgreen
DESCRIPTION:Predmet: Spektroskopija trdne snovi (FIZ-M1\, FIZ-M2)\, Predav
 anja (P)\nLetniki: 1. letnik (Fizika\, 2. stopnja)\, 2. letnik (Fizika\, 2
 . stopnja)\nIzvajalci: Janez Dolinšek\nProstor: F7
LOCATION:F7
ORGANIZER:Janez Dolinšek
RELATED-TO:fmf-AFLABS-URNIK:srecanje:8005
X-WR-TIMEZONE:Europe/Ljubljana
END:VEVENT
BEGIN:VEVENT
SUMMARY:Spektroskopija trdne snovi (FIZ-M1\, FIZ-M2)\, Predavanja (P)
DTSTART;TZID=Europe/Ljubljana:20230111T080000
DTEND;TZID=Europe/Ljubljana:20230111T100000
DTSTAMP:20260424T192335Z
UID:fmf-AFLABS-URNIK:premaknjeno-srecanje:104544
ATTENDEE:1. letnik (Fizika, 2. stopnja)
ATTENDEE:2. letnik (Fizika, 2. stopnja)
CATEGORIES:Entry,Standard
COLOR:darkgreen
DESCRIPTION:Predmet: Spektroskopija trdne snovi (FIZ-M1\, FIZ-M2)\, Predav
 anja (P)\nLetniki: 1. letnik (Fizika\, 2. stopnja)\, 2. letnik (Fizika\, 2
 . stopnja)\nIzvajalci: Janez Dolinšek\nProstor: F7
LOCATION:F7
ORGANIZER:Janez Dolinšek
RELATED-TO:fmf-AFLABS-URNIK:srecanje:8005
X-WR-TIMEZONE:Europe/Ljubljana
END:VEVENT
BEGIN:VEVENT
SUMMARY:Spektroskopija trdne snovi (FIZ-M1\, FIZ-M2)\, Vaje (V)
DTSTART;TZID=Europe/Ljubljana:20221221T100000
DTEND;TZID=Europe/Ljubljana:20221221T110000
DTSTAMP:20260424T192335Z
UID:fmf-AFLABS-URNIK:premaknjeno-srecanje:104633
ATTENDEE:1. letnik (Fizika, 2. stopnja)
ATTENDEE:2. letnik (Fizika, 2. stopnja)
CATEGORIES:Entry,Standard
COLOR:darkgreen
DESCRIPTION:Predmet: Spektroskopija trdne snovi (FIZ-M1\, FIZ-M2)\, Vaje (
 V)\nLetniki: 1. letnik (Fizika\, 2. stopnja)\, 2. letnik (Fizika\, 2. stop
 nja)\nIzvajalci: Janez Dolinšek\nProstor: F7
LOCATION:F7
ORGANIZER:Janez Dolinšek
RELATED-TO:fmf-AFLABS-URNIK:srecanje:8006
X-WR-TIMEZONE:Europe/Ljubljana
END:VEVENT
BEGIN:VEVENT
SUMMARY:Spektroskopija trdne snovi (FIZ-M1\, FIZ-M2)\, Vaje (V)
DTSTART;TZID=Europe/Ljubljana:20221228T100000
DTEND;TZID=Europe/Ljubljana:20221228T110000
DTSTAMP:20260424T192335Z
UID:fmf-AFLABS-URNIK:premaknjeno-srecanje:104634
ATTENDEE:1. letnik (Fizika, 2. stopnja)
ATTENDEE:2. letnik (Fizika, 2. stopnja)
CATEGORIES:Entry,Standard
COLOR:darkgreen
DESCRIPTION:Predmet: Spektroskopija trdne snovi (FIZ-M1\, FIZ-M2)\, Vaje (
 V)\nLetniki: 1. letnik (Fizika\, 2. stopnja)\, 2. letnik (Fizika\, 2. stop
 nja)\nIzvajalci: Janez Dolinšek\nProstor: F7
LOCATION:F7
ORGANIZER:Janez Dolinšek
RELATED-TO:fmf-AFLABS-URNIK:srecanje:8006
X-WR-TIMEZONE:Europe/Ljubljana
END:VEVENT
BEGIN:VEVENT
SUMMARY:Spektroskopija trdne snovi (FIZ-M1\, FIZ-M2)\, Vaje (V)
DTSTART;TZID=Europe/Ljubljana:20230104T100000
DTEND;TZID=Europe/Ljubljana:20230104T110000
DTSTAMP:20260424T192335Z
UID:fmf-AFLABS-URNIK:premaknjeno-srecanje:104635
ATTENDEE:1. letnik (Fizika, 2. stopnja)
ATTENDEE:2. letnik (Fizika, 2. stopnja)
CATEGORIES:Entry,Standard
COLOR:darkgreen
DESCRIPTION:Predmet: Spektroskopija trdne snovi (FIZ-M1\, FIZ-M2)\, Vaje (
 V)\nLetniki: 1. letnik (Fizika\, 2. stopnja)\, 2. letnik (Fizika\, 2. stop
 nja)\nIzvajalci: Janez Dolinšek\nProstor: F7
LOCATION:F7
ORGANIZER:Janez Dolinšek
RELATED-TO:fmf-AFLABS-URNIK:srecanje:8006
X-WR-TIMEZONE:Europe/Ljubljana
END:VEVENT
BEGIN:VEVENT
SUMMARY:Spektroskopija trdne snovi (FIZ-M1\, FIZ-M2)\, Vaje (V)
DTSTART;TZID=Europe/Ljubljana:20230111T100000
DTEND;TZID=Europe/Ljubljana:20230111T110000
DTSTAMP:20260424T192335Z
UID:fmf-AFLABS-URNIK:premaknjeno-srecanje:104636
ATTENDEE:1. letnik (Fizika, 2. stopnja)
ATTENDEE:2. letnik (Fizika, 2. stopnja)
CATEGORIES:Entry,Standard
COLOR:darkgreen
DESCRIPTION:Predmet: Spektroskopija trdne snovi (FIZ-M1\, FIZ-M2)\, Vaje (
 V)\nLetniki: 1. letnik (Fizika\, 2. stopnja)\, 2. letnik (Fizika\, 2. stop
 nja)\nIzvajalci: Janez Dolinšek\nProstor: F7
LOCATION:F7
ORGANIZER:Janez Dolinšek
RELATED-TO:fmf-AFLABS-URNIK:srecanje:8006
X-WR-TIMEZONE:Europe/Ljubljana
END:VEVENT
BEGIN:VEVENT
SUMMARY:Metode eksperimentalne fizike snovi (FIZ-M1\, FIZ-M2)\, Predavanja
  (P)
DTSTART;TZID=Europe/Ljubljana:20230215T080000
DTEND;TZID=Europe/Ljubljana:20230215T100000
DTSTAMP:20260424T192335Z
UID:fmf-AFLABS-URNIK:premaknjeno-srecanje:72184
ATTENDEE:1. letnik (Fizika, 2. stopnja)
ATTENDEE:2. letnik (Fizika, 2. stopnja)
CATEGORIES:Entry,Standard
COLOR:darkgreen
DESCRIPTION:Predmet: Metode eksperimentalne fizike snovi (FIZ-M1\, FIZ-M2)
 \, Predavanja (P)\nLetniki: 1. letnik (Fizika\, 2. stopnja)\, 2. letnik (F
 izika\, 2. stopnja)\nIzvajalci: Janez Dolinšek\nProstor: P.01
LOCATION:P.01
ORGANIZER:Janez Dolinšek
RELATED-TO:fmf-AFLABS-URNIK:srecanje:8556
X-WR-TIMEZONE:Europe/Ljubljana
END:VEVENT
BEGIN:VEVENT
SUMMARY:Metode eksperimentalne fizike snovi (FIZ-M1\, FIZ-M2)\, Predavanja
  (P)
DTSTART;TZID=Europe/Ljubljana:20230222T080000
DTEND;TZID=Europe/Ljubljana:20230222T100000
DTSTAMP:20260424T192335Z
UID:fmf-AFLABS-URNIK:premaknjeno-srecanje:72185
ATTENDEE:1. letnik (Fizika, 2. stopnja)
ATTENDEE:2. letnik (Fizika, 2. stopnja)
CATEGORIES:Entry,Standard
COLOR:darkgreen
DESCRIPTION:Predmet: Metode eksperimentalne fizike snovi (FIZ-M1\, FIZ-M2)
 \, Predavanja (P)\nLetniki: 1. letnik (Fizika\, 2. stopnja)\, 2. letnik (F
 izika\, 2. stopnja)\nIzvajalci: Janez Dolinšek\nProstor: P.01
LOCATION:P.01
ORGANIZER:Janez Dolinšek
RELATED-TO:fmf-AFLABS-URNIK:srecanje:8556
X-WR-TIMEZONE:Europe/Ljubljana
END:VEVENT
BEGIN:VEVENT
SUMMARY:Metode eksperimentalne fizike snovi (FIZ-M1\, FIZ-M2)\, Seminar (S
 )
DTSTART;TZID=Europe/Ljubljana:20230215T100000
DTEND;TZID=Europe/Ljubljana:20230215T110000
DTSTAMP:20260424T192335Z
UID:fmf-AFLABS-URNIK:premaknjeno-srecanje:72246
ATTENDEE:1. letnik (Fizika, 2. stopnja)
ATTENDEE:2. letnik (Fizika, 2. stopnja)
CATEGORIES:Entry,Standard
COLOR:darkgreen
DESCRIPTION:Predmet: Metode eksperimentalne fizike snovi (FIZ-M1\, FIZ-M2)
 \, Seminar (S)\nLetniki: 1. letnik (Fizika\, 2. stopnja)\, 2. letnik (Fizi
 ka\, 2. stopnja)\nIzvajalci: Janez Dolinšek\nProstor: P.01
LOCATION:P.01
ORGANIZER:Janez Dolinšek
RELATED-TO:fmf-AFLABS-URNIK:srecanje:8842
X-WR-TIMEZONE:Europe/Ljubljana
END:VEVENT
BEGIN:VEVENT
SUMMARY:Metode eksperimentalne fizike snovi (FIZ-M1\, FIZ-M2)\, Seminar (S
 )
DTSTART;TZID=Europe/Ljubljana:20230222T100000
DTEND;TZID=Europe/Ljubljana:20230222T110000
DTSTAMP:20260424T192335Z
UID:fmf-AFLABS-URNIK:premaknjeno-srecanje:72247
ATTENDEE:1. letnik (Fizika, 2. stopnja)
ATTENDEE:2. letnik (Fizika, 2. stopnja)
CATEGORIES:Entry,Standard
COLOR:darkgreen
DESCRIPTION:Predmet: Metode eksperimentalne fizike snovi (FIZ-M1\, FIZ-M2)
 \, Seminar (S)\nLetniki: 1. letnik (Fizika\, 2. stopnja)\, 2. letnik (Fizi
 ka\, 2. stopnja)\nIzvajalci: Janez Dolinšek\nProstor: P.01
LOCATION:P.01
ORGANIZER:Janez Dolinšek
RELATED-TO:fmf-AFLABS-URNIK:srecanje:8842
X-WR-TIMEZONE:Europe/Ljubljana
END:VEVENT
END:VCALENDAR
