BEGIN:VCALENDAR
VERSION:2.0
PRODID:-//AFLabs urnik izvoz - fmf//aflabs.si//SI
DTSTAMP:20260423T053515Z
NAME:UL FMF urnik
REFRESH-INTERVAL:PT1H
SOURCE:https://urnik.fmf.uni-lj.si/teacher/114?day=2024-09-09&export=1
URL:https://urnik.fmf.uni-lj.si/teacher/114?day=2024-09-09&export=1
X-PUBLISHED-TTL:PT1H
X-WR-CALNAME:UL FMF urnik
X-WR-TIMEZONE:Europe/Ljubljana
BEGIN:VTIMEZONE
TZID:Europe/Ljubljana
BEGIN:DAYLIGHT
DTSTART:20260329T020000
RDATE:20260329T020000
RDATE:20270328T020000
TZNAME:CEST
TZOFFSETFROM:+0100
TZOFFSETTO:+0200
END:DAYLIGHT
BEGIN:STANDARD
DTSTART:20261025T030000
RDATE:20261025T030000
RDATE:20271031T030000
TZNAME:CET
TZOFFSETFROM:+0200
TZOFFSETTO:+0100
END:STANDARD
END:VTIMEZONE
BEGIN:VEVENT
SUMMARY:Spektroskopija trdne snovi (FIZ-M1\, FIZ-M2)\, Predavanja (P)
DTSTART;TZID=Europe/Ljubljana:20241002T080000
DTEND;TZID=Europe/Ljubljana:20241002T100000
DTSTAMP:20260423T053515Z
UID:fmf-AFLABS-URNIK:premaknjeno-srecanje:184972
ATTENDEE:1. letnik (Fizika, 2. stopnja)
ATTENDEE:2. letnik (Fizika, 2. stopnja)
CATEGORIES:Entry,Standard
COLOR:darkgreen
DESCRIPTION:Predmet: Spektroskopija trdne snovi (FIZ-M1\, FIZ-M2)\, Predav
 anja (P)\nLetniki: 1. letnik (Fizika\, 2. stopnja)\, 2. letnik (Fizika\, 2
 . stopnja)\nIzvajalci: Janez Dolinšek\nProstor: F7
LOCATION:F7
ORGANIZER:Janez Dolinšek
RELATED-TO:fmf-AFLABS-URNIK:srecanje:14051
X-WR-TIMEZONE:Europe/Ljubljana
END:VEVENT
BEGIN:VEVENT
SUMMARY:Spektroskopija trdne snovi (FIZ-M1\, FIZ-M2)\, Predavanja (P)
DTSTART;TZID=Europe/Ljubljana:20241009T080000
DTEND;TZID=Europe/Ljubljana:20241009T100000
DTSTAMP:20260423T053515Z
UID:fmf-AFLABS-URNIK:premaknjeno-srecanje:184973
ATTENDEE:1. letnik (Fizika, 2. stopnja)
ATTENDEE:2. letnik (Fizika, 2. stopnja)
CATEGORIES:Entry,Standard
COLOR:darkgreen
DESCRIPTION:Predmet: Spektroskopija trdne snovi (FIZ-M1\, FIZ-M2)\, Predav
 anja (P)\nLetniki: 1. letnik (Fizika\, 2. stopnja)\, 2. letnik (Fizika\, 2
 . stopnja)\nIzvajalci: Janez Dolinšek\nProstor: F7
LOCATION:F7
ORGANIZER:Janez Dolinšek
RELATED-TO:fmf-AFLABS-URNIK:srecanje:14051
X-WR-TIMEZONE:Europe/Ljubljana
END:VEVENT
BEGIN:VEVENT
SUMMARY:Spektroskopija trdne snovi (FIZ-M1\, FIZ-M2)\, Seminar (S)
DTSTART;TZID=Europe/Ljubljana:20241002T100000
DTEND;TZID=Europe/Ljubljana:20241002T110000
DTSTAMP:20260423T053515Z
UID:fmf-AFLABS-URNIK:premaknjeno-srecanje:190475
ATTENDEE:1. letnik (Fizika, 2. stopnja)
ATTENDEE:2. letnik (Fizika, 2. stopnja)
CATEGORIES:Entry,Standard
COLOR:darkgreen
DESCRIPTION:Predmet: Spektroskopija trdne snovi (FIZ-M1\, FIZ-M2)\, Semina
 r (S)\nLetniki: 1. letnik (Fizika\, 2. stopnja)\, 2. letnik (Fizika\, 2. s
 topnja)\nIzvajalci: Janez Dolinšek\nProstor: F7
LOCATION:F7
ORGANIZER:Janez Dolinšek
RELATED-TO:fmf-AFLABS-URNIK:srecanje:14052
X-WR-TIMEZONE:Europe/Ljubljana
END:VEVENT
BEGIN:VEVENT
SUMMARY:Spektroskopija trdne snovi (FIZ-M1\, FIZ-M2)\, Seminar (S)
DTSTART;TZID=Europe/Ljubljana:20241009T100000
DTEND;TZID=Europe/Ljubljana:20241009T110000
DTSTAMP:20260423T053515Z
UID:fmf-AFLABS-URNIK:premaknjeno-srecanje:190476
ATTENDEE:1. letnik (Fizika, 2. stopnja)
ATTENDEE:2. letnik (Fizika, 2. stopnja)
CATEGORIES:Entry,Standard
COLOR:darkgreen
DESCRIPTION:Predmet: Spektroskopija trdne snovi (FIZ-M1\, FIZ-M2)\, Semina
 r (S)\nLetniki: 1. letnik (Fizika\, 2. stopnja)\, 2. letnik (Fizika\, 2. s
 topnja)\nIzvajalci: Janez Dolinšek\nProstor: F7
LOCATION:F7
ORGANIZER:Janez Dolinšek
RELATED-TO:fmf-AFLABS-URNIK:srecanje:14052
X-WR-TIMEZONE:Europe/Ljubljana
END:VEVENT
BEGIN:VEVENT
SUMMARY:ZPS - oddelek za fiziko ()\, Ostalo (O)
DTSTART;TZID=Europe/Ljubljana:20241002T140000
DTEND;TZID=Europe/Ljubljana:20241002T170000
DTSTAMP:20260423T053515Z
UID:fmf-AFLABS-URNIK:premaknjeno-srecanje:191931
CATEGORIES:Entry,Standard
COLOR:darkgreen
DESCRIPTION:Predmet: ZPS - oddelek za fiziko ()\, Ostalo (O)\nLetniki: \nI
 zvajalci: Janez Dolinšek\nProstor: F1
LOCATION:F1
ORGANIZER:Janez Dolinšek
RELATED-TO:fmf-AFLABS-URNIK:srecanje:14326
X-WR-TIMEZONE:Europe/Ljubljana
END:VEVENT
BEGIN:VEVENT
SUMMARY:ZPS - oddelek za fiziko ()\, Ostalo (O)
DTSTART;TZID=Europe/Ljubljana:20241009T140000
DTEND;TZID=Europe/Ljubljana:20241009T170000
DTSTAMP:20260423T053515Z
UID:fmf-AFLABS-URNIK:premaknjeno-srecanje:191932
CATEGORIES:Entry,Standard
COLOR:darkgreen
DESCRIPTION:Predmet: ZPS - oddelek za fiziko ()\, Ostalo (O)\nLetniki: \nI
 zvajalci: Janez Dolinšek\nProstor: F1
LOCATION:F1
ORGANIZER:Janez Dolinšek
RELATED-TO:fmf-AFLABS-URNIK:srecanje:14326
X-WR-TIMEZONE:Europe/Ljubljana
END:VEVENT
BEGIN:VEVENT
SUMMARY:Izpit iz Spektroskopije trdne snovi
DTSTART;TZID=Europe/Ljubljana:20240827T090000
DTEND;TZID=Europe/Ljubljana:20240827T110000
DTSTAMP:20260423T053515Z
UID:fmf-AFLABS-URNIK:rezervacija:16516
ATTENDEE:1. letnik (Fizika, 2. stopnja)
ATTENDEE:2. letnik (Fizika, 2. stopnja)
CATEGORIES:Reservation
COLOR:royalblue
DESCRIPTION:Predmeti: Spektroskopija trdne snovi (FIZ-M1\, FIZ-M2)\nLetnik
 i: 1. letnik (Fizika\, 2. stopnja)\, 2. letnik (Fizika\, 2. stopnja)\nIzva
 jalci: Janez Dolinšek\nProstori: F2
LOCATION:F2
ORGANIZER:Janez Dolinšek
X-WR-TIMEZONE:Europe/Ljubljana
END:VEVENT
BEGIN:VEVENT
SUMMARY:Pozdrav brucem in bruckam v Veliki fizikalni predavalnici in zače
 tek predavanj iz KF
DTSTART;TZID=Europe/Ljubljana:20241001T110000
DTEND;TZID=Europe/Ljubljana:20241001T120000
DTSTAMP:20260423T053515Z
UID:fmf-AFLABS-URNIK:rezervacija:18387
ATTENDEE:1. letnik (Aplikativna fizika)
ATTENDEE:1. letnik (Fizika, 1. stopnja)
CATEGORIES:Reservation
COLOR:royalblue
DESCRIPTION:Predmeti: Fizika I (APF-1)\, Klasična fizika (FIZ-1)\nLetniki
 : 1. letnik (Aplikativna fizika)\, 1. letnik (Fizika\, 1. stopnja)\nIzvaja
 lci: Janez Dolinšek\nProstori: VFP
LOCATION:VFP
ORGANIZER:Janez Dolinšek
X-WR-TIMEZONE:Europe/Ljubljana
END:VEVENT
END:VCALENDAR
