BEGIN:VCALENDAR
VERSION:2.0
PRODID:-//AFLabs urnik izvoz - fmf//aflabs.si//SI
DTSTAMP:20260425T145803Z
NAME:UL FMF urnik
REFRESH-INTERVAL:PT1H
SOURCE:https://urnik.fmf.uni-lj.si/teacher/1161?day=2026-01-05&export=1
URL:https://urnik.fmf.uni-lj.si/teacher/1161?day=2026-01-05&export=1
X-PUBLISHED-TTL:PT1H
X-WR-CALNAME:UL FMF urnik
X-WR-TIMEZONE:Europe/Ljubljana
BEGIN:VTIMEZONE
TZID:Europe/Ljubljana
BEGIN:DAYLIGHT
DTSTART:20260329T020000
RDATE:20260329T020000
RDATE:20270328T020000
TZNAME:CEST
TZOFFSETFROM:+0100
TZOFFSETTO:+0200
END:DAYLIGHT
BEGIN:STANDARD
DTSTART:20261025T030000
RDATE:20261025T030000
RDATE:20271031T030000
TZNAME:CET
TZOFFSETFROM:+0200
TZOFFSETTO:+0100
END:STANDARD
END:VTIMEZONE
BEGIN:VEVENT
SUMMARY:Tutorstvo za Statistično termodinamiko
DTSTART;TZID=Europe/Ljubljana:20251117T140000
DTEND;TZID=Europe/Ljubljana:20251117T150000
DTSTAMP:20260425T145803Z
UID:fmf-AFLABS-URNIK:rezervacija:25332
CATEGORIES:Reservation
COLOR:royalblue
DESCRIPTION:Predmeti: \nLetniki: \nIzvajalci: Sandra Murić\nProstori: F2
LOCATION:F2
ORGANIZER:Sandra Murić
X-WR-TIMEZONE:Europe/Ljubljana
END:VEVENT
BEGIN:VEVENT
SUMMARY:Tutorstvo za Statistično termodinamiko
DTSTART;TZID=Europe/Ljubljana:20251117T150000
DTEND;TZID=Europe/Ljubljana:20251117T170000
DTSTAMP:20260425T145803Z
UID:fmf-AFLABS-URNIK:rezervacija:25333
CATEGORIES:Reservation
COLOR:royalblue
DESCRIPTION:Predmeti: \nLetniki: \nIzvajalci: Sandra Murić\nProstori: P.0
 2
LOCATION:P.02
ORGANIZER:Sandra Murić
X-WR-TIMEZONE:Europe/Ljubljana
END:VEVENT
BEGIN:VEVENT
SUMMARY:Kolokvij pri predmetu JKL
DTSTART;TZID=Europe/Ljubljana:20251128T140000
DTEND;TZID=Europe/Ljubljana:20251128T160000
DTSTAMP:20260425T145803Z
UID:fmf-AFLABS-URNIK:rezervacija:25567
ATTENDEE:1. letnik (Fizika, 2. stopnja)
CATEGORIES:Reservation
COLOR:royalblue
DESCRIPTION:Predmeti: Jedra\, kvarki in leptoni (FIZ-M1)\nLetniki: 1. letn
 ik (Fizika\, 2. stopnja)\nIzvajalci: Sandra Murić\nProstori: F7
LOCATION:F7
ORGANIZER:Sandra Murić
X-WR-TIMEZONE:Europe/Ljubljana
END:VEVENT
BEGIN:VEVENT
SUMMARY:Tutorstvo Fizika Fri
DTSTART;TZID=Europe/Ljubljana:20251118T130000
DTEND;TZID=Europe/Ljubljana:20251118T140000
DTSTAMP:20260425T145803Z
UID:fmf-AFLABS-URNIK:rezervacija:25577
CATEGORIES:Reservation
COLOR:royalblue
DESCRIPTION:Predmeti: \nLetniki: \nIzvajalci: Sandra Murić\nProstori: F8
LOCATION:F8
ORGANIZER:Sandra Murić
X-WR-TIMEZONE:Europe/Ljubljana
END:VEVENT
BEGIN:VEVENT
SUMMARY:Zagovor magisterija - Rudolf Krpič
DTSTART;TZID=Europe/Ljubljana:20251203T140000
DTEND;TZID=Europe/Ljubljana:20251203T170000
DTSTAMP:20260425T145803Z
UID:fmf-AFLABS-URNIK:rezervacija:25586
CATEGORIES:Reservation
COLOR:royalblue
DESCRIPTION:Predmeti: \nLetniki: \nIzvajalci: Sandra Murić\nProstori: F6
LOCATION:F6
ORGANIZER:Sandra Murić
X-WR-TIMEZONE:Europe/Ljubljana
END:VEVENT
BEGIN:VEVENT
SUMMARY:Zagovor magisterija - Rudolf Krpič
DTSTART;TZID=Europe/Ljubljana:20251203T090000
DTEND;TZID=Europe/Ljubljana:20251203T130000
DTSTAMP:20260425T145803Z
UID:fmf-AFLABS-URNIK:rezervacija:25663
CATEGORIES:Reservation
COLOR:royalblue
DESCRIPTION:Predmeti: \nLetniki: \nIzvajalci: Sandra Murić\nProstori: 1.0
 2
LOCATION:1.02
ORGANIZER:Sandra Murić
X-WR-TIMEZONE:Europe/Ljubljana
END:VEVENT
BEGIN:VEVENT
SUMMARY:Zagovor magisterija - Matej Urbačič
DTSTART;TZID=Europe/Ljubljana:20251215T140000
DTEND;TZID=Europe/Ljubljana:20251215T160000
DTSTAMP:20260425T145803Z
UID:fmf-AFLABS-URNIK:rezervacija:25808
CATEGORIES:Reservation
COLOR:royalblue
DESCRIPTION:Predmeti: \nLetniki: \nIzvajalci: Sandra Murić\nProstori: F2
LOCATION:F2
ORGANIZER:Sandra Murić
X-WR-TIMEZONE:Europe/Ljubljana
END:VEVENT
BEGIN:VEVENT
SUMMARY:Zagovor magisterija
DTSTART;TZID=Europe/Ljubljana:20251210T080000
DTEND;TZID=Europe/Ljubljana:20251210T110000
DTSTAMP:20260425T145803Z
UID:fmf-AFLABS-URNIK:rezervacija:25810
CATEGORIES:Reservation
COLOR:royalblue
DESCRIPTION:Predmeti: \nLetniki: \nIzvajalci: Sandra Murić\nProstori: 1.0
 2
LOCATION:1.02
ORGANIZER:Sandra Murić
X-WR-TIMEZONE:Europe/Ljubljana
END:VEVENT
BEGIN:VEVENT
SUMMARY:Tutorstvo
DTSTART;TZID=Europe/Ljubljana:20251202T120000
DTEND;TZID=Europe/Ljubljana:20251202T140000
DTSTAMP:20260425T145803Z
UID:fmf-AFLABS-URNIK:rezervacija:25835
CATEGORIES:Reservation
COLOR:royalblue
DESCRIPTION:Predmeti: \nLetniki: \nIzvajalci: Sandra Murić\nProstori: F8
LOCATION:F8
ORGANIZER:Sandra Murić
X-WR-TIMEZONE:Europe/Ljubljana
END:VEVENT
BEGIN:VEVENT
SUMMARY:Fizika fisijskih reaktorjev
DTSTART;TZID=Europe/Ljubljana:20251212T140000
DTEND;TZID=Europe/Ljubljana:20251212T160000
DTSTAMP:20260425T145803Z
UID:fmf-AFLABS-URNIK:rezervacija:25972
CATEGORIES:Reservation
COLOR:royalblue
DESCRIPTION:Predmeti: \nLetniki: \nIzvajalci: Sandra Murić\nProstori: 2.0
 5
LOCATION:2.05
ORGANIZER:Sandra Murić
X-WR-TIMEZONE:Europe/Ljubljana
END:VEVENT
BEGIN:VEVENT
SUMMARY:Zagovor magisterija - Luka Šalamun
DTSTART;TZID=Europe/Ljubljana:20260113T080000
DTEND;TZID=Europe/Ljubljana:20260113T110000
DTSTAMP:20260425T145803Z
UID:fmf-AFLABS-URNIK:rezervacija:26171
CATEGORIES:Reservation
COLOR:royalblue
DESCRIPTION:Predmeti: \nLetniki: \nIzvajalci: Sandra Murić\nProstori: 1.0
 2
LOCATION:1.02
ORGANIZER:Sandra Murić
X-WR-TIMEZONE:Europe/Ljubljana
END:VEVENT
BEGIN:VEVENT
SUMMARY:Greta sindikat
DTSTART;TZID=Europe/Ljubljana:20260120T130000
DTEND;TZID=Europe/Ljubljana:20260120T140000
DTSTAMP:20260425T145803Z
UID:fmf-AFLABS-URNIK:rezervacija:26172
CATEGORIES:Reservation
COLOR:royalblue
DESCRIPTION:Predmeti: \nLetniki: \nIzvajalci: Sandra Murić\nProstori: Ku
 ščerjev seminar
LOCATION:Kuščerjev seminar
ORGANIZER:Sandra Murić
X-WR-TIMEZONE:Europe/Ljubljana
END:VEVENT
BEGIN:VEVENT
SUMMARY:Kolokvij - Fizika fisijskih reaktorjev
DTSTART;TZID=Europe/Ljubljana:20260123T140000
DTEND;TZID=Europe/Ljubljana:20260123T160000
DTSTAMP:20260425T145803Z
UID:fmf-AFLABS-URNIK:rezervacija:26228
ATTENDEE:1. letnik (Jedrska tehnika, 2. stopnja)
ATTENDEE:2. letnik (Jedrska tehnika, 2. stopnja)
CATEGORIES:Reservation
COLOR:royalblue
DESCRIPTION:Predmeti: Fizika fisijskih reaktorjev (JET-1\, JET-2)\nLetniki
 : 1. letnik (Jedrska tehnika\, 2. stopnja)\, 2. letnik (Jedrska tehnika\, 
 2. stopnja)\nIzvajalci: Sandra Murić\nProstori: 1.01
LOCATION:1.01
ORGANIZER:Sandra Murić
X-WR-TIMEZONE:Europe/Ljubljana
END:VEVENT
BEGIN:VEVENT
SUMMARY:Izpit - Fizika fisijskih reaktorjev
DTSTART;TZID=Europe/Ljubljana:20260205T150000
DTEND;TZID=Europe/Ljubljana:20260205T170000
DTSTAMP:20260425T145803Z
UID:fmf-AFLABS-URNIK:rezervacija:26229
ATTENDEE:1. letnik (Jedrska tehnika, 2. stopnja)
ATTENDEE:2. letnik (Jedrska tehnika, 2. stopnja)
CATEGORIES:Reservation
COLOR:royalblue
DESCRIPTION:Predmeti: Fizika fisijskih reaktorjev (JET-1\, JET-2)\nLetniki
 : 1. letnik (Jedrska tehnika\, 2. stopnja)\, 2. letnik (Jedrska tehnika\, 
 2. stopnja)\nIzvajalci: Sandra Murić\nProstori: 1.01
LOCATION:1.01
ORGANIZER:Sandra Murić
X-WR-TIMEZONE:Europe/Ljubljana
END:VEVENT
BEGIN:VEVENT
SUMMARY:Izpit FNJN
DTSTART;TZID=Europe/Ljubljana:20260119T100000
DTEND;TZID=Europe/Ljubljana:20260119T130000
DTSTAMP:20260425T145803Z
UID:fmf-AFLABS-URNIK:rezervacija:26298
ATTENDEE:1. letnik (Medicinska fizika, 2. stopnja)
ATTENDEE:2. letnik (Medicinska fizika, 2. stopnja)
CATEGORIES:Reservation
COLOR:royalblue
DESCRIPTION:Predmeti: Fizika nevtronskih jedrskih naprav (MEF-1\, MEF-2)\n
 Letniki: 1. letnik (Medicinska fizika\, 2. stopnja)\, 2. letnik (Medicinsk
 a fizika\, 2. stopnja)\nIzvajalci: Sandra Murić\nProstori: 3.06
LOCATION:3.06
ORGANIZER:Sandra Murić
X-WR-TIMEZONE:Europe/Ljubljana
END:VEVENT
BEGIN:VEVENT
SUMMARY:Verjetnost v fiziki - izpit
DTSTART;TZID=Europe/Ljubljana:20260204T100000
DTEND;TZID=Europe/Ljubljana:20260204T120000
DTSTAMP:20260425T145803Z
UID:fmf-AFLABS-URNIK:rezervacija:26369
ATTENDEE:2. letnik (Fizika, 1. stopnja)
ATTENDEE:3. letnik (Fizika, 1. stopnja)
CATEGORIES:Reservation
COLOR:royalblue
DESCRIPTION:Predmeti: Verjetnost v fiziki (FIZ-2\, FIZ-3)\nLetniki: 2. let
 nik (Fizika\, 1. stopnja)\, 3. letnik (Fizika\, 1. stopnja)\nIzvajalci: Sa
 ndra Murić\nProstori: VFP
LOCATION:VFP
ORGANIZER:Sandra Murić
X-WR-TIMEZONE:Europe/Ljubljana
END:VEVENT
BEGIN:VEVENT
SUMMARY:Izpit FNJN
DTSTART;TZID=Europe/Ljubljana:20260119T100000
DTEND;TZID=Europe/Ljubljana:20260119T130000
DTSTAMP:20260425T145803Z
UID:fmf-AFLABS-URNIK:rezervacija:26372
ATTENDEE:1. letnik (Medicinska fizika, 2. stopnja)
ATTENDEE:2. letnik (Medicinska fizika, 2. stopnja)
CATEGORIES:Reservation
COLOR:royalblue
DESCRIPTION:Predmeti: Fizika nevtronskih jedrskih naprav (MEF-1\, MEF-2)\n
 Letniki: 1. letnik (Medicinska fizika\, 2. stopnja)\, 2. letnik (Medicinsk
 a fizika\, 2. stopnja)\nIzvajalci: Sandra Murić\nProstori: F6
LOCATION:F6
ORGANIZER:Sandra Murić
X-WR-TIMEZONE:Europe/Ljubljana
END:VEVENT
END:VCALENDAR
