BEGIN:VCALENDAR
VERSION:2.0
PRODID:-//AFLabs urnik izvoz - fmf//aflabs.si//SI
DTSTAMP:20260419T125942Z
NAME:UL FMF urnik
REFRESH-INTERVAL:PT1H
SOURCE:https://urnik.fmf.uni-lj.si/teacher/1165?day=2026-02-09&export=1
URL:https://urnik.fmf.uni-lj.si/teacher/1165?day=2026-02-09&export=1
X-PUBLISHED-TTL:PT1H
X-WR-CALNAME:UL FMF urnik
X-WR-TIMEZONE:Europe/Ljubljana
BEGIN:VTIMEZONE
TZID:Europe/Ljubljana
BEGIN:DAYLIGHT
DTSTART:20260329T020000
RDATE:20260329T020000
RDATE:20270328T020000
TZNAME:CEST
TZOFFSETFROM:+0100
TZOFFSETTO:+0200
END:DAYLIGHT
BEGIN:STANDARD
DTSTART:20261025T030000
RDATE:20261025T030000
RDATE:20271031T030000
TZNAME:CET
TZOFFSETFROM:+0200
TZOFFSETTO:+0100
END:STANDARD
END:VTIMEZONE
BEGIN:VEVENT
SUMMARY:Izpita ADM
DTSTART;TZID=Europe/Ljubljana:20260123T090000
DTEND;TZID=Europe/Ljubljana:20260123T130000
DTSTAMP:20260419T125942Z
UID:fmf-AFLABS-URNIK:rezervacija:26401
ATTENDEE:2. letnik (APM)
CATEGORIES:Reservation
COLOR:royalblue
DESCRIPTION:Predmeti: Algebra in diskretna matematika (APM-2)\nLetniki: 2.
  letnik (APM)\nIzvajalci: Maruša Lekše\, Primož Potočnik\nProstori: 2.
 02
LOCATION:2.02
ORGANIZER:Maruša Lekše, Primož Potočnik
X-WR-TIMEZONE:Europe/Ljubljana
END:VEVENT
BEGIN:VEVENT
SUMMARY:ADM izpita
DTSTART;TZID=Europe/Ljubljana:20260211T090000
DTEND;TZID=Europe/Ljubljana:20260211T130000
DTSTAMP:20260419T125942Z
UID:fmf-AFLABS-URNIK:rezervacija:26403
ATTENDEE:2. letnik (APM)
CATEGORIES:Reservation
COLOR:royalblue
DESCRIPTION:Predmeti: Algebra in diskretna matematika (APM-2)\nLetniki: 2.
  letnik (APM)\nIzvajalci: Maruša Lekše\, Primož Potočnik\nProstori: 3.
 05
LOCATION:3.05
ORGANIZER:Maruša Lekše, Primož Potočnik
X-WR-TIMEZONE:Europe/Ljubljana
END:VEVENT
END:VCALENDAR
