BEGIN:VCALENDAR
VERSION:2.0
PRODID:-//AFLabs urnik izvoz - fmf//aflabs.si//SI
DTSTAMP:20260421T052808Z
NAME:UL FMF urnik
REFRESH-INTERVAL:PT1H
SOURCE:https://urnik.fmf.uni-lj.si/teacher/1166?day=2025-09-29&export=1
URL:https://urnik.fmf.uni-lj.si/teacher/1166?day=2025-09-29&export=1
X-PUBLISHED-TTL:PT1H
X-WR-CALNAME:UL FMF urnik
X-WR-TIMEZONE:Europe/Ljubljana
BEGIN:VTIMEZONE
TZID:Europe/Ljubljana
BEGIN:DAYLIGHT
DTSTART:20260329T020000
RDATE:20260329T020000
RDATE:20270328T020000
TZNAME:CEST
TZOFFSETFROM:+0100
TZOFFSETTO:+0200
END:DAYLIGHT
BEGIN:STANDARD
DTSTART:20261025T030000
RDATE:20261025T030000
RDATE:20271031T030000
TZNAME:CET
TZOFFSETFROM:+0200
TZOFFSETTO:+0100
END:STANDARD
END:VTIMEZONE
BEGIN:VEVENT
SUMMARY:MAT (BF) ()\, Ostalo (O)
DTSTART;TZID=Europe/Ljubljana:20251003T080000
DTEND;TZID=Europe/Ljubljana:20251003T110000
DTSTAMP:20260421T052808Z
UID:fmf-AFLABS-URNIK:premaknjeno-srecanje:220309
CATEGORIES:Entry,Standard
COLOR:darkgreen
DESCRIPTION:Predmet: MAT (BF) ()\, Ostalo (O)\nLetniki: \nIzvajalci: Ganna
  Kudryavtseva\nProstor: BF
LOCATION:BF
ORGANIZER:Ganna Kudryavtseva
RELATED-TO:fmf-AFLABS-URNIK:srecanje:16086
X-WR-TIMEZONE:Europe/Ljubljana
END:VEVENT
BEGIN:VEVENT
SUMMARY:MAT (BF) ()\, Ostalo (O)
DTSTART;TZID=Europe/Ljubljana:20251010T080000
DTEND;TZID=Europe/Ljubljana:20251010T110000
DTSTAMP:20260421T052808Z
UID:fmf-AFLABS-URNIK:premaknjeno-srecanje:220310
CATEGORIES:Entry,Standard
COLOR:darkgreen
DESCRIPTION:Predmet: MAT (BF) ()\, Ostalo (O)\nLetniki: \nIzvajalci: Ganna
  Kudryavtseva\nProstor: BF
LOCATION:BF
ORGANIZER:Ganna Kudryavtseva
RELATED-TO:fmf-AFLABS-URNIK:srecanje:16086
X-WR-TIMEZONE:Europe/Ljubljana
END:VEVENT
BEGIN:VEVENT
SUMMARY:MAT (BF) ()\, Ostalo (O)
DTSTART;TZID=Europe/Ljubljana:20251017T080000
DTEND;TZID=Europe/Ljubljana:20251017T110000
DTSTAMP:20260421T052808Z
UID:fmf-AFLABS-URNIK:premaknjeno-srecanje:220311
CATEGORIES:Entry,Standard
COLOR:darkgreen
DESCRIPTION:Predmet: MAT (BF) ()\, Ostalo (O)\nLetniki: \nIzvajalci: Ganna
  Kudryavtseva\nProstor: BF
LOCATION:BF
ORGANIZER:Ganna Kudryavtseva
RELATED-TO:fmf-AFLABS-URNIK:srecanje:16086
X-WR-TIMEZONE:Europe/Ljubljana
END:VEVENT
BEGIN:VEVENT
SUMMARY:MAT (BF) ()\, Ostalo (O)
DTSTART;TZID=Europe/Ljubljana:20251024T080000
DTEND;TZID=Europe/Ljubljana:20251024T110000
DTSTAMP:20260421T052808Z
UID:fmf-AFLABS-URNIK:premaknjeno-srecanje:220312
CATEGORIES:Entry,Standard
COLOR:darkgreen
DESCRIPTION:Predmet: MAT (BF) ()\, Ostalo (O)\nLetniki: \nIzvajalci: Ganna
  Kudryavtseva\nProstor: BF
LOCATION:BF
ORGANIZER:Ganna Kudryavtseva
RELATED-TO:fmf-AFLABS-URNIK:srecanje:16086
X-WR-TIMEZONE:Europe/Ljubljana
END:VEVENT
BEGIN:VEVENT
SUMMARY:MAT (BF) ()\, Ostalo (O)
DTSTART;TZID=Europe/Ljubljana:20251031T080000
DTEND;TZID=Europe/Ljubljana:20251031T110000
DTSTAMP:20260421T052808Z
UID:fmf-AFLABS-URNIK:premaknjeno-srecanje:220313
CATEGORIES:Entry,Standard
COLOR:darkgreen
DESCRIPTION:Predmet: MAT (BF) ()\, Ostalo (O)\nLetniki: \nIzvajalci: Ganna
  Kudryavtseva\nProstor: BF
LOCATION:BF
ORGANIZER:Ganna Kudryavtseva
RELATED-TO:fmf-AFLABS-URNIK:srecanje:16086
X-WR-TIMEZONE:Europe/Ljubljana
END:VEVENT
BEGIN:VEVENT
SUMMARY:Kolegij dekana ()\, Ostalo (O)
DTSTART;TZID=Europe/Ljubljana:20251006T080000
DTEND;TZID=Europe/Ljubljana:20251006T130000
DTSTAMP:20260421T052808Z
UID:fmf-AFLABS-URNIK:premaknjeno-srecanje:219267
CATEGORIES:Entry,Standard
COLOR:darkgreen
DESCRIPTION:Predmet: Kolegij dekana ()\, Ostalo (O)\nLetniki: \nIzvajalci:
  Ganna Kudryavtseva\, Primož Potočnik\, Matija Pretnar\nProstor: Sejna s
 oba J21
LOCATION:Sejna soba J21
ORGANIZER:Ganna Kudryavtseva, Primož Potočnik, Matija Pretnar
RELATED-TO:fmf-AFLABS-URNIK:srecanje:16019
X-WR-TIMEZONE:Europe/Ljubljana
END:VEVENT
BEGIN:VEVENT
SUMMARY:Kolegij dekana ()\, Ostalo (O)
DTSTART;TZID=Europe/Ljubljana:20251013T080000
DTEND;TZID=Europe/Ljubljana:20251013T130000
DTSTAMP:20260421T052808Z
UID:fmf-AFLABS-URNIK:premaknjeno-srecanje:219268
CATEGORIES:Entry,Standard
COLOR:darkgreen
DESCRIPTION:Predmet: Kolegij dekana ()\, Ostalo (O)\nLetniki: \nIzvajalci:
  Ganna Kudryavtseva\, Primož Potočnik\, Matija Pretnar\nProstor: Sejna s
 oba J21
LOCATION:Sejna soba J21
ORGANIZER:Ganna Kudryavtseva, Primož Potočnik, Matija Pretnar
RELATED-TO:fmf-AFLABS-URNIK:srecanje:16019
X-WR-TIMEZONE:Europe/Ljubljana
END:VEVENT
BEGIN:VEVENT
SUMMARY:Kolegij dekana ()\, Ostalo (O)
DTSTART;TZID=Europe/Ljubljana:20251020T080000
DTEND;TZID=Europe/Ljubljana:20251020T130000
DTSTAMP:20260421T052808Z
UID:fmf-AFLABS-URNIK:premaknjeno-srecanje:219269
CATEGORIES:Entry,Standard
COLOR:darkgreen
DESCRIPTION:Predmet: Kolegij dekana ()\, Ostalo (O)\nLetniki: \nIzvajalci:
  Ganna Kudryavtseva\, Primož Potočnik\, Matija Pretnar\nProstor: Sejna s
 oba J21
LOCATION:Sejna soba J21
ORGANIZER:Ganna Kudryavtseva, Primož Potočnik, Matija Pretnar
RELATED-TO:fmf-AFLABS-URNIK:srecanje:16019
X-WR-TIMEZONE:Europe/Ljubljana
END:VEVENT
BEGIN:VEVENT
SUMMARY:Kolegij dekana ()\, Ostalo (O)
DTSTART;TZID=Europe/Ljubljana:20251027T080000
DTEND;TZID=Europe/Ljubljana:20251027T130000
DTSTAMP:20260421T052808Z
UID:fmf-AFLABS-URNIK:premaknjeno-srecanje:219270
CATEGORIES:Entry,Standard
COLOR:darkgreen
DESCRIPTION:Predmet: Kolegij dekana ()\, Ostalo (O)\nLetniki: \nIzvajalci:
  Ganna Kudryavtseva\, Primož Potočnik\, Matija Pretnar\nProstor: Sejna s
 oba J21
LOCATION:Sejna soba J21
ORGANIZER:Ganna Kudryavtseva, Primož Potočnik, Matija Pretnar
RELATED-TO:fmf-AFLABS-URNIK:srecanje:16019
X-WR-TIMEZONE:Europe/Ljubljana
END:VEVENT
BEGIN:VEVENT
SUMMARY:Kolegij dekana ()\, Ostalo (O)
DTSTART;TZID=Europe/Ljubljana:20251103T080000
DTEND;TZID=Europe/Ljubljana:20251103T130000
DTSTAMP:20260421T052808Z
UID:fmf-AFLABS-URNIK:premaknjeno-srecanje:219271
CATEGORIES:Entry,Standard
COLOR:darkgreen
DESCRIPTION:Predmet: Kolegij dekana ()\, Ostalo (O)\nLetniki: \nIzvajalci:
  Ganna Kudryavtseva\, Primož Potočnik\, Matija Pretnar\nProstor: Sejna s
 oba J21
LOCATION:Sejna soba J21
ORGANIZER:Ganna Kudryavtseva, Primož Potočnik, Matija Pretnar
RELATED-TO:fmf-AFLABS-URNIK:srecanje:16019
X-WR-TIMEZONE:Europe/Ljubljana
END:VEVENT
BEGIN:VEVENT
SUMMARY:Diskretne strukture (FM-1)\, Predavanja (P)
DTSTART;TZID=Europe/Ljubljana:20251007T120000
DTEND;TZID=Europe/Ljubljana:20251007T140000
DTSTAMP:20260421T052808Z
UID:fmf-AFLABS-URNIK:premaknjeno-srecanje:216372
ATTENDEE:1. letnik (FM)
CATEGORIES:Entry,Standard
COLOR:darkgreen
DESCRIPTION:Predmet: Diskretne strukture (FM-1)\, Predavanja (P)\nLetniki:
  1. letnik (FM)\nIzvajalci: Ganna Kudryavtseva\nProstor: 2.05
LOCATION:2.05
ORGANIZER:Ganna Kudryavtseva
RELATED-TO:fmf-AFLABS-URNIK:srecanje:15833
X-WR-TIMEZONE:Europe/Ljubljana
END:VEVENT
BEGIN:VEVENT
SUMMARY:Diskretne strukture (FM-1)\, Predavanja (P)
DTSTART;TZID=Europe/Ljubljana:20251014T120000
DTEND;TZID=Europe/Ljubljana:20251014T140000
DTSTAMP:20260421T052808Z
UID:fmf-AFLABS-URNIK:premaknjeno-srecanje:216373
ATTENDEE:1. letnik (FM)
CATEGORIES:Entry,Standard
COLOR:darkgreen
DESCRIPTION:Predmet: Diskretne strukture (FM-1)\, Predavanja (P)\nLetniki:
  1. letnik (FM)\nIzvajalci: Ganna Kudryavtseva\nProstor: 2.05
LOCATION:2.05
ORGANIZER:Ganna Kudryavtseva
RELATED-TO:fmf-AFLABS-URNIK:srecanje:15833
X-WR-TIMEZONE:Europe/Ljubljana
END:VEVENT
BEGIN:VEVENT
SUMMARY:Diskretne strukture (FM-1)\, Predavanja (P)
DTSTART;TZID=Europe/Ljubljana:20251021T120000
DTEND;TZID=Europe/Ljubljana:20251021T140000
DTSTAMP:20260421T052808Z
UID:fmf-AFLABS-URNIK:premaknjeno-srecanje:216374
ATTENDEE:1. letnik (FM)
CATEGORIES:Entry,Standard
COLOR:darkgreen
DESCRIPTION:Predmet: Diskretne strukture (FM-1)\, Predavanja (P)\nLetniki:
  1. letnik (FM)\nIzvajalci: Ganna Kudryavtseva\nProstor: 2.05
LOCATION:2.05
ORGANIZER:Ganna Kudryavtseva
RELATED-TO:fmf-AFLABS-URNIK:srecanje:15833
X-WR-TIMEZONE:Europe/Ljubljana
END:VEVENT
BEGIN:VEVENT
SUMMARY:Diskretne strukture (FM-1)\, Predavanja (P)
DTSTART;TZID=Europe/Ljubljana:20251028T120000
DTEND;TZID=Europe/Ljubljana:20251028T140000
DTSTAMP:20260421T052808Z
UID:fmf-AFLABS-URNIK:premaknjeno-srecanje:216375
ATTENDEE:1. letnik (FM)
CATEGORIES:Entry,Standard
COLOR:darkgreen
DESCRIPTION:Predmet: Diskretne strukture (FM-1)\, Predavanja (P)\nLetniki:
  1. letnik (FM)\nIzvajalci: Ganna Kudryavtseva\nProstor: 2.05
LOCATION:2.05
ORGANIZER:Ganna Kudryavtseva
RELATED-TO:fmf-AFLABS-URNIK:srecanje:15833
X-WR-TIMEZONE:Europe/Ljubljana
END:VEVENT
BEGIN:VEVENT
SUMMARY:MAT (BF) ()\, Ostalo (O)
DTSTART;TZID=Europe/Ljubljana:20251007T080000
DTEND;TZID=Europe/Ljubljana:20251007T100000
DTSTAMP:20260421T052808Z
UID:fmf-AFLABS-URNIK:premaknjeno-srecanje:220294
CATEGORIES:Entry,Standard
COLOR:darkgreen
DESCRIPTION:Predmet: MAT (BF) ()\, Ostalo (O)\nLetniki: \nIzvajalci: Ganna
  Kudryavtseva\nProstor: BF
LOCATION:BF
ORGANIZER:Ganna Kudryavtseva
RELATED-TO:fmf-AFLABS-URNIK:srecanje:16085
X-WR-TIMEZONE:Europe/Ljubljana
END:VEVENT
BEGIN:VEVENT
SUMMARY:MAT (BF) ()\, Ostalo (O)
DTSTART;TZID=Europe/Ljubljana:20251014T080000
DTEND;TZID=Europe/Ljubljana:20251014T100000
DTSTAMP:20260421T052808Z
UID:fmf-AFLABS-URNIK:premaknjeno-srecanje:220295
CATEGORIES:Entry,Standard
COLOR:darkgreen
DESCRIPTION:Predmet: MAT (BF) ()\, Ostalo (O)\nLetniki: \nIzvajalci: Ganna
  Kudryavtseva\nProstor: BF
LOCATION:BF
ORGANIZER:Ganna Kudryavtseva
RELATED-TO:fmf-AFLABS-URNIK:srecanje:16085
X-WR-TIMEZONE:Europe/Ljubljana
END:VEVENT
BEGIN:VEVENT
SUMMARY:MAT (BF) ()\, Ostalo (O)
DTSTART;TZID=Europe/Ljubljana:20251021T080000
DTEND;TZID=Europe/Ljubljana:20251021T100000
DTSTAMP:20260421T052808Z
UID:fmf-AFLABS-URNIK:premaknjeno-srecanje:220296
CATEGORIES:Entry,Standard
COLOR:darkgreen
DESCRIPTION:Predmet: MAT (BF) ()\, Ostalo (O)\nLetniki: \nIzvajalci: Ganna
  Kudryavtseva\nProstor: BF
LOCATION:BF
ORGANIZER:Ganna Kudryavtseva
RELATED-TO:fmf-AFLABS-URNIK:srecanje:16085
X-WR-TIMEZONE:Europe/Ljubljana
END:VEVENT
BEGIN:VEVENT
SUMMARY:MAT (BF) ()\, Ostalo (O)
DTSTART;TZID=Europe/Ljubljana:20251028T080000
DTEND;TZID=Europe/Ljubljana:20251028T100000
DTSTAMP:20260421T052808Z
UID:fmf-AFLABS-URNIK:premaknjeno-srecanje:220297
CATEGORIES:Entry,Standard
COLOR:darkgreen
DESCRIPTION:Predmet: MAT (BF) ()\, Ostalo (O)\nLetniki: \nIzvajalci: Ganna
  Kudryavtseva\nProstor: BF
LOCATION:BF
ORGANIZER:Ganna Kudryavtseva
RELATED-TO:fmf-AFLABS-URNIK:srecanje:16085
X-WR-TIMEZONE:Europe/Ljubljana
END:VEVENT
BEGIN:VEVENT
SUMMARY:Izpit Algebra 2
DTSTART;TZID=Europe/Ljubljana:20250820T090000
DTEND;TZID=Europe/Ljubljana:20250820T110000
DTSTAMP:20260421T052808Z
UID:fmf-AFLABS-URNIK:rezervacija:22266
ATTENDEE:2. letnik (M)
ATTENDEE:2. letnik (PM)
ATTENDEE:3. letnik (FM)
CATEGORIES:Reservation
COLOR:royalblue
DESCRIPTION:Predmeti: Algebra 2 (FM-3\, MAT-2\, PM-2)\nLetniki: 3. letnik 
 (FM)\, 2. letnik (M)\, 2. letnik (PM)\nIzvajalci: Ganna Kudryavtseva\nPros
 tori: 3.04
LOCATION:3.04
ORGANIZER:Ganna Kudryavtseva
X-WR-TIMEZONE:Europe/Ljubljana
END:VEVENT
BEGIN:VEVENT
SUMMARY:Izpit Algebra 2
DTSTART;TZID=Europe/Ljubljana:20250618T090000
DTEND;TZID=Europe/Ljubljana:20250618T110000
DTSTAMP:20260421T052808Z
UID:fmf-AFLABS-URNIK:rezervacija:22265
ATTENDEE:2. letnik (M)
ATTENDEE:2. letnik (PM)
ATTENDEE:3. letnik (FM)
CATEGORIES:Reservation
COLOR:royalblue
DESCRIPTION:Predmeti: Algebra 2 (FM-3\, MAT-2\, PM-2)\nLetniki: 3. letnik 
 (FM)\, 2. letnik (M)\, 2. letnik (PM)\nIzvajalci: Ganna Kudryavtseva\nPros
 tori: 1.01
LOCATION:1.01
ORGANIZER:Ganna Kudryavtseva
X-WR-TIMEZONE:Europe/Ljubljana
END:VEVENT
BEGIN:VEVENT
SUMMARY:Izpit iz teorije DS
DTSTART;TZID=Europe/Ljubljana:20250623T100000
DTEND;TZID=Europe/Ljubljana:20250623T120000
DTSTAMP:20260421T052808Z
UID:fmf-AFLABS-URNIK:rezervacija:23001
ATTENDEE:1. letnik (FM)
CATEGORIES:Reservation
COLOR:royalblue
DESCRIPTION:Predmeti: Diskretne strukture (FM-1)\nLetniki: 1. letnik (FM)\
 nIzvajalci: Ganna Kudryavtseva\nProstori: 3.05
LOCATION:3.05
ORGANIZER:Ganna Kudryavtseva
X-WR-TIMEZONE:Europe/Ljubljana
END:VEVENT
BEGIN:VEVENT
SUMMARY:Izpit Algebra 2
DTSTART;TZID=Europe/Ljubljana:20250805T090000
DTEND;TZID=Europe/Ljubljana:20250805T110000
DTSTAMP:20260421T052808Z
UID:fmf-AFLABS-URNIK:rezervacija:22267
ATTENDEE:2. letnik (M)
ATTENDEE:2. letnik (PM)
ATTENDEE:3. letnik (FM)
CATEGORIES:Reservation
COLOR:royalblue
DESCRIPTION:Predmeti: Algebra 2 (FM-3\, MAT-2\, PM-2)\nLetniki: 3. letnik 
 (FM)\, 2. letnik (M)\, 2. letnik (PM)\nIzvajalci: Ganna Kudryavtseva\nPros
 tori: 3.04
LOCATION:3.04
ORGANIZER:Ganna Kudryavtseva
X-WR-TIMEZONE:Europe/Ljubljana
END:VEVENT
END:VCALENDAR
