BEGIN:VCALENDAR
VERSION:2.0
PRODID:-//AFLabs urnik izvoz - fmf//aflabs.si//SI
DTSTAMP:20260419T123750Z
NAME:UL FMF urnik
REFRESH-INTERVAL:PT1H
SOURCE:https://urnik.fmf.uni-lj.si/teacher/1167?day=2025-09-01&export=1
URL:https://urnik.fmf.uni-lj.si/teacher/1167?day=2025-09-01&export=1
X-PUBLISHED-TTL:PT1H
X-WR-CALNAME:UL FMF urnik
X-WR-TIMEZONE:Europe/Ljubljana
BEGIN:VTIMEZONE
TZID:Europe/Ljubljana
BEGIN:DAYLIGHT
DTSTART:20260329T020000
RDATE:20260329T020000
RDATE:20270328T020000
TZNAME:CEST
TZOFFSETFROM:+0100
TZOFFSETTO:+0200
END:DAYLIGHT
BEGIN:STANDARD
DTSTART:20261025T030000
RDATE:20261025T030000
RDATE:20271031T030000
TZNAME:CET
TZOFFSETFROM:+0200
TZOFFSETTO:+0100
END:STANDARD
END:VTIMEZONE
BEGIN:VEVENT
SUMMARY:Algebra 1 (MAT-1\, PM-1)\, Vaje (V)\, [2]
DTSTART;TZID=Europe/Ljubljana:20251006T130000
DTEND;TZID=Europe/Ljubljana:20251006T160000
DTSTAMP:20260419T123750Z
UID:fmf-AFLABS-URNIK:premaknjeno-srecanje:215214
ATTENDEE:1. letnik (M)
ATTENDEE:1. letnik (PM)
CATEGORIES:Entry,Standard
COLOR:darkgreen
DESCRIPTION:Predmet: Algebra 1 (MAT-1\, PM-1)\, Vaje (V)\, [2]\nLetniki: 1
 . letnik (M)\, 1. letnik (PM)\nIzvajalci: Luka Boc Thaler\nProstor: 2.05
LOCATION:2.05
ORGANIZER:Luka Boc Thaler
RELATED-TO:fmf-AFLABS-URNIK:srecanje:15759
X-WR-TIMEZONE:Europe/Ljubljana
END:VEVENT
BEGIN:VEVENT
SUMMARY:Poletna šola Mathematics in Ljubljana 2025
DTSTART;TZID=Europe/Ljubljana:20250704T090000
DTEND;TZID=Europe/Ljubljana:20250704T160000
DTSTAMP:20260419T123750Z
UID:fmf-AFLABS-URNIK:rezervacija:21554
CATEGORIES:Reservation
COLOR:royalblue
DESCRIPTION:Predmeti: \nLetniki: \nIzvajalci: Luka Boc Thaler\nProstori: 2
 .02
LOCATION:2.02
ORGANIZER:Luka Boc Thaler
X-WR-TIMEZONE:Europe/Ljubljana
END:VEVENT
BEGIN:VEVENT
SUMMARY:Poletna šola Mathematics in Ljubljana 2025
DTSTART;TZID=Europe/Ljubljana:20250701T090000
DTEND;TZID=Europe/Ljubljana:20250701T160000
DTSTAMP:20260419T123750Z
UID:fmf-AFLABS-URNIK:rezervacija:21551
CATEGORIES:Reservation
COLOR:royalblue
DESCRIPTION:Predmeti: \nLetniki: \nIzvajalci: Luka Boc Thaler\nProstori: 2
 .02
LOCATION:2.02
ORGANIZER:Luka Boc Thaler
X-WR-TIMEZONE:Europe/Ljubljana
END:VEVENT
BEGIN:VEVENT
SUMMARY:Poletna šola Mathematics in Ljubljana 2025
DTSTART;TZID=Europe/Ljubljana:20250630T090000
DTEND;TZID=Europe/Ljubljana:20250630T160000
DTSTAMP:20260419T123750Z
UID:fmf-AFLABS-URNIK:rezervacija:21550
CATEGORIES:Reservation
COLOR:royalblue
DESCRIPTION:Predmeti: \nLetniki: \nIzvajalci: Luka Boc Thaler\nProstori: 2
 .02
LOCATION:2.02
ORGANIZER:Luka Boc Thaler
X-WR-TIMEZONE:Europe/Ljubljana
END:VEVENT
BEGIN:VEVENT
SUMMARY:Poletna šola Mathematics in Ljubljana 2025
DTSTART;TZID=Europe/Ljubljana:20250702T090000
DTEND;TZID=Europe/Ljubljana:20250702T160000
DTSTAMP:20260419T123750Z
UID:fmf-AFLABS-URNIK:rezervacija:21552
CATEGORIES:Reservation
COLOR:royalblue
DESCRIPTION:Predmeti: \nLetniki: \nIzvajalci: Luka Boc Thaler\nProstori: 2
 .02
LOCATION:2.02
ORGANIZER:Luka Boc Thaler
X-WR-TIMEZONE:Europe/Ljubljana
END:VEVENT
BEGIN:VEVENT
SUMMARY:Poletna šola Mathematics in Ljubljana 2025
DTSTART;TZID=Europe/Ljubljana:20250703T090000
DTEND;TZID=Europe/Ljubljana:20250703T160000
DTSTAMP:20260419T123750Z
UID:fmf-AFLABS-URNIK:rezervacija:21553
CATEGORIES:Reservation
COLOR:royalblue
DESCRIPTION:Predmeti: \nLetniki: \nIzvajalci: Luka Boc Thaler\nProstori: 2
 .02
LOCATION:2.02
ORGANIZER:Luka Boc Thaler
X-WR-TIMEZONE:Europe/Ljubljana
END:VEVENT
BEGIN:VEVENT
SUMMARY:Ustni izpiti komisija
DTSTART;TZID=Europe/Ljubljana:20250702T090000
DTEND;TZID=Europe/Ljubljana:20250702T120000
DTSTAMP:20260419T123750Z
UID:fmf-AFLABS-URNIK:rezervacija:23277
CATEGORIES:Reservation
COLOR:royalblue
DESCRIPTION:Predmeti: \nLetniki: \nIzvajalci: Luka Boc Thaler\nProstori: 3
 .07
LOCATION:3.07
ORGANIZER:Luka Boc Thaler
X-WR-TIMEZONE:Europe/Ljubljana
END:VEVENT
END:VCALENDAR
