BEGIN:VCALENDAR
VERSION:2.0
PRODID:-//AFLabs urnik izvoz - fmf//aflabs.si//SI
DTSTAMP:20260423T035103Z
NAME:UL FMF urnik
REFRESH-INTERVAL:PT1H
SOURCE:https://urnik.fmf.uni-lj.si/teacher/117?day=2022-04-25&export=1
URL:https://urnik.fmf.uni-lj.si/teacher/117?day=2022-04-25&export=1
X-PUBLISHED-TTL:PT1H
X-WR-CALNAME:UL FMF urnik
X-WR-TIMEZONE:Europe/Ljubljana
BEGIN:VTIMEZONE
TZID:Europe/Ljubljana
BEGIN:DAYLIGHT
DTSTART:20260329T020000
RDATE:20260329T020000
RDATE:20270328T020000
TZNAME:CEST
TZOFFSETFROM:+0100
TZOFFSETTO:+0200
END:DAYLIGHT
BEGIN:STANDARD
DTSTART:20261025T030000
RDATE:20261025T030000
RDATE:20271031T030000
TZNAME:CET
TZOFFSETFROM:+0200
TZOFFSETTO:+0100
END:STANDARD
END:VTIMEZONE
BEGIN:VEVENT
SUMMARY:Medicinska fizika (APF-2\, APF-3)\, Predavanja (P)
DTSTART;TZID=Europe/Ljubljana:20220215T080000
DTEND;TZID=Europe/Ljubljana:20220215T100000
DTSTAMP:20260423T035103Z
UID:fmf-AFLABS-URNIK:premaknjeno-srecanje:70475
ATTENDEE:2. letnik (Aplikativna fizika)
ATTENDEE:3. letnik (Aplikativna fizika)
CATEGORIES:Entry,Standard
COLOR:darkgreen
DESCRIPTION:Predmet: Medicinska fizika (APF-2\, APF-3)\, Predavanja (P)\nL
 etniki: 2. letnik (Aplikativna fizika)\, 3. letnik (Aplikativna fizika)\nI
 zvajalci: Matija Milanič\nProstor: F7
LOCATION:F7
ORGANIZER:Matija Milanič
RELATED-TO:fmf-AFLABS-URNIK:srecanje:7119
X-WR-TIMEZONE:Europe/Ljubljana
END:VEVENT
BEGIN:VEVENT
SUMMARY:Medicinska fizika (APF-2\, APF-3)\, Predavanja (P)
DTSTART;TZID=Europe/Ljubljana:20220222T080000
DTEND;TZID=Europe/Ljubljana:20220222T100000
DTSTAMP:20260423T035103Z
UID:fmf-AFLABS-URNIK:premaknjeno-srecanje:70476
ATTENDEE:2. letnik (Aplikativna fizika)
ATTENDEE:3. letnik (Aplikativna fizika)
CATEGORIES:Entry,Standard
COLOR:darkgreen
DESCRIPTION:Predmet: Medicinska fizika (APF-2\, APF-3)\, Predavanja (P)\nL
 etniki: 2. letnik (Aplikativna fizika)\, 3. letnik (Aplikativna fizika)\nI
 zvajalci: Matija Milanič\nProstor: F7
LOCATION:F7
ORGANIZER:Matija Milanič
RELATED-TO:fmf-AFLABS-URNIK:srecanje:7119
X-WR-TIMEZONE:Europe/Ljubljana
END:VEVENT
BEGIN:VEVENT
SUMMARY:Medicinska fizika (APF-2\, APF-3)\, Predavanja (P)
DTSTART;TZID=Europe/Ljubljana:20220301T080000
DTEND;TZID=Europe/Ljubljana:20220301T100000
DTSTAMP:20260423T035103Z
UID:fmf-AFLABS-URNIK:premaknjeno-srecanje:70477
ATTENDEE:2. letnik (Aplikativna fizika)
ATTENDEE:3. letnik (Aplikativna fizika)
CATEGORIES:Entry,Standard
COLOR:darkgreen
DESCRIPTION:Predmet: Medicinska fizika (APF-2\, APF-3)\, Predavanja (P)\nL
 etniki: 2. letnik (Aplikativna fizika)\, 3. letnik (Aplikativna fizika)\nI
 zvajalci: Matija Milanič\nProstor: F7
LOCATION:F7
ORGANIZER:Matija Milanič
RELATED-TO:fmf-AFLABS-URNIK:srecanje:7119
X-WR-TIMEZONE:Europe/Ljubljana
END:VEVENT
BEGIN:VEVENT
SUMMARY:Medicinska fizika (APF-2\, APF-3)\, Predavanja (P)
DTSTART;TZID=Europe/Ljubljana:20220308T080000
DTEND;TZID=Europe/Ljubljana:20220308T100000
DTSTAMP:20260423T035103Z
UID:fmf-AFLABS-URNIK:premaknjeno-srecanje:70478
ATTENDEE:2. letnik (Aplikativna fizika)
ATTENDEE:3. letnik (Aplikativna fizika)
CATEGORIES:Entry,Standard
COLOR:darkgreen
DESCRIPTION:Predmet: Medicinska fizika (APF-2\, APF-3)\, Predavanja (P)\nL
 etniki: 2. letnik (Aplikativna fizika)\, 3. letnik (Aplikativna fizika)\nI
 zvajalci: Matija Milanič\nProstor: F7
LOCATION:F7
ORGANIZER:Matija Milanič
RELATED-TO:fmf-AFLABS-URNIK:srecanje:7119
X-WR-TIMEZONE:Europe/Ljubljana
END:VEVENT
BEGIN:VEVENT
SUMMARY:Medicinska fizika (APF-2\, APF-3)\, Predavanja (P)
DTSTART;TZID=Europe/Ljubljana:20220315T080000
DTEND;TZID=Europe/Ljubljana:20220315T100000
DTSTAMP:20260423T035103Z
UID:fmf-AFLABS-URNIK:premaknjeno-srecanje:70479
ATTENDEE:2. letnik (Aplikativna fizika)
ATTENDEE:3. letnik (Aplikativna fizika)
CATEGORIES:Entry,Standard
COLOR:darkgreen
DESCRIPTION:Predmet: Medicinska fizika (APF-2\, APF-3)\, Predavanja (P)\nL
 etniki: 2. letnik (Aplikativna fizika)\, 3. letnik (Aplikativna fizika)\nI
 zvajalci: Matija Milanič\nProstor: F7
LOCATION:F7
ORGANIZER:Matija Milanič
RELATED-TO:fmf-AFLABS-URNIK:srecanje:7119
X-WR-TIMEZONE:Europe/Ljubljana
END:VEVENT
BEGIN:VEVENT
SUMMARY:Medicinska fizika (APF-2\, APF-3)\, Predavanja (P)
DTSTART;TZID=Europe/Ljubljana:20220322T080000
DTEND;TZID=Europe/Ljubljana:20220322T100000
DTSTAMP:20260423T035103Z
UID:fmf-AFLABS-URNIK:premaknjeno-srecanje:70480
ATTENDEE:2. letnik (Aplikativna fizika)
ATTENDEE:3. letnik (Aplikativna fizika)
CATEGORIES:Entry,Standard
COLOR:darkgreen
DESCRIPTION:Predmet: Medicinska fizika (APF-2\, APF-3)\, Predavanja (P)\nL
 etniki: 2. letnik (Aplikativna fizika)\, 3. letnik (Aplikativna fizika)\nI
 zvajalci: Matija Milanič\nProstor: F7
LOCATION:F7
ORGANIZER:Matija Milanič
RELATED-TO:fmf-AFLABS-URNIK:srecanje:7119
X-WR-TIMEZONE:Europe/Ljubljana
END:VEVENT
BEGIN:VEVENT
SUMMARY:Medicinska fizika (APF-2\, APF-3)\, Predavanja (P)
DTSTART;TZID=Europe/Ljubljana:20220329T080000
DTEND;TZID=Europe/Ljubljana:20220329T100000
DTSTAMP:20260423T035103Z
UID:fmf-AFLABS-URNIK:premaknjeno-srecanje:70481
ATTENDEE:2. letnik (Aplikativna fizika)
ATTENDEE:3. letnik (Aplikativna fizika)
CATEGORIES:Entry,Standard
COLOR:darkgreen
DESCRIPTION:Predmet: Medicinska fizika (APF-2\, APF-3)\, Predavanja (P)\nL
 etniki: 2. letnik (Aplikativna fizika)\, 3. letnik (Aplikativna fizika)\nI
 zvajalci: Matija Milanič\nProstor: F7
LOCATION:F7
ORGANIZER:Matija Milanič
RELATED-TO:fmf-AFLABS-URNIK:srecanje:7119
X-WR-TIMEZONE:Europe/Ljubljana
END:VEVENT
BEGIN:VEVENT
SUMMARY:Medicinska fizika (APF-2\, APF-3)\, Predavanja (P)
DTSTART;TZID=Europe/Ljubljana:20220405T080000
DTEND;TZID=Europe/Ljubljana:20220405T100000
DTSTAMP:20260423T035103Z
UID:fmf-AFLABS-URNIK:premaknjeno-srecanje:70482
ATTENDEE:2. letnik (Aplikativna fizika)
ATTENDEE:3. letnik (Aplikativna fizika)
CATEGORIES:Entry,Standard
COLOR:darkgreen
DESCRIPTION:Predmet: Medicinska fizika (APF-2\, APF-3)\, Predavanja (P)\nL
 etniki: 2. letnik (Aplikativna fizika)\, 3. letnik (Aplikativna fizika)\nI
 zvajalci: Matija Milanič\nProstor: F7
LOCATION:F7
ORGANIZER:Matija Milanič
RELATED-TO:fmf-AFLABS-URNIK:srecanje:7119
X-WR-TIMEZONE:Europe/Ljubljana
END:VEVENT
BEGIN:VEVENT
SUMMARY:Medicinska fizika (APF-2\, APF-3)\, Predavanja (P)
DTSTART;TZID=Europe/Ljubljana:20220412T080000
DTEND;TZID=Europe/Ljubljana:20220412T100000
DTSTAMP:20260423T035103Z
UID:fmf-AFLABS-URNIK:premaknjeno-srecanje:70483
ATTENDEE:2. letnik (Aplikativna fizika)
ATTENDEE:3. letnik (Aplikativna fizika)
CATEGORIES:Entry,Standard
COLOR:darkgreen
DESCRIPTION:Predmet: Medicinska fizika (APF-2\, APF-3)\, Predavanja (P)\nL
 etniki: 2. letnik (Aplikativna fizika)\, 3. letnik (Aplikativna fizika)\nI
 zvajalci: Matija Milanič\nProstor: F7
LOCATION:F7
ORGANIZER:Matija Milanič
RELATED-TO:fmf-AFLABS-URNIK:srecanje:7119
X-WR-TIMEZONE:Europe/Ljubljana
END:VEVENT
BEGIN:VEVENT
SUMMARY:Medicinska fizika (APF-2\, APF-3)\, Predavanja (P)
DTSTART;TZID=Europe/Ljubljana:20220419T080000
DTEND;TZID=Europe/Ljubljana:20220419T100000
DTSTAMP:20260423T035103Z
UID:fmf-AFLABS-URNIK:premaknjeno-srecanje:70484
ATTENDEE:2. letnik (Aplikativna fizika)
ATTENDEE:3. letnik (Aplikativna fizika)
CATEGORIES:Entry,Standard
COLOR:darkgreen
DESCRIPTION:Predmet: Medicinska fizika (APF-2\, APF-3)\, Predavanja (P)\nL
 etniki: 2. letnik (Aplikativna fizika)\, 3. letnik (Aplikativna fizika)\nI
 zvajalci: Matija Milanič\nProstor: F7
LOCATION:F7
ORGANIZER:Matija Milanič
RELATED-TO:fmf-AFLABS-URNIK:srecanje:7119
X-WR-TIMEZONE:Europe/Ljubljana
END:VEVENT
BEGIN:VEVENT
SUMMARY:Medicinska fizika (APF-2\, APF-3)\, Predavanja (P)
DTSTART;TZID=Europe/Ljubljana:20220426T080000
DTEND;TZID=Europe/Ljubljana:20220426T100000
DTSTAMP:20260423T035103Z
UID:fmf-AFLABS-URNIK:premaknjeno-srecanje:70485
ATTENDEE:2. letnik (Aplikativna fizika)
ATTENDEE:3. letnik (Aplikativna fizika)
CATEGORIES:Entry,Standard
COLOR:darkgreen
DESCRIPTION:Predmet: Medicinska fizika (APF-2\, APF-3)\, Predavanja (P)\nL
 etniki: 2. letnik (Aplikativna fizika)\, 3. letnik (Aplikativna fizika)\nI
 zvajalci: Matija Milanič\nProstor: F7
LOCATION:F7
ORGANIZER:Matija Milanič
RELATED-TO:fmf-AFLABS-URNIK:srecanje:7119
X-WR-TIMEZONE:Europe/Ljubljana
END:VEVENT
BEGIN:VEVENT
SUMMARY:Medicinska fizika (APF-2\, APF-3)\, Predavanja (P)
DTSTART;TZID=Europe/Ljubljana:20220503T080000
DTEND;TZID=Europe/Ljubljana:20220503T100000
DTSTAMP:20260423T035103Z
UID:fmf-AFLABS-URNIK:premaknjeno-srecanje:70486
ATTENDEE:2. letnik (Aplikativna fizika)
ATTENDEE:3. letnik (Aplikativna fizika)
CATEGORIES:Entry,Standard
COLOR:darkgreen
DESCRIPTION:Predmet: Medicinska fizika (APF-2\, APF-3)\, Predavanja (P)\nL
 etniki: 2. letnik (Aplikativna fizika)\, 3. letnik (Aplikativna fizika)\nI
 zvajalci: Matija Milanič\nProstor: F7
LOCATION:F7
ORGANIZER:Matija Milanič
RELATED-TO:fmf-AFLABS-URNIK:srecanje:7119
X-WR-TIMEZONE:Europe/Ljubljana
END:VEVENT
BEGIN:VEVENT
SUMMARY:Medicinska fizika (APF-2\, APF-3)\, Predavanja (P)
DTSTART;TZID=Europe/Ljubljana:20220510T080000
DTEND;TZID=Europe/Ljubljana:20220510T100000
DTSTAMP:20260423T035103Z
UID:fmf-AFLABS-URNIK:premaknjeno-srecanje:70487
ATTENDEE:2. letnik (Aplikativna fizika)
ATTENDEE:3. letnik (Aplikativna fizika)
CATEGORIES:Entry,Standard
COLOR:darkgreen
DESCRIPTION:Predmet: Medicinska fizika (APF-2\, APF-3)\, Predavanja (P)\nL
 etniki: 2. letnik (Aplikativna fizika)\, 3. letnik (Aplikativna fizika)\nI
 zvajalci: Matija Milanič\nProstor: F7
LOCATION:F7
ORGANIZER:Matija Milanič
RELATED-TO:fmf-AFLABS-URNIK:srecanje:7119
X-WR-TIMEZONE:Europe/Ljubljana
END:VEVENT
BEGIN:VEVENT
SUMMARY:Medicinska fizika (APF-2\, APF-3)\, Predavanja (P)
DTSTART;TZID=Europe/Ljubljana:20220517T080000
DTEND;TZID=Europe/Ljubljana:20220517T100000
DTSTAMP:20260423T035103Z
UID:fmf-AFLABS-URNIK:premaknjeno-srecanje:70488
ATTENDEE:2. letnik (Aplikativna fizika)
ATTENDEE:3. letnik (Aplikativna fizika)
CATEGORIES:Entry,Standard
COLOR:darkgreen
DESCRIPTION:Predmet: Medicinska fizika (APF-2\, APF-3)\, Predavanja (P)\nL
 etniki: 2. letnik (Aplikativna fizika)\, 3. letnik (Aplikativna fizika)\nI
 zvajalci: Matija Milanič\nProstor: F7
LOCATION:F7
ORGANIZER:Matija Milanič
RELATED-TO:fmf-AFLABS-URNIK:srecanje:7119
X-WR-TIMEZONE:Europe/Ljubljana
END:VEVENT
BEGIN:VEVENT
SUMMARY:Medicinska fizika (APF-2\, APF-3)\, Predavanja (P)
DTSTART;TZID=Europe/Ljubljana:20220524T080000
DTEND;TZID=Europe/Ljubljana:20220524T100000
DTSTAMP:20260423T035103Z
UID:fmf-AFLABS-URNIK:premaknjeno-srecanje:70489
ATTENDEE:2. letnik (Aplikativna fizika)
ATTENDEE:3. letnik (Aplikativna fizika)
CATEGORIES:Entry,Standard
COLOR:darkgreen
DESCRIPTION:Predmet: Medicinska fizika (APF-2\, APF-3)\, Predavanja (P)\nL
 etniki: 2. letnik (Aplikativna fizika)\, 3. letnik (Aplikativna fizika)\nI
 zvajalci: Matija Milanič\nProstor: F7
LOCATION:F7
ORGANIZER:Matija Milanič
RELATED-TO:fmf-AFLABS-URNIK:srecanje:7119
X-WR-TIMEZONE:Europe/Ljubljana
END:VEVENT
BEGIN:VEVENT
SUMMARY:Medicinska fizika (APF-2\, APF-3)\, Predavanja (P)
DTSTART;TZID=Europe/Ljubljana:20220531T080000
DTEND;TZID=Europe/Ljubljana:20220531T100000
DTSTAMP:20260423T035103Z
UID:fmf-AFLABS-URNIK:premaknjeno-srecanje:70490
ATTENDEE:2. letnik (Aplikativna fizika)
ATTENDEE:3. letnik (Aplikativna fizika)
CATEGORIES:Entry,Standard
COLOR:darkgreen
DESCRIPTION:Predmet: Medicinska fizika (APF-2\, APF-3)\, Predavanja (P)\nL
 etniki: 2. letnik (Aplikativna fizika)\, 3. letnik (Aplikativna fizika)\nI
 zvajalci: Matija Milanič\nProstor: F7
LOCATION:F7
ORGANIZER:Matija Milanič
RELATED-TO:fmf-AFLABS-URNIK:srecanje:7119
X-WR-TIMEZONE:Europe/Ljubljana
END:VEVENT
BEGIN:VEVENT
SUMMARY:Fizika II (APF-2)\, Seminar (S)
DTSTART;TZID=Europe/Ljubljana:20220218T110000
DTEND;TZID=Europe/Ljubljana:20220218T120000
DTSTAMP:20260423T035103Z
UID:fmf-AFLABS-URNIK:premaknjeno-srecanje:29962
ATTENDEE:2. letnik (Aplikativna fizika)
CATEGORIES:Entry,Standard
COLOR:darkgreen
DESCRIPTION:Predmet: Fizika II (APF-2)\, Seminar (S)\nLetniki: 2. letnik (
 Aplikativna fizika)\nIzvajalci: Matija Milanič\nProstor: F7
LOCATION:F7
ORGANIZER:Matija Milanič
RELATED-TO:fmf-AFLABS-URNIK:srecanje:6937
X-WR-TIMEZONE:Europe/Ljubljana
END:VEVENT
BEGIN:VEVENT
SUMMARY:Fizika II (APF-2)\, Seminar (S)
DTSTART;TZID=Europe/Ljubljana:20220225T110000
DTEND;TZID=Europe/Ljubljana:20220225T120000
DTSTAMP:20260423T035103Z
UID:fmf-AFLABS-URNIK:premaknjeno-srecanje:29963
ATTENDEE:2. letnik (Aplikativna fizika)
CATEGORIES:Entry,Standard
COLOR:darkgreen
DESCRIPTION:Predmet: Fizika II (APF-2)\, Seminar (S)\nLetniki: 2. letnik (
 Aplikativna fizika)\nIzvajalci: Matija Milanič\nProstor: F7
LOCATION:F7
ORGANIZER:Matija Milanič
RELATED-TO:fmf-AFLABS-URNIK:srecanje:6937
X-WR-TIMEZONE:Europe/Ljubljana
END:VEVENT
BEGIN:VEVENT
SUMMARY:Fizika II (APF-2)\, Seminar (S)
DTSTART;TZID=Europe/Ljubljana:20220304T110000
DTEND;TZID=Europe/Ljubljana:20220304T120000
DTSTAMP:20260423T035103Z
UID:fmf-AFLABS-URNIK:premaknjeno-srecanje:29964
ATTENDEE:2. letnik (Aplikativna fizika)
CATEGORIES:Entry,Standard
COLOR:darkgreen
DESCRIPTION:Predmet: Fizika II (APF-2)\, Seminar (S)\nLetniki: 2. letnik (
 Aplikativna fizika)\nIzvajalci: Matija Milanič\nProstor: F7
LOCATION:F7
ORGANIZER:Matija Milanič
RELATED-TO:fmf-AFLABS-URNIK:srecanje:6937
X-WR-TIMEZONE:Europe/Ljubljana
END:VEVENT
BEGIN:VEVENT
SUMMARY:Fizika II (APF-2)\, Seminar (S)
DTSTART;TZID=Europe/Ljubljana:20220311T110000
DTEND;TZID=Europe/Ljubljana:20220311T120000
DTSTAMP:20260423T035103Z
UID:fmf-AFLABS-URNIK:premaknjeno-srecanje:29965
ATTENDEE:2. letnik (Aplikativna fizika)
CATEGORIES:Entry,Standard
COLOR:darkgreen
DESCRIPTION:Predmet: Fizika II (APF-2)\, Seminar (S)\nLetniki: 2. letnik (
 Aplikativna fizika)\nIzvajalci: Matija Milanič\nProstor: F7
LOCATION:F7
ORGANIZER:Matija Milanič
RELATED-TO:fmf-AFLABS-URNIK:srecanje:6937
X-WR-TIMEZONE:Europe/Ljubljana
END:VEVENT
BEGIN:VEVENT
SUMMARY:Fizika II (APF-2)\, Seminar (S)
DTSTART;TZID=Europe/Ljubljana:20220318T110000
DTEND;TZID=Europe/Ljubljana:20220318T120000
DTSTAMP:20260423T035103Z
UID:fmf-AFLABS-URNIK:premaknjeno-srecanje:29966
ATTENDEE:2. letnik (Aplikativna fizika)
CATEGORIES:Entry,Standard
COLOR:darkgreen
DESCRIPTION:Predmet: Fizika II (APF-2)\, Seminar (S)\nLetniki: 2. letnik (
 Aplikativna fizika)\nIzvajalci: Matija Milanič\nProstor: F7
LOCATION:F7
ORGANIZER:Matija Milanič
RELATED-TO:fmf-AFLABS-URNIK:srecanje:6937
X-WR-TIMEZONE:Europe/Ljubljana
END:VEVENT
BEGIN:VEVENT
SUMMARY:Fizika II (APF-2)\, Seminar (S)
DTSTART;TZID=Europe/Ljubljana:20220325T110000
DTEND;TZID=Europe/Ljubljana:20220325T120000
DTSTAMP:20260423T035103Z
UID:fmf-AFLABS-URNIK:premaknjeno-srecanje:29967
ATTENDEE:2. letnik (Aplikativna fizika)
CATEGORIES:Entry,Standard
COLOR:darkgreen
DESCRIPTION:Predmet: Fizika II (APF-2)\, Seminar (S)\nLetniki: 2. letnik (
 Aplikativna fizika)\nIzvajalci: Matija Milanič\nProstor: F7
LOCATION:F7
ORGANIZER:Matija Milanič
RELATED-TO:fmf-AFLABS-URNIK:srecanje:6937
X-WR-TIMEZONE:Europe/Ljubljana
END:VEVENT
BEGIN:VEVENT
SUMMARY:Fizika II (APF-2)\, Seminar (S)
DTSTART;TZID=Europe/Ljubljana:20220401T110000
DTEND;TZID=Europe/Ljubljana:20220401T120000
DTSTAMP:20260423T035103Z
UID:fmf-AFLABS-URNIK:premaknjeno-srecanje:29968
ATTENDEE:2. letnik (Aplikativna fizika)
CATEGORIES:Entry,Standard
COLOR:darkgreen
DESCRIPTION:Predmet: Fizika II (APF-2)\, Seminar (S)\nLetniki: 2. letnik (
 Aplikativna fizika)\nIzvajalci: Matija Milanič\nProstor: F7
LOCATION:F7
ORGANIZER:Matija Milanič
RELATED-TO:fmf-AFLABS-URNIK:srecanje:6937
X-WR-TIMEZONE:Europe/Ljubljana
END:VEVENT
BEGIN:VEVENT
SUMMARY:Fizika II (APF-2)\, Seminar (S)
DTSTART;TZID=Europe/Ljubljana:20220408T110000
DTEND;TZID=Europe/Ljubljana:20220408T120000
DTSTAMP:20260423T035103Z
UID:fmf-AFLABS-URNIK:premaknjeno-srecanje:29969
ATTENDEE:2. letnik (Aplikativna fizika)
CATEGORIES:Entry,Standard
COLOR:darkgreen
DESCRIPTION:Predmet: Fizika II (APF-2)\, Seminar (S)\nLetniki: 2. letnik (
 Aplikativna fizika)\nIzvajalci: Matija Milanič\nProstor: F7
LOCATION:F7
ORGANIZER:Matija Milanič
RELATED-TO:fmf-AFLABS-URNIK:srecanje:6937
X-WR-TIMEZONE:Europe/Ljubljana
END:VEVENT
BEGIN:VEVENT
SUMMARY:Fizika II (APF-2)\, Seminar (S)
DTSTART;TZID=Europe/Ljubljana:20220415T110000
DTEND;TZID=Europe/Ljubljana:20220415T120000
DTSTAMP:20260423T035103Z
UID:fmf-AFLABS-URNIK:premaknjeno-srecanje:29970
ATTENDEE:2. letnik (Aplikativna fizika)
CATEGORIES:Entry,Standard
COLOR:darkgreen
DESCRIPTION:Predmet: Fizika II (APF-2)\, Seminar (S)\nLetniki: 2. letnik (
 Aplikativna fizika)\nIzvajalci: Matija Milanič\nProstor: F7
LOCATION:F7
ORGANIZER:Matija Milanič
RELATED-TO:fmf-AFLABS-URNIK:srecanje:6937
X-WR-TIMEZONE:Europe/Ljubljana
END:VEVENT
BEGIN:VEVENT
SUMMARY:Fizika II (APF-2)\, Seminar (S)
DTSTART;TZID=Europe/Ljubljana:20220422T110000
DTEND;TZID=Europe/Ljubljana:20220422T120000
DTSTAMP:20260423T035103Z
UID:fmf-AFLABS-URNIK:premaknjeno-srecanje:29971
ATTENDEE:2. letnik (Aplikativna fizika)
CATEGORIES:Entry,Standard
COLOR:darkgreen
DESCRIPTION:Predmet: Fizika II (APF-2)\, Seminar (S)\nLetniki: 2. letnik (
 Aplikativna fizika)\nIzvajalci: Matija Milanič\nProstor: F7
LOCATION:F7
ORGANIZER:Matija Milanič
RELATED-TO:fmf-AFLABS-URNIK:srecanje:6937
X-WR-TIMEZONE:Europe/Ljubljana
END:VEVENT
BEGIN:VEVENT
SUMMARY:Fizika II (APF-2)\, Seminar (S)
DTSTART;TZID=Europe/Ljubljana:20220429T110000
DTEND;TZID=Europe/Ljubljana:20220429T120000
DTSTAMP:20260423T035103Z
UID:fmf-AFLABS-URNIK:premaknjeno-srecanje:29972
ATTENDEE:2. letnik (Aplikativna fizika)
CATEGORIES:Entry,Standard
COLOR:darkgreen
DESCRIPTION:Predmet: Fizika II (APF-2)\, Seminar (S)\nLetniki: 2. letnik (
 Aplikativna fizika)\nIzvajalci: Matija Milanič\nProstor: F7
LOCATION:F7
ORGANIZER:Matija Milanič
RELATED-TO:fmf-AFLABS-URNIK:srecanje:6937
X-WR-TIMEZONE:Europe/Ljubljana
END:VEVENT
BEGIN:VEVENT
SUMMARY:Fizika II (APF-2)\, Seminar (S)
DTSTART;TZID=Europe/Ljubljana:20220506T110000
DTEND;TZID=Europe/Ljubljana:20220506T120000
DTSTAMP:20260423T035103Z
UID:fmf-AFLABS-URNIK:premaknjeno-srecanje:29973
ATTENDEE:2. letnik (Aplikativna fizika)
CATEGORIES:Entry,Standard
COLOR:darkgreen
DESCRIPTION:Predmet: Fizika II (APF-2)\, Seminar (S)\nLetniki: 2. letnik (
 Aplikativna fizika)\nIzvajalci: Matija Milanič\nProstor: F7
LOCATION:F7
ORGANIZER:Matija Milanič
RELATED-TO:fmf-AFLABS-URNIK:srecanje:6937
X-WR-TIMEZONE:Europe/Ljubljana
END:VEVENT
BEGIN:VEVENT
SUMMARY:Fizika II (APF-2)\, Seminar (S)
DTSTART;TZID=Europe/Ljubljana:20220513T110000
DTEND;TZID=Europe/Ljubljana:20220513T120000
DTSTAMP:20260423T035103Z
UID:fmf-AFLABS-URNIK:premaknjeno-srecanje:29974
ATTENDEE:2. letnik (Aplikativna fizika)
CATEGORIES:Entry,Standard
COLOR:darkgreen
DESCRIPTION:Predmet: Fizika II (APF-2)\, Seminar (S)\nLetniki: 2. letnik (
 Aplikativna fizika)\nIzvajalci: Matija Milanič\nProstor: F7
LOCATION:F7
ORGANIZER:Matija Milanič
RELATED-TO:fmf-AFLABS-URNIK:srecanje:6937
X-WR-TIMEZONE:Europe/Ljubljana
END:VEVENT
BEGIN:VEVENT
SUMMARY:Fizika II (APF-2)\, Seminar (S)
DTSTART;TZID=Europe/Ljubljana:20220520T110000
DTEND;TZID=Europe/Ljubljana:20220520T120000
DTSTAMP:20260423T035103Z
UID:fmf-AFLABS-URNIK:premaknjeno-srecanje:29975
ATTENDEE:2. letnik (Aplikativna fizika)
CATEGORIES:Entry,Standard
COLOR:darkgreen
DESCRIPTION:Predmet: Fizika II (APF-2)\, Seminar (S)\nLetniki: 2. letnik (
 Aplikativna fizika)\nIzvajalci: Matija Milanič\nProstor: F7
LOCATION:F7
ORGANIZER:Matija Milanič
RELATED-TO:fmf-AFLABS-URNIK:srecanje:6937
X-WR-TIMEZONE:Europe/Ljubljana
END:VEVENT
BEGIN:VEVENT
SUMMARY:Fizika II (APF-2)\, Seminar (S)
DTSTART;TZID=Europe/Ljubljana:20220527T110000
DTEND;TZID=Europe/Ljubljana:20220527T120000
DTSTAMP:20260423T035103Z
UID:fmf-AFLABS-URNIK:premaknjeno-srecanje:29976
ATTENDEE:2. letnik (Aplikativna fizika)
CATEGORIES:Entry,Standard
COLOR:darkgreen
DESCRIPTION:Predmet: Fizika II (APF-2)\, Seminar (S)\nLetniki: 2. letnik (
 Aplikativna fizika)\nIzvajalci: Matija Milanič\nProstor: F7
LOCATION:F7
ORGANIZER:Matija Milanič
RELATED-TO:fmf-AFLABS-URNIK:srecanje:6937
X-WR-TIMEZONE:Europe/Ljubljana
END:VEVENT
BEGIN:VEVENT
SUMMARY:Rezervacija
DTSTART;TZID=Europe/Ljubljana:20220214T090000
DTEND;TZID=Europe/Ljubljana:20220214T100000
DTSTAMP:20260423T035103Z
UID:fmf-AFLABS-URNIK:rezervacija:8577
CATEGORIES:Reservation
COLOR:royalblue
DESCRIPTION:Predmeti: \nLetniki: \nIzvajalci: Matija Milanič\nProstori: K
 uščerjev seminar
LOCATION:Kuščerjev seminar
ORGANIZER:Matija Milanič
X-WR-TIMEZONE:Europe/Ljubljana
END:VEVENT
BEGIN:VEVENT
SUMMARY:Rezervacija
DTSTART;TZID=Europe/Ljubljana:20220317T150000
DTEND;TZID=Europe/Ljubljana:20220317T170000
DTSTAMP:20260423T035103Z
UID:fmf-AFLABS-URNIK:rezervacija:8731
CATEGORIES:Reservation
COLOR:royalblue
DESCRIPTION:Predmeti: \nLetniki: \nIzvajalci: Matija Milanič\nProstori: F
 2
LOCATION:F2
ORGANIZER:Matija Milanič
X-WR-TIMEZONE:Europe/Ljubljana
END:VEVENT
BEGIN:VEVENT
SUMMARY:Rezervacija
DTSTART;TZID=Europe/Ljubljana:20220526T150000
DTEND;TZID=Europe/Ljubljana:20220526T170000
DTSTAMP:20260423T035103Z
UID:fmf-AFLABS-URNIK:rezervacija:9086
CATEGORIES:Reservation
COLOR:royalblue
DESCRIPTION:Predmeti: \nLetniki: \nIzvajalci: Matija Milanič\nProstori: F
 2
LOCATION:F2
ORGANIZER:Matija Milanič
X-WR-TIMEZONE:Europe/Ljubljana
END:VEVENT
END:VCALENDAR
