BEGIN:VCALENDAR
VERSION:2.0
PRODID:-//AFLabs urnik izvoz - fmf//aflabs.si//SI
DTSTAMP:20260421T185135Z
NAME:UL FMF urnik
REFRESH-INTERVAL:PT1H
SOURCE:https://urnik.fmf.uni-lj.si/teacher/117?day=2023-01-02&export=1
URL:https://urnik.fmf.uni-lj.si/teacher/117?day=2023-01-02&export=1
X-PUBLISHED-TTL:PT1H
X-WR-CALNAME:UL FMF urnik
X-WR-TIMEZONE:Europe/Ljubljana
BEGIN:VTIMEZONE
TZID:Europe/Ljubljana
BEGIN:DAYLIGHT
DTSTART:20260329T020000
RDATE:20260329T020000
RDATE:20270328T020000
TZNAME:CEST
TZOFFSETFROM:+0100
TZOFFSETTO:+0200
END:DAYLIGHT
BEGIN:STANDARD
DTSTART:20261025T030000
RDATE:20261025T030000
RDATE:20271031T030000
TZNAME:CET
TZOFFSETFROM:+0200
TZOFFSETTO:+0100
END:STANDARD
END:VTIMEZONE
BEGIN:VEVENT
SUMMARY:Fizika I (APF-1)\, Seminar (S)
DTSTART;TZID=Europe/Ljubljana:20221004T100000
DTEND;TZID=Europe/Ljubljana:20221004T110000
DTSTAMP:20260421T185135Z
UID:fmf-AFLABS-URNIK:premaknjeno-srecanje:28967
ATTENDEE:1. letnik (Aplikativna fizika)
CATEGORIES:Entry,Standard
COLOR:darkgreen
DESCRIPTION:Predmet: Fizika I (APF-1)\, Seminar (S)\nLetniki: 1. letnik (A
 plikativna fizika)\nIzvajalci: Matija Milanič\nProstor: MFP
LOCATION:MFP
ORGANIZER:Matija Milanič
RELATED-TO:fmf-AFLABS-URNIK:srecanje:7599
X-WR-TIMEZONE:Europe/Ljubljana
END:VEVENT
BEGIN:VEVENT
SUMMARY:Fizika I (APF-1)\, Seminar (S)
DTSTART;TZID=Europe/Ljubljana:20221011T100000
DTEND;TZID=Europe/Ljubljana:20221011T110000
DTSTAMP:20260421T185135Z
UID:fmf-AFLABS-URNIK:premaknjeno-srecanje:28968
ATTENDEE:1. letnik (Aplikativna fizika)
CATEGORIES:Entry,Standard
COLOR:darkgreen
DESCRIPTION:Predmet: Fizika I (APF-1)\, Seminar (S)\nLetniki: 1. letnik (A
 plikativna fizika)\nIzvajalci: Matija Milanič\nProstor: MFP
LOCATION:MFP
ORGANIZER:Matija Milanič
RELATED-TO:fmf-AFLABS-URNIK:srecanje:7599
X-WR-TIMEZONE:Europe/Ljubljana
END:VEVENT
BEGIN:VEVENT
SUMMARY:Fizika I (APF-1)\, Seminar (S)
DTSTART;TZID=Europe/Ljubljana:20221018T100000
DTEND;TZID=Europe/Ljubljana:20221018T110000
DTSTAMP:20260421T185135Z
UID:fmf-AFLABS-URNIK:premaknjeno-srecanje:28969
ATTENDEE:1. letnik (Aplikativna fizika)
CATEGORIES:Entry,Standard
COLOR:darkgreen
DESCRIPTION:Predmet: Fizika I (APF-1)\, Seminar (S)\nLetniki: 1. letnik (A
 plikativna fizika)\nIzvajalci: Matija Milanič\nProstor: MFP
LOCATION:MFP
ORGANIZER:Matija Milanič
RELATED-TO:fmf-AFLABS-URNIK:srecanje:7599
X-WR-TIMEZONE:Europe/Ljubljana
END:VEVENT
BEGIN:VEVENT
SUMMARY:Fizika I (APF-1)\, Seminar (S)
DTSTART;TZID=Europe/Ljubljana:20221025T100000
DTEND;TZID=Europe/Ljubljana:20221025T110000
DTSTAMP:20260421T185135Z
UID:fmf-AFLABS-URNIK:premaknjeno-srecanje:28970
ATTENDEE:1. letnik (Aplikativna fizika)
CATEGORIES:Entry,Standard
COLOR:darkgreen
DESCRIPTION:Predmet: Fizika I (APF-1)\, Seminar (S)\nLetniki: 1. letnik (A
 plikativna fizika)\nIzvajalci: Matija Milanič\nProstor: MFP
LOCATION:MFP
ORGANIZER:Matija Milanič
RELATED-TO:fmf-AFLABS-URNIK:srecanje:7599
X-WR-TIMEZONE:Europe/Ljubljana
END:VEVENT
BEGIN:VEVENT
SUMMARY:Fizika I (APF-1)\, Seminar (S)
DTSTART;TZID=Europe/Ljubljana:20221101T100000
DTEND;TZID=Europe/Ljubljana:20221101T110000
DTSTAMP:20260421T185135Z
UID:fmf-AFLABS-URNIK:premaknjeno-srecanje:28971
ATTENDEE:1. letnik (Aplikativna fizika)
CATEGORIES:Entry,Standard
COLOR:darkgreen
DESCRIPTION:Predmet: Fizika I (APF-1)\, Seminar (S)\nLetniki: 1. letnik (A
 plikativna fizika)\nIzvajalci: Matija Milanič\nProstor: MFP
LOCATION:MFP
ORGANIZER:Matija Milanič
RELATED-TO:fmf-AFLABS-URNIK:srecanje:7599
X-WR-TIMEZONE:Europe/Ljubljana
END:VEVENT
BEGIN:VEVENT
SUMMARY:Fizika I (APF-1)\, Seminar (S)
DTSTART;TZID=Europe/Ljubljana:20221108T100000
DTEND;TZID=Europe/Ljubljana:20221108T110000
DTSTAMP:20260421T185135Z
UID:fmf-AFLABS-URNIK:premaknjeno-srecanje:28972
ATTENDEE:1. letnik (Aplikativna fizika)
CATEGORIES:Entry,Standard
COLOR:darkgreen
DESCRIPTION:Predmet: Fizika I (APF-1)\, Seminar (S)\nLetniki: 1. letnik (A
 plikativna fizika)\nIzvajalci: Matija Milanič\nProstor: MFP
LOCATION:MFP
ORGANIZER:Matija Milanič
RELATED-TO:fmf-AFLABS-URNIK:srecanje:7599
X-WR-TIMEZONE:Europe/Ljubljana
END:VEVENT
BEGIN:VEVENT
SUMMARY:Fizika I (APF-1)\, Seminar (S)
DTSTART;TZID=Europe/Ljubljana:20221115T100000
DTEND;TZID=Europe/Ljubljana:20221115T110000
DTSTAMP:20260421T185135Z
UID:fmf-AFLABS-URNIK:premaknjeno-srecanje:28973
ATTENDEE:1. letnik (Aplikativna fizika)
CATEGORIES:Entry,Standard
COLOR:darkgreen
DESCRIPTION:Predmet: Fizika I (APF-1)\, Seminar (S)\nLetniki: 1. letnik (A
 plikativna fizika)\nIzvajalci: Matija Milanič\nProstor: MFP
LOCATION:MFP
ORGANIZER:Matija Milanič
RELATED-TO:fmf-AFLABS-URNIK:srecanje:7599
X-WR-TIMEZONE:Europe/Ljubljana
END:VEVENT
BEGIN:VEVENT
SUMMARY:Fizika I (APF-1)\, Seminar (S)
DTSTART;TZID=Europe/Ljubljana:20221122T100000
DTEND;TZID=Europe/Ljubljana:20221122T110000
DTSTAMP:20260421T185135Z
UID:fmf-AFLABS-URNIK:premaknjeno-srecanje:28974
ATTENDEE:1. letnik (Aplikativna fizika)
CATEGORIES:Entry,Standard
COLOR:darkgreen
DESCRIPTION:Predmet: Fizika I (APF-1)\, Seminar (S)\nLetniki: 1. letnik (A
 plikativna fizika)\nIzvajalci: Matija Milanič\nProstor: MFP
LOCATION:MFP
ORGANIZER:Matija Milanič
RELATED-TO:fmf-AFLABS-URNIK:srecanje:7599
X-WR-TIMEZONE:Europe/Ljubljana
END:VEVENT
BEGIN:VEVENT
SUMMARY:Fizika I (APF-1)\, Seminar (S)
DTSTART;TZID=Europe/Ljubljana:20221129T100000
DTEND;TZID=Europe/Ljubljana:20221129T110000
DTSTAMP:20260421T185135Z
UID:fmf-AFLABS-URNIK:premaknjeno-srecanje:28975
ATTENDEE:1. letnik (Aplikativna fizika)
CATEGORIES:Entry,Standard
COLOR:darkgreen
DESCRIPTION:Predmet: Fizika I (APF-1)\, Seminar (S)\nLetniki: 1. letnik (A
 plikativna fizika)\nIzvajalci: Matija Milanič\nProstor: MFP
LOCATION:MFP
ORGANIZER:Matija Milanič
RELATED-TO:fmf-AFLABS-URNIK:srecanje:7599
X-WR-TIMEZONE:Europe/Ljubljana
END:VEVENT
BEGIN:VEVENT
SUMMARY:Fizika I (APF-1)\, Seminar (S)
DTSTART;TZID=Europe/Ljubljana:20221206T100000
DTEND;TZID=Europe/Ljubljana:20221206T110000
DTSTAMP:20260421T185135Z
UID:fmf-AFLABS-URNIK:premaknjeno-srecanje:28976
ATTENDEE:1. letnik (Aplikativna fizika)
CATEGORIES:Entry,Standard
COLOR:darkgreen
DESCRIPTION:Predmet: Fizika I (APF-1)\, Seminar (S)\nLetniki: 1. letnik (A
 plikativna fizika)\nIzvajalci: Matija Milanič\nProstor: MFP
LOCATION:MFP
ORGANIZER:Matija Milanič
RELATED-TO:fmf-AFLABS-URNIK:srecanje:7599
X-WR-TIMEZONE:Europe/Ljubljana
END:VEVENT
BEGIN:VEVENT
SUMMARY:Fizika I (APF-1)\, Seminar (S)
DTSTART;TZID=Europe/Ljubljana:20221213T100000
DTEND;TZID=Europe/Ljubljana:20221213T110000
DTSTAMP:20260421T185135Z
UID:fmf-AFLABS-URNIK:premaknjeno-srecanje:28977
ATTENDEE:1. letnik (Aplikativna fizika)
CATEGORIES:Entry,Standard
COLOR:darkgreen
DESCRIPTION:Predmet: Fizika I (APF-1)\, Seminar (S)\nLetniki: 1. letnik (A
 plikativna fizika)\nIzvajalci: Matija Milanič\nProstor: MFP
LOCATION:MFP
ORGANIZER:Matija Milanič
RELATED-TO:fmf-AFLABS-URNIK:srecanje:7599
X-WR-TIMEZONE:Europe/Ljubljana
END:VEVENT
BEGIN:VEVENT
SUMMARY:Fizika I (APF-1)\, Seminar (S)
DTSTART;TZID=Europe/Ljubljana:20221220T100000
DTEND;TZID=Europe/Ljubljana:20221220T110000
DTSTAMP:20260421T185135Z
UID:fmf-AFLABS-URNIK:premaknjeno-srecanje:28978
ATTENDEE:1. letnik (Aplikativna fizika)
CATEGORIES:Entry,Standard
COLOR:darkgreen
DESCRIPTION:Predmet: Fizika I (APF-1)\, Seminar (S)\nLetniki: 1. letnik (A
 plikativna fizika)\nIzvajalci: Matija Milanič\nProstor: MFP
LOCATION:MFP
ORGANIZER:Matija Milanič
RELATED-TO:fmf-AFLABS-URNIK:srecanje:7599
X-WR-TIMEZONE:Europe/Ljubljana
END:VEVENT
BEGIN:VEVENT
SUMMARY:Fizika I (APF-1)\, Seminar (S)
DTSTART;TZID=Europe/Ljubljana:20221227T100000
DTEND;TZID=Europe/Ljubljana:20221227T110000
DTSTAMP:20260421T185135Z
UID:fmf-AFLABS-URNIK:premaknjeno-srecanje:28979
ATTENDEE:1. letnik (Aplikativna fizika)
CATEGORIES:Entry,Standard
COLOR:darkgreen
DESCRIPTION:Predmet: Fizika I (APF-1)\, Seminar (S)\nLetniki: 1. letnik (A
 plikativna fizika)\nIzvajalci: Matija Milanič\nProstor: MFP
LOCATION:MFP
ORGANIZER:Matija Milanič
RELATED-TO:fmf-AFLABS-URNIK:srecanje:7599
X-WR-TIMEZONE:Europe/Ljubljana
END:VEVENT
BEGIN:VEVENT
SUMMARY:Fizika I (APF-1)\, Seminar (S)
DTSTART;TZID=Europe/Ljubljana:20230103T100000
DTEND;TZID=Europe/Ljubljana:20230103T110000
DTSTAMP:20260421T185135Z
UID:fmf-AFLABS-URNIK:premaknjeno-srecanje:28980
ATTENDEE:1. letnik (Aplikativna fizika)
CATEGORIES:Entry,Standard
COLOR:darkgreen
DESCRIPTION:Predmet: Fizika I (APF-1)\, Seminar (S)\nLetniki: 1. letnik (A
 plikativna fizika)\nIzvajalci: Matija Milanič\nProstor: MFP
LOCATION:MFP
ORGANIZER:Matija Milanič
RELATED-TO:fmf-AFLABS-URNIK:srecanje:7599
X-WR-TIMEZONE:Europe/Ljubljana
END:VEVENT
BEGIN:VEVENT
SUMMARY:Fizika I (APF-1)\, Seminar (S)
DTSTART;TZID=Europe/Ljubljana:20230110T100000
DTEND;TZID=Europe/Ljubljana:20230110T110000
DTSTAMP:20260421T185135Z
UID:fmf-AFLABS-URNIK:premaknjeno-srecanje:28981
ATTENDEE:1. letnik (Aplikativna fizika)
CATEGORIES:Entry,Standard
COLOR:darkgreen
DESCRIPTION:Predmet: Fizika I (APF-1)\, Seminar (S)\nLetniki: 1. letnik (A
 plikativna fizika)\nIzvajalci: Matija Milanič\nProstor: MFP
LOCATION:MFP
ORGANIZER:Matija Milanič
RELATED-TO:fmf-AFLABS-URNIK:srecanje:7599
X-WR-TIMEZONE:Europe/Ljubljana
END:VEVENT
BEGIN:VEVENT
SUMMARY:Fizika II (APF-2)\, Seminar (S)
DTSTART;TZID=Europe/Ljubljana:20221005T110000
DTEND;TZID=Europe/Ljubljana:20221005T120000
DTSTAMP:20260421T185135Z
UID:fmf-AFLABS-URNIK:premaknjeno-srecanje:29901
ATTENDEE:2. letnik (Aplikativna fizika)
CATEGORIES:Entry,Standard
COLOR:darkgreen
DESCRIPTION:Predmet: Fizika II (APF-2)\, Seminar (S)\nLetniki: 2. letnik (
 Aplikativna fizika)\nIzvajalci: Matija Milanič\nProstor: MFP
LOCATION:MFP
ORGANIZER:Matija Milanič
RELATED-TO:fmf-AFLABS-URNIK:srecanje:7604
X-WR-TIMEZONE:Europe/Ljubljana
END:VEVENT
BEGIN:VEVENT
SUMMARY:Fizika II (APF-2)\, Seminar (S)
DTSTART;TZID=Europe/Ljubljana:20221012T110000
DTEND;TZID=Europe/Ljubljana:20221012T120000
DTSTAMP:20260421T185135Z
UID:fmf-AFLABS-URNIK:premaknjeno-srecanje:29902
ATTENDEE:2. letnik (Aplikativna fizika)
CATEGORIES:Entry,Standard
COLOR:darkgreen
DESCRIPTION:Predmet: Fizika II (APF-2)\, Seminar (S)\nLetniki: 2. letnik (
 Aplikativna fizika)\nIzvajalci: Matija Milanič\nProstor: MFP
LOCATION:MFP
ORGANIZER:Matija Milanič
RELATED-TO:fmf-AFLABS-URNIK:srecanje:7604
X-WR-TIMEZONE:Europe/Ljubljana
END:VEVENT
BEGIN:VEVENT
SUMMARY:Fizika II (APF-2)\, Seminar (S)
DTSTART;TZID=Europe/Ljubljana:20221019T110000
DTEND;TZID=Europe/Ljubljana:20221019T120000
DTSTAMP:20260421T185135Z
UID:fmf-AFLABS-URNIK:premaknjeno-srecanje:29903
ATTENDEE:2. letnik (Aplikativna fizika)
CATEGORIES:Entry,Standard
COLOR:darkgreen
DESCRIPTION:Predmet: Fizika II (APF-2)\, Seminar (S)\nLetniki: 2. letnik (
 Aplikativna fizika)\nIzvajalci: Matija Milanič\nProstor: MFP
LOCATION:MFP
ORGANIZER:Matija Milanič
RELATED-TO:fmf-AFLABS-URNIK:srecanje:7604
X-WR-TIMEZONE:Europe/Ljubljana
END:VEVENT
BEGIN:VEVENT
SUMMARY:Fizika II (APF-2)\, Seminar (S)
DTSTART;TZID=Europe/Ljubljana:20221026T110000
DTEND;TZID=Europe/Ljubljana:20221026T120000
DTSTAMP:20260421T185135Z
UID:fmf-AFLABS-URNIK:premaknjeno-srecanje:29904
ATTENDEE:2. letnik (Aplikativna fizika)
CATEGORIES:Entry,Standard
COLOR:darkgreen
DESCRIPTION:Predmet: Fizika II (APF-2)\, Seminar (S)\nLetniki: 2. letnik (
 Aplikativna fizika)\nIzvajalci: Matija Milanič\nProstor: MFP
LOCATION:MFP
ORGANIZER:Matija Milanič
RELATED-TO:fmf-AFLABS-URNIK:srecanje:7604
X-WR-TIMEZONE:Europe/Ljubljana
END:VEVENT
BEGIN:VEVENT
SUMMARY:Fizika II (APF-2)\, Seminar (S)
DTSTART;TZID=Europe/Ljubljana:20221102T110000
DTEND;TZID=Europe/Ljubljana:20221102T120000
DTSTAMP:20260421T185135Z
UID:fmf-AFLABS-URNIK:premaknjeno-srecanje:29905
ATTENDEE:2. letnik (Aplikativna fizika)
CATEGORIES:Entry,Standard
COLOR:darkgreen
DESCRIPTION:Predmet: Fizika II (APF-2)\, Seminar (S)\nLetniki: 2. letnik (
 Aplikativna fizika)\nIzvajalci: Matija Milanič\nProstor: MFP
LOCATION:MFP
ORGANIZER:Matija Milanič
RELATED-TO:fmf-AFLABS-URNIK:srecanje:7604
X-WR-TIMEZONE:Europe/Ljubljana
END:VEVENT
BEGIN:VEVENT
SUMMARY:Fizika II (APF-2)\, Seminar (S)
DTSTART;TZID=Europe/Ljubljana:20221109T110000
DTEND;TZID=Europe/Ljubljana:20221109T120000
DTSTAMP:20260421T185135Z
UID:fmf-AFLABS-URNIK:premaknjeno-srecanje:29906
ATTENDEE:2. letnik (Aplikativna fizika)
CATEGORIES:Entry,Standard
COLOR:darkgreen
DESCRIPTION:Predmet: Fizika II (APF-2)\, Seminar (S)\nLetniki: 2. letnik (
 Aplikativna fizika)\nIzvajalci: Matija Milanič\nProstor: MFP
LOCATION:MFP
ORGANIZER:Matija Milanič
RELATED-TO:fmf-AFLABS-URNIK:srecanje:7604
X-WR-TIMEZONE:Europe/Ljubljana
END:VEVENT
BEGIN:VEVENT
SUMMARY:Fizika II (APF-2)\, Seminar (S)
DTSTART;TZID=Europe/Ljubljana:20221116T110000
DTEND;TZID=Europe/Ljubljana:20221116T120000
DTSTAMP:20260421T185135Z
UID:fmf-AFLABS-URNIK:premaknjeno-srecanje:29907
ATTENDEE:2. letnik (Aplikativna fizika)
CATEGORIES:Entry,Standard
COLOR:darkgreen
DESCRIPTION:Predmet: Fizika II (APF-2)\, Seminar (S)\nLetniki: 2. letnik (
 Aplikativna fizika)\nIzvajalci: Matija Milanič\nProstor: MFP
LOCATION:MFP
ORGANIZER:Matija Milanič
RELATED-TO:fmf-AFLABS-URNIK:srecanje:7604
X-WR-TIMEZONE:Europe/Ljubljana
END:VEVENT
BEGIN:VEVENT
SUMMARY:Fizika II (APF-2)\, Seminar (S)
DTSTART;TZID=Europe/Ljubljana:20221123T110000
DTEND;TZID=Europe/Ljubljana:20221123T120000
DTSTAMP:20260421T185135Z
UID:fmf-AFLABS-URNIK:premaknjeno-srecanje:29908
ATTENDEE:2. letnik (Aplikativna fizika)
CATEGORIES:Entry,Standard
COLOR:darkgreen
DESCRIPTION:Predmet: Fizika II (APF-2)\, Seminar (S)\nLetniki: 2. letnik (
 Aplikativna fizika)\nIzvajalci: Matija Milanič\nProstor: MFP
LOCATION:MFP
ORGANIZER:Matija Milanič
RELATED-TO:fmf-AFLABS-URNIK:srecanje:7604
X-WR-TIMEZONE:Europe/Ljubljana
END:VEVENT
BEGIN:VEVENT
SUMMARY:Fizika II (APF-2)\, Seminar (S)
DTSTART;TZID=Europe/Ljubljana:20221130T110000
DTEND;TZID=Europe/Ljubljana:20221130T120000
DTSTAMP:20260421T185135Z
UID:fmf-AFLABS-URNIK:premaknjeno-srecanje:29909
ATTENDEE:2. letnik (Aplikativna fizika)
CATEGORIES:Entry,Standard
COLOR:darkgreen
DESCRIPTION:Predmet: Fizika II (APF-2)\, Seminar (S)\nLetniki: 2. letnik (
 Aplikativna fizika)\nIzvajalci: Matija Milanič\nProstor: MFP
LOCATION:MFP
ORGANIZER:Matija Milanič
RELATED-TO:fmf-AFLABS-URNIK:srecanje:7604
X-WR-TIMEZONE:Europe/Ljubljana
END:VEVENT
BEGIN:VEVENT
SUMMARY:Fizika II (APF-2)\, Seminar (S)
DTSTART;TZID=Europe/Ljubljana:20221207T110000
DTEND;TZID=Europe/Ljubljana:20221207T120000
DTSTAMP:20260421T185135Z
UID:fmf-AFLABS-URNIK:premaknjeno-srecanje:29910
ATTENDEE:2. letnik (Aplikativna fizika)
CATEGORIES:Entry,Standard
COLOR:darkgreen
DESCRIPTION:Predmet: Fizika II (APF-2)\, Seminar (S)\nLetniki: 2. letnik (
 Aplikativna fizika)\nIzvajalci: Matija Milanič\nProstor: MFP
LOCATION:MFP
ORGANIZER:Matija Milanič
RELATED-TO:fmf-AFLABS-URNIK:srecanje:7604
X-WR-TIMEZONE:Europe/Ljubljana
END:VEVENT
BEGIN:VEVENT
SUMMARY:Fizika II (APF-2)\, Seminar (S)
DTSTART;TZID=Europe/Ljubljana:20221214T110000
DTEND;TZID=Europe/Ljubljana:20221214T120000
DTSTAMP:20260421T185135Z
UID:fmf-AFLABS-URNIK:premaknjeno-srecanje:29911
ATTENDEE:2. letnik (Aplikativna fizika)
CATEGORIES:Entry,Standard
COLOR:darkgreen
DESCRIPTION:Predmet: Fizika II (APF-2)\, Seminar (S)\nLetniki: 2. letnik (
 Aplikativna fizika)\nIzvajalci: Matija Milanič\nProstor: MFP
LOCATION:MFP
ORGANIZER:Matija Milanič
RELATED-TO:fmf-AFLABS-URNIK:srecanje:7604
X-WR-TIMEZONE:Europe/Ljubljana
END:VEVENT
BEGIN:VEVENT
SUMMARY:Fizika II (APF-2)\, Seminar (S)
DTSTART;TZID=Europe/Ljubljana:20221221T110000
DTEND;TZID=Europe/Ljubljana:20221221T120000
DTSTAMP:20260421T185135Z
UID:fmf-AFLABS-URNIK:premaknjeno-srecanje:29912
ATTENDEE:2. letnik (Aplikativna fizika)
CATEGORIES:Entry,Standard
COLOR:darkgreen
DESCRIPTION:Predmet: Fizika II (APF-2)\, Seminar (S)\nLetniki: 2. letnik (
 Aplikativna fizika)\nIzvajalci: Matija Milanič\nProstor: MFP
LOCATION:MFP
ORGANIZER:Matija Milanič
RELATED-TO:fmf-AFLABS-URNIK:srecanje:7604
X-WR-TIMEZONE:Europe/Ljubljana
END:VEVENT
BEGIN:VEVENT
SUMMARY:Fizika II (APF-2)\, Seminar (S)
DTSTART;TZID=Europe/Ljubljana:20221228T110000
DTEND;TZID=Europe/Ljubljana:20221228T120000
DTSTAMP:20260421T185135Z
UID:fmf-AFLABS-URNIK:premaknjeno-srecanje:29913
ATTENDEE:2. letnik (Aplikativna fizika)
CATEGORIES:Entry,Standard
COLOR:darkgreen
DESCRIPTION:Predmet: Fizika II (APF-2)\, Seminar (S)\nLetniki: 2. letnik (
 Aplikativna fizika)\nIzvajalci: Matija Milanič\nProstor: MFP
LOCATION:MFP
ORGANIZER:Matija Milanič
RELATED-TO:fmf-AFLABS-URNIK:srecanje:7604
X-WR-TIMEZONE:Europe/Ljubljana
END:VEVENT
BEGIN:VEVENT
SUMMARY:Fizika II (APF-2)\, Seminar (S)
DTSTART;TZID=Europe/Ljubljana:20230104T110000
DTEND;TZID=Europe/Ljubljana:20230104T120000
DTSTAMP:20260421T185135Z
UID:fmf-AFLABS-URNIK:premaknjeno-srecanje:29914
ATTENDEE:2. letnik (Aplikativna fizika)
CATEGORIES:Entry,Standard
COLOR:darkgreen
DESCRIPTION:Predmet: Fizika II (APF-2)\, Seminar (S)\nLetniki: 2. letnik (
 Aplikativna fizika)\nIzvajalci: Matija Milanič\nProstor: MFP
LOCATION:MFP
ORGANIZER:Matija Milanič
RELATED-TO:fmf-AFLABS-URNIK:srecanje:7604
X-WR-TIMEZONE:Europe/Ljubljana
END:VEVENT
BEGIN:VEVENT
SUMMARY:Fizika II (APF-2)\, Seminar (S)
DTSTART;TZID=Europe/Ljubljana:20230111T110000
DTEND;TZID=Europe/Ljubljana:20230111T120000
DTSTAMP:20260421T185135Z
UID:fmf-AFLABS-URNIK:premaknjeno-srecanje:29915
ATTENDEE:2. letnik (Aplikativna fizika)
CATEGORIES:Entry,Standard
COLOR:darkgreen
DESCRIPTION:Predmet: Fizika II (APF-2)\, Seminar (S)\nLetniki: 2. letnik (
 Aplikativna fizika)\nIzvajalci: Matija Milanič\nProstor: MFP
LOCATION:MFP
ORGANIZER:Matija Milanič
RELATED-TO:fmf-AFLABS-URNIK:srecanje:7604
X-WR-TIMEZONE:Europe/Ljubljana
END:VEVENT
BEGIN:VEVENT
SUMMARY:Rezervacija
DTSTART;TZID=Europe/Ljubljana:20221007T090000
DTEND;TZID=Europe/Ljubljana:20221007T100000
DTSTAMP:20260421T185135Z
UID:fmf-AFLABS-URNIK:rezervacija:10382
CATEGORIES:Reservation
COLOR:royalblue
DESCRIPTION:Predmeti: \nLetniki: \nIzvajalci: Matija Milanič\nProstori: F
 6
LOCATION:F6
ORGANIZER:Matija Milanič
X-WR-TIMEZONE:Europe/Ljubljana
END:VEVENT
END:VCALENDAR
