BEGIN:VCALENDAR
VERSION:2.0
PRODID:-//AFLabs urnik izvoz - fmf//aflabs.si//SI
DTSTAMP:20260423T154928Z
NAME:UL FMF urnik
REFRESH-INTERVAL:PT1H
SOURCE:https://urnik.fmf.uni-lj.si/teacher/117?day=2024-02-05&export=1
URL:https://urnik.fmf.uni-lj.si/teacher/117?day=2024-02-05&export=1
X-PUBLISHED-TTL:PT1H
X-WR-CALNAME:UL FMF urnik
X-WR-TIMEZONE:Europe/Ljubljana
BEGIN:VTIMEZONE
TZID:Europe/Ljubljana
BEGIN:DAYLIGHT
DTSTART:20260329T020000
RDATE:20260329T020000
RDATE:20270328T020000
TZNAME:CEST
TZOFFSETFROM:+0100
TZOFFSETTO:+0200
END:DAYLIGHT
BEGIN:STANDARD
DTSTART:20261025T030000
RDATE:20261025T030000
RDATE:20271031T030000
TZNAME:CET
TZOFFSETFROM:+0200
TZOFFSETTO:+0100
END:STANDARD
END:VTIMEZONE
BEGIN:VEVENT
SUMMARY:Fizika I (APF-1)\, Seminar (S)
DTSTART;TZID=Europe/Ljubljana:20240101T110000
DTEND;TZID=Europe/Ljubljana:20240101T120000
DTSTAMP:20260423T154928Z
UID:fmf-AFLABS-URNIK:premaknjeno-srecanje:28885
ATTENDEE:1. letnik (Aplikativna fizika)
CATEGORIES:Entry,Standard
COLOR:darkgreen
DESCRIPTION:Predmet: Fizika I (APF-1)\, Seminar (S)\nLetniki: 1. letnik (A
 plikativna fizika)\nIzvajalci: Matija Milanič\nProstor: F6
LOCATION:F6
ORGANIZER:Matija Milanič
RELATED-TO:fmf-AFLABS-URNIK:srecanje:9112
X-WR-TIMEZONE:Europe/Ljubljana
END:VEVENT
BEGIN:VEVENT
SUMMARY:Fizika I (APF-1)\, Seminar (S)
DTSTART;TZID=Europe/Ljubljana:20240108T110000
DTEND;TZID=Europe/Ljubljana:20240108T120000
DTSTAMP:20260423T154928Z
UID:fmf-AFLABS-URNIK:premaknjeno-srecanje:28886
ATTENDEE:1. letnik (Aplikativna fizika)
CATEGORIES:Entry,Standard
COLOR:darkgreen
DESCRIPTION:Predmet: Fizika I (APF-1)\, Seminar (S)\nLetniki: 1. letnik (A
 plikativna fizika)\nIzvajalci: Matija Milanič\nProstor: F6
LOCATION:F6
ORGANIZER:Matija Milanič
RELATED-TO:fmf-AFLABS-URNIK:srecanje:9112
X-WR-TIMEZONE:Europe/Ljubljana
END:VEVENT
BEGIN:VEVENT
SUMMARY:Fizika I (APF-1)\, Seminar (S)
DTSTART;TZID=Europe/Ljubljana:20240115T110000
DTEND;TZID=Europe/Ljubljana:20240115T120000
DTSTAMP:20260423T154928Z
UID:fmf-AFLABS-URNIK:premaknjeno-srecanje:28887
ATTENDEE:1. letnik (Aplikativna fizika)
CATEGORIES:Entry,Standard
COLOR:darkgreen
DESCRIPTION:Predmet: Fizika I (APF-1)\, Seminar (S)\nLetniki: 1. letnik (A
 plikativna fizika)\nIzvajalci: Matija Milanič\nProstor: F6
LOCATION:F6
ORGANIZER:Matija Milanič
RELATED-TO:fmf-AFLABS-URNIK:srecanje:9112
X-WR-TIMEZONE:Europe/Ljubljana
END:VEVENT
BEGIN:VEVENT
SUMMARY:Fizika I (APF-1)\, Seminar (S)
DTSTART;TZID=Europe/Ljubljana:20240122T110000
DTEND;TZID=Europe/Ljubljana:20240122T120000
DTSTAMP:20260423T154928Z
UID:fmf-AFLABS-URNIK:premaknjeno-srecanje:28888
ATTENDEE:1. letnik (Aplikativna fizika)
CATEGORIES:Entry,Standard
COLOR:darkgreen
DESCRIPTION:Predmet: Fizika I (APF-1)\, Seminar (S)\nLetniki: 1. letnik (A
 plikativna fizika)\nIzvajalci: Matija Milanič\nProstor: F6
LOCATION:F6
ORGANIZER:Matija Milanič
RELATED-TO:fmf-AFLABS-URNIK:srecanje:9112
X-WR-TIMEZONE:Europe/Ljubljana
END:VEVENT
BEGIN:VEVENT
SUMMARY:Fizika II (APF-2)\, Seminar (S)
DTSTART;TZID=Europe/Ljubljana:20240103T140000
DTEND;TZID=Europe/Ljubljana:20240103T150000
DTSTAMP:20260423T154928Z
UID:fmf-AFLABS-URNIK:premaknjeno-srecanje:29959
ATTENDEE:2. letnik (Aplikativna fizika)
CATEGORIES:Entry,Standard
COLOR:darkgreen
DESCRIPTION:Predmet: Fizika II (APF-2)\, Seminar (S)\nLetniki: 2. letnik (
 Aplikativna fizika)\nIzvajalci: Matija Milanič\nProstor: F3
LOCATION:F3
ORGANIZER:Matija Milanič
RELATED-TO:fmf-AFLABS-URNIK:srecanje:9117
X-WR-TIMEZONE:Europe/Ljubljana
END:VEVENT
BEGIN:VEVENT
SUMMARY:Fizika II (APF-2)\, Seminar (S)
DTSTART;TZID=Europe/Ljubljana:20240110T140000
DTEND;TZID=Europe/Ljubljana:20240110T150000
DTSTAMP:20260423T154928Z
UID:fmf-AFLABS-URNIK:premaknjeno-srecanje:29960
ATTENDEE:2. letnik (Aplikativna fizika)
CATEGORIES:Entry,Standard
COLOR:darkgreen
DESCRIPTION:Predmet: Fizika II (APF-2)\, Seminar (S)\nLetniki: 2. letnik (
 Aplikativna fizika)\nIzvajalci: Matija Milanič\nProstor: F3
LOCATION:F3
ORGANIZER:Matija Milanič
RELATED-TO:fmf-AFLABS-URNIK:srecanje:9117
X-WR-TIMEZONE:Europe/Ljubljana
END:VEVENT
BEGIN:VEVENT
SUMMARY:Fizika II (APF-2)\, Seminar (S)
DTSTART;TZID=Europe/Ljubljana:20240117T140000
DTEND;TZID=Europe/Ljubljana:20240117T150000
DTSTAMP:20260423T154928Z
UID:fmf-AFLABS-URNIK:premaknjeno-srecanje:29961
ATTENDEE:2. letnik (Aplikativna fizika)
CATEGORIES:Entry,Standard
COLOR:darkgreen
DESCRIPTION:Predmet: Fizika II (APF-2)\, Seminar (S)\nLetniki: 2. letnik (
 Aplikativna fizika)\nIzvajalci: Matija Milanič\nProstor: F3
LOCATION:F3
ORGANIZER:Matija Milanič
RELATED-TO:fmf-AFLABS-URNIK:srecanje:9117
X-WR-TIMEZONE:Europe/Ljubljana
END:VEVENT
BEGIN:VEVENT
SUMMARY:Seminar medicinske fizike ()\, Seminar (S)
DTSTART;TZID=Europe/Ljubljana:20240219T150000
DTEND;TZID=Europe/Ljubljana:20240219T170000
DTSTAMP:20260423T154928Z
UID:fmf-AFLABS-URNIK:premaknjeno-srecanje:135147
CATEGORIES:Entry,Standard
COLOR:darkgreen
DESCRIPTION:Predmet: Seminar medicinske fizike ()\, Seminar (S)\nLetniki: 
 \nIzvajalci: Matija Milanič\nProstor: Kuščerjev seminar
LOCATION:Kuščerjev seminar
ORGANIZER:Matija Milanič
RELATED-TO:fmf-AFLABS-URNIK:srecanje:10208
X-WR-TIMEZONE:Europe/Ljubljana
END:VEVENT
BEGIN:VEVENT
SUMMARY:Seminar medicinske fizike ()\, Seminar (S)
DTSTART;TZID=Europe/Ljubljana:20240226T150000
DTEND;TZID=Europe/Ljubljana:20240226T170000
DTSTAMP:20260423T154928Z
UID:fmf-AFLABS-URNIK:premaknjeno-srecanje:135148
CATEGORIES:Entry,Standard
COLOR:darkgreen
DESCRIPTION:Predmet: Seminar medicinske fizike ()\, Seminar (S)\nLetniki: 
 \nIzvajalci: Matija Milanič\nProstor: Kuščerjev seminar
LOCATION:Kuščerjev seminar
ORGANIZER:Matija Milanič
RELATED-TO:fmf-AFLABS-URNIK:srecanje:10208
X-WR-TIMEZONE:Europe/Ljubljana
END:VEVENT
BEGIN:VEVENT
SUMMARY:Seminar medicinske fizike ()\, Seminar (S)
DTSTART;TZID=Europe/Ljubljana:20240304T150000
DTEND;TZID=Europe/Ljubljana:20240304T170000
DTSTAMP:20260423T154928Z
UID:fmf-AFLABS-URNIK:premaknjeno-srecanje:135149
CATEGORIES:Entry,Standard
COLOR:darkgreen
DESCRIPTION:Predmet: Seminar medicinske fizike ()\, Seminar (S)\nLetniki: 
 \nIzvajalci: Matija Milanič\nProstor: Kuščerjev seminar
LOCATION:Kuščerjev seminar
ORGANIZER:Matija Milanič
RELATED-TO:fmf-AFLABS-URNIK:srecanje:10208
X-WR-TIMEZONE:Europe/Ljubljana
END:VEVENT
BEGIN:VEVENT
SUMMARY:Seminar medicinske fizike ()\, Seminar (S)
DTSTART;TZID=Europe/Ljubljana:20240311T150000
DTEND;TZID=Europe/Ljubljana:20240311T170000
DTSTAMP:20260423T154928Z
UID:fmf-AFLABS-URNIK:premaknjeno-srecanje:135150
CATEGORIES:Entry,Standard
COLOR:darkgreen
DESCRIPTION:Predmet: Seminar medicinske fizike ()\, Seminar (S)\nLetniki: 
 \nIzvajalci: Matija Milanič\nProstor: Kuščerjev seminar
LOCATION:Kuščerjev seminar
ORGANIZER:Matija Milanič
RELATED-TO:fmf-AFLABS-URNIK:srecanje:10208
X-WR-TIMEZONE:Europe/Ljubljana
END:VEVENT
BEGIN:VEVENT
SUMMARY:Sestanek skupine za biomedicinsko optiko ()\, Seminar (S)
DTSTART;TZID=Europe/Ljubljana:20240219T090000
DTEND;TZID=Europe/Ljubljana:20240219T100000
DTSTAMP:20260423T154928Z
UID:fmf-AFLABS-URNIK:premaknjeno-srecanje:137677
CATEGORIES:Entry,Standard
COLOR:darkgreen
DESCRIPTION:Predmet: Sestanek skupine za biomedicinsko optiko ()\, Seminar
  (S)\nLetniki: \nIzvajalci: Matija Milanič\nProstor: F5
LOCATION:F5
ORGANIZER:Matija Milanič
RELATED-TO:fmf-AFLABS-URNIK:srecanje:10875
X-WR-TIMEZONE:Europe/Ljubljana
END:VEVENT
BEGIN:VEVENT
SUMMARY:Sestanek skupine za biomedicinsko optiko ()\, Seminar (S)
DTSTART;TZID=Europe/Ljubljana:20240226T090000
DTEND;TZID=Europe/Ljubljana:20240226T100000
DTSTAMP:20260423T154928Z
UID:fmf-AFLABS-URNIK:premaknjeno-srecanje:137678
CATEGORIES:Entry,Standard
COLOR:darkgreen
DESCRIPTION:Predmet: Sestanek skupine za biomedicinsko optiko ()\, Seminar
  (S)\nLetniki: \nIzvajalci: Matija Milanič\nProstor: F5
LOCATION:F5
ORGANIZER:Matija Milanič
RELATED-TO:fmf-AFLABS-URNIK:srecanje:10875
X-WR-TIMEZONE:Europe/Ljubljana
END:VEVENT
BEGIN:VEVENT
SUMMARY:Sestanek skupine za biomedicinsko optiko ()\, Seminar (S)
DTSTART;TZID=Europe/Ljubljana:20240304T090000
DTEND;TZID=Europe/Ljubljana:20240304T100000
DTSTAMP:20260423T154928Z
UID:fmf-AFLABS-URNIK:premaknjeno-srecanje:137679
CATEGORIES:Entry,Standard
COLOR:darkgreen
DESCRIPTION:Predmet: Sestanek skupine za biomedicinsko optiko ()\, Seminar
  (S)\nLetniki: \nIzvajalci: Matija Milanič\nProstor: F5
LOCATION:F5
ORGANIZER:Matija Milanič
RELATED-TO:fmf-AFLABS-URNIK:srecanje:10875
X-WR-TIMEZONE:Europe/Ljubljana
END:VEVENT
BEGIN:VEVENT
SUMMARY:Sestanek skupine za biomedicinsko optiko ()\, Seminar (S)
DTSTART;TZID=Europe/Ljubljana:20240311T090000
DTEND;TZID=Europe/Ljubljana:20240311T100000
DTSTAMP:20260423T154928Z
UID:fmf-AFLABS-URNIK:premaknjeno-srecanje:137680
CATEGORIES:Entry,Standard
COLOR:darkgreen
DESCRIPTION:Predmet: Sestanek skupine za biomedicinsko optiko ()\, Seminar
  (S)\nLetniki: \nIzvajalci: Matija Milanič\nProstor: F5
LOCATION:F5
ORGANIZER:Matija Milanič
RELATED-TO:fmf-AFLABS-URNIK:srecanje:10875
X-WR-TIMEZONE:Europe/Ljubljana
END:VEVENT
BEGIN:VEVENT
SUMMARY:Obštudijski projekt (APF-2)\, Vaje (V)
DTSTART;TZID=Europe/Ljubljana:20240219T140000
DTEND;TZID=Europe/Ljubljana:20240219T170000
DTSTAMP:20260423T154928Z
UID:fmf-AFLABS-URNIK:premaknjeno-srecanje:138741
ATTENDEE:2. letnik (Aplikativna fizika)
CATEGORIES:Entry,Standard
COLOR:darkgreen
DESCRIPTION:Predmet: Obštudijski projekt (APF-2)\, Vaje (V)\nLetniki: 2. 
 letnik (Aplikativna fizika)\nIzvajalci: Matija Milanič\nProstor: F6
LOCATION:F6
ORGANIZER:Matija Milanič
RELATED-TO:fmf-AFLABS-URNIK:srecanje:10962
X-WR-TIMEZONE:Europe/Ljubljana
END:VEVENT
BEGIN:VEVENT
SUMMARY:Obštudijski projekt (APF-2)\, Vaje (V)
DTSTART;TZID=Europe/Ljubljana:20240226T140000
DTEND;TZID=Europe/Ljubljana:20240226T170000
DTSTAMP:20260423T154928Z
UID:fmf-AFLABS-URNIK:premaknjeno-srecanje:138742
ATTENDEE:2. letnik (Aplikativna fizika)
CATEGORIES:Entry,Standard
COLOR:darkgreen
DESCRIPTION:Predmet: Obštudijski projekt (APF-2)\, Vaje (V)\nLetniki: 2. 
 letnik (Aplikativna fizika)\nIzvajalci: Matija Milanič\nProstor: F6
LOCATION:F6
ORGANIZER:Matija Milanič
RELATED-TO:fmf-AFLABS-URNIK:srecanje:10962
X-WR-TIMEZONE:Europe/Ljubljana
END:VEVENT
BEGIN:VEVENT
SUMMARY:Obštudijski projekt (APF-2)\, Vaje (V)
DTSTART;TZID=Europe/Ljubljana:20240304T140000
DTEND;TZID=Europe/Ljubljana:20240304T170000
DTSTAMP:20260423T154928Z
UID:fmf-AFLABS-URNIK:premaknjeno-srecanje:138743
ATTENDEE:2. letnik (Aplikativna fizika)
CATEGORIES:Entry,Standard
COLOR:darkgreen
DESCRIPTION:Predmet: Obštudijski projekt (APF-2)\, Vaje (V)\nLetniki: 2. 
 letnik (Aplikativna fizika)\nIzvajalci: Matija Milanič\nProstor: F6
LOCATION:F6
ORGANIZER:Matija Milanič
RELATED-TO:fmf-AFLABS-URNIK:srecanje:10962
X-WR-TIMEZONE:Europe/Ljubljana
END:VEVENT
BEGIN:VEVENT
SUMMARY:Obštudijski projekt (APF-2)\, Vaje (V)
DTSTART;TZID=Europe/Ljubljana:20240311T140000
DTEND;TZID=Europe/Ljubljana:20240311T170000
DTSTAMP:20260423T154928Z
UID:fmf-AFLABS-URNIK:premaknjeno-srecanje:138744
ATTENDEE:2. letnik (Aplikativna fizika)
CATEGORIES:Entry,Standard
COLOR:darkgreen
DESCRIPTION:Predmet: Obštudijski projekt (APF-2)\, Vaje (V)\nLetniki: 2. 
 letnik (Aplikativna fizika)\nIzvajalci: Matija Milanič\nProstor: F6
LOCATION:F6
ORGANIZER:Matija Milanič
RELATED-TO:fmf-AFLABS-URNIK:srecanje:10962
X-WR-TIMEZONE:Europe/Ljubljana
END:VEVENT
BEGIN:VEVENT
SUMMARY:Fizika II (APF-2)\, Seminar (S)
DTSTART;TZID=Europe/Ljubljana:20240222T130000
DTEND;TZID=Europe/Ljubljana:20240222T140000
DTSTAMP:20260423T154928Z
UID:fmf-AFLABS-URNIK:premaknjeno-srecanje:124529
ATTENDEE:2. letnik (Aplikativna fizika)
CATEGORIES:Entry,Standard
COLOR:darkgreen
DESCRIPTION:Predmet: Fizika II (APF-2)\, Seminar (S)\nLetniki: 2. letnik (
 Aplikativna fizika)\nIzvajalci: Matija Milanič\nProstor: MFP
LOCATION:MFP
ORGANIZER:Matija Milanič
RELATED-TO:fmf-AFLABS-URNIK:srecanje:10541
X-WR-TIMEZONE:Europe/Ljubljana
END:VEVENT
BEGIN:VEVENT
SUMMARY:Fizika II (APF-2)\, Seminar (S)
DTSTART;TZID=Europe/Ljubljana:20240229T130000
DTEND;TZID=Europe/Ljubljana:20240229T140000
DTSTAMP:20260423T154928Z
UID:fmf-AFLABS-URNIK:premaknjeno-srecanje:124530
ATTENDEE:2. letnik (Aplikativna fizika)
CATEGORIES:Entry,Standard
COLOR:darkgreen
DESCRIPTION:Predmet: Fizika II (APF-2)\, Seminar (S)\nLetniki: 2. letnik (
 Aplikativna fizika)\nIzvajalci: Matija Milanič\nProstor: MFP
LOCATION:MFP
ORGANIZER:Matija Milanič
RELATED-TO:fmf-AFLABS-URNIK:srecanje:10541
X-WR-TIMEZONE:Europe/Ljubljana
END:VEVENT
BEGIN:VEVENT
SUMMARY:Fizika II (APF-2)\, Seminar (S)
DTSTART;TZID=Europe/Ljubljana:20240307T130000
DTEND;TZID=Europe/Ljubljana:20240307T140000
DTSTAMP:20260423T154928Z
UID:fmf-AFLABS-URNIK:premaknjeno-srecanje:124531
ATTENDEE:2. letnik (Aplikativna fizika)
CATEGORIES:Entry,Standard
COLOR:darkgreen
DESCRIPTION:Predmet: Fizika II (APF-2)\, Seminar (S)\nLetniki: 2. letnik (
 Aplikativna fizika)\nIzvajalci: Matija Milanič\nProstor: MFP
LOCATION:MFP
ORGANIZER:Matija Milanič
RELATED-TO:fmf-AFLABS-URNIK:srecanje:10541
X-WR-TIMEZONE:Europe/Ljubljana
END:VEVENT
BEGIN:VEVENT
SUMMARY:Fizika I (APF-1)\, Seminar (S)
DTSTART;TZID=Europe/Ljubljana:20240222T110000
DTEND;TZID=Europe/Ljubljana:20240222T120000
DTSTAMP:20260423T154928Z
UID:fmf-AFLABS-URNIK:premaknjeno-srecanje:134607
ATTENDEE:1. letnik (Aplikativna fizika)
CATEGORIES:Entry,Standard
COLOR:darkgreen
DESCRIPTION:Predmet: Fizika I (APF-1)\, Seminar (S)\nLetniki: 1. letnik (A
 plikativna fizika)\nIzvajalci: Matija Milanič\nProstor: F6
LOCATION:F6
ORGANIZER:Matija Milanič
RELATED-TO:fmf-AFLABS-URNIK:srecanje:10325
X-WR-TIMEZONE:Europe/Ljubljana
END:VEVENT
BEGIN:VEVENT
SUMMARY:Fizika I (APF-1)\, Seminar (S)
DTSTART;TZID=Europe/Ljubljana:20240229T110000
DTEND;TZID=Europe/Ljubljana:20240229T120000
DTSTAMP:20260423T154928Z
UID:fmf-AFLABS-URNIK:premaknjeno-srecanje:134608
ATTENDEE:1. letnik (Aplikativna fizika)
CATEGORIES:Entry,Standard
COLOR:darkgreen
DESCRIPTION:Predmet: Fizika I (APF-1)\, Seminar (S)\nLetniki: 1. letnik (A
 plikativna fizika)\nIzvajalci: Matija Milanič\nProstor: F6
LOCATION:F6
ORGANIZER:Matija Milanič
RELATED-TO:fmf-AFLABS-URNIK:srecanje:10325
X-WR-TIMEZONE:Europe/Ljubljana
END:VEVENT
BEGIN:VEVENT
SUMMARY:Fizika I (APF-1)\, Seminar (S)
DTSTART;TZID=Europe/Ljubljana:20240307T110000
DTEND;TZID=Europe/Ljubljana:20240307T120000
DTSTAMP:20260423T154928Z
UID:fmf-AFLABS-URNIK:premaknjeno-srecanje:134609
ATTENDEE:1. letnik (Aplikativna fizika)
CATEGORIES:Entry,Standard
COLOR:darkgreen
DESCRIPTION:Predmet: Fizika I (APF-1)\, Seminar (S)\nLetniki: 1. letnik (A
 plikativna fizika)\nIzvajalci: Matija Milanič\nProstor: F6
LOCATION:F6
ORGANIZER:Matija Milanič
RELATED-TO:fmf-AFLABS-URNIK:srecanje:10325
X-WR-TIMEZONE:Europe/Ljubljana
END:VEVENT
BEGIN:VEVENT
SUMMARY:Medicinska fizika (APF-2\, APF-3)\, Predavanja (P)
DTSTART;TZID=Europe/Ljubljana:20240223T120000
DTEND;TZID=Europe/Ljubljana:20240223T140000
DTSTAMP:20260423T154928Z
UID:fmf-AFLABS-URNIK:premaknjeno-srecanje:127394
ATTENDEE:2. letnik (Aplikativna fizika)
ATTENDEE:3. letnik (Aplikativna fizika)
CATEGORIES:Entry,Standard
COLOR:darkgreen
DESCRIPTION:Predmet: Medicinska fizika (APF-2\, APF-3)\, Predavanja (P)\nL
 etniki: 2. letnik (Aplikativna fizika)\, 3. letnik (Aplikativna fizika)\nI
 zvajalci: Matija Milanič\nProstor: F7
LOCATION:F7
ORGANIZER:Matija Milanič
RELATED-TO:fmf-AFLABS-URNIK:srecanje:10553
X-WR-TIMEZONE:Europe/Ljubljana
END:VEVENT
BEGIN:VEVENT
SUMMARY:Medicinska fizika (APF-2\, APF-3)\, Predavanja (P)
DTSTART;TZID=Europe/Ljubljana:20240301T120000
DTEND;TZID=Europe/Ljubljana:20240301T140000
DTSTAMP:20260423T154928Z
UID:fmf-AFLABS-URNIK:premaknjeno-srecanje:127395
ATTENDEE:2. letnik (Aplikativna fizika)
ATTENDEE:3. letnik (Aplikativna fizika)
CATEGORIES:Entry,Standard
COLOR:darkgreen
DESCRIPTION:Predmet: Medicinska fizika (APF-2\, APF-3)\, Predavanja (P)\nL
 etniki: 2. letnik (Aplikativna fizika)\, 3. letnik (Aplikativna fizika)\nI
 zvajalci: Matija Milanič\nProstor: F7
LOCATION:F7
ORGANIZER:Matija Milanič
RELATED-TO:fmf-AFLABS-URNIK:srecanje:10553
X-WR-TIMEZONE:Europe/Ljubljana
END:VEVENT
BEGIN:VEVENT
SUMMARY:Medicinska fizika (APF-2\, APF-3)\, Predavanja (P)
DTSTART;TZID=Europe/Ljubljana:20240308T120000
DTEND;TZID=Europe/Ljubljana:20240308T140000
DTSTAMP:20260423T154928Z
UID:fmf-AFLABS-URNIK:premaknjeno-srecanje:127396
ATTENDEE:2. letnik (Aplikativna fizika)
ATTENDEE:3. letnik (Aplikativna fizika)
CATEGORIES:Entry,Standard
COLOR:darkgreen
DESCRIPTION:Predmet: Medicinska fizika (APF-2\, APF-3)\, Predavanja (P)\nL
 etniki: 2. letnik (Aplikativna fizika)\, 3. letnik (Aplikativna fizika)\nI
 zvajalci: Matija Milanič\nProstor: F7
LOCATION:F7
ORGANIZER:Matija Milanič
RELATED-TO:fmf-AFLABS-URNIK:srecanje:10553
X-WR-TIMEZONE:Europe/Ljubljana
END:VEVENT
END:VCALENDAR
