BEGIN:VCALENDAR
VERSION:2.0
PRODID:-//AFLabs urnik izvoz - fmf//aflabs.si//SI
DTSTAMP:20260425T143736Z
NAME:UL FMF urnik
REFRESH-INTERVAL:PT1H
SOURCE:https://urnik.fmf.uni-lj.si/teacher/117?day=2024-09-02&export=1
URL:https://urnik.fmf.uni-lj.si/teacher/117?day=2024-09-02&export=1
X-PUBLISHED-TTL:PT1H
X-WR-CALNAME:UL FMF urnik
X-WR-TIMEZONE:Europe/Ljubljana
BEGIN:VTIMEZONE
TZID:Europe/Ljubljana
BEGIN:DAYLIGHT
DTSTART:20260329T020000
RDATE:20260329T020000
RDATE:20270328T020000
TZNAME:CEST
TZOFFSETFROM:+0100
TZOFFSETTO:+0200
END:DAYLIGHT
BEGIN:STANDARD
DTSTART:20261025T030000
RDATE:20261025T030000
RDATE:20271031T030000
TZNAME:CET
TZOFFSETFROM:+0200
TZOFFSETTO:+0100
END:STANDARD
END:VTIMEZONE
BEGIN:VEVENT
SUMMARY:Izbrana poglavja iz medicinske fizike (MEF-1\, MEF-2)\, Seminar (S
 )
DTSTART;TZID=Europe/Ljubljana:20241001T150000
DTEND;TZID=Europe/Ljubljana:20241001T190000
DTSTAMP:20260425T143736Z
UID:fmf-AFLABS-URNIK:premaknjeno-srecanje:190523
ATTENDEE:1. letnik (Medicinska fizika, 2. stopnja)
ATTENDEE:2. letnik (Medicinska fizika, 2. stopnja)
CATEGORIES:Entry,Standard
COLOR:darkgreen
DESCRIPTION:Predmet: Izbrana poglavja iz medicinske fizike (MEF-1\, MEF-2)
 \, Seminar (S)\nLetniki: 1. letnik (Medicinska fizika\, 2. stopnja)\, 2. l
 etnik (Medicinska fizika\, 2. stopnja)\nIzvajalci: Matija Milanič\nProsto
 r: P.01
LOCATION:P.01
ORGANIZER:Matija Milanič
RELATED-TO:fmf-AFLABS-URNIK:srecanje:14381
X-WR-TIMEZONE:Europe/Ljubljana
END:VEVENT
BEGIN:VEVENT
SUMMARY:Fizika I (APF-1)\, Seminar (S)
DTSTART;TZID=Europe/Ljubljana:20241003T110000
DTEND;TZID=Europe/Ljubljana:20241003T120000
DTSTAMP:20260425T143736Z
UID:fmf-AFLABS-URNIK:premaknjeno-srecanje:179347
ATTENDEE:1. letnik (Aplikativna fizika)
CATEGORIES:Entry,Standard
COLOR:darkgreen
DESCRIPTION:Predmet: Fizika I (APF-1)\, Seminar (S)\nLetniki: 1. letnik (A
 plikativna fizika)\nIzvajalci: Matija Milanič\nProstor: MFP
LOCATION:MFP
ORGANIZER:Matija Milanič
RELATED-TO:fmf-AFLABS-URNIK:srecanje:13676
X-WR-TIMEZONE:Europe/Ljubljana
END:VEVENT
BEGIN:VEVENT
SUMMARY:Fizika II (APF-2)\, Seminar (S)
DTSTART;TZID=Europe/Ljubljana:20241003T130000
DTEND;TZID=Europe/Ljubljana:20241003T140000
DTSTAMP:20260425T143736Z
UID:fmf-AFLABS-URNIK:premaknjeno-srecanje:193787
ATTENDEE:2. letnik (Aplikativna fizika)
CATEGORIES:Entry,Standard
COLOR:darkgreen
DESCRIPTION:Predmet: Fizika II (APF-2)\, Seminar (S)\nLetniki: 2. letnik (
 Aplikativna fizika)\nIzvajalci: Matija Milanič\nProstor: F7
LOCATION:F7
ORGANIZER:Matija Milanič
RELATED-TO:fmf-AFLABS-URNIK:srecanje:14585
X-WR-TIMEZONE:Europe/Ljubljana
END:VEVENT
END:VCALENDAR
