BEGIN:VCALENDAR
VERSION:2.0
PRODID:-//AFLabs urnik izvoz - fmf//aflabs.si//SI
DTSTAMP:20260425T160737Z
NAME:UL FMF urnik
REFRESH-INTERVAL:PT1H
SOURCE:https://urnik.fmf.uni-lj.si/teacher/119?day=2024-06-10&export=1
URL:https://urnik.fmf.uni-lj.si/teacher/119?day=2024-06-10&export=1
X-PUBLISHED-TTL:PT1H
X-WR-CALNAME:UL FMF urnik
X-WR-TIMEZONE:Europe/Ljubljana
BEGIN:VTIMEZONE
TZID:Europe/Ljubljana
BEGIN:DAYLIGHT
DTSTART:20260329T020000
RDATE:20260329T020000
RDATE:20270328T020000
TZNAME:CEST
TZOFFSETFROM:+0100
TZOFFSETTO:+0200
END:DAYLIGHT
BEGIN:STANDARD
DTSTART:20261025T030000
RDATE:20261025T030000
RDATE:20271031T030000
TZNAME:CET
TZOFFSETFROM:+0200
TZOFFSETTO:+0100
END:STANDARD
END:VTIMEZONE
BEGIN:VEVENT
SUMMARY:Moderna fizika (APF-3)\, Predavanja (P)
DTSTART;TZID=Europe/Ljubljana:20240506T080000
DTEND;TZID=Europe/Ljubljana:20240506T100000
DTSTAMP:20260425T160737Z
UID:fmf-AFLABS-URNIK:premaknjeno-srecanje:127660
ATTENDEE:3. letnik (Aplikativna fizika)
CATEGORIES:Entry,Standard
COLOR:darkgreen
DESCRIPTION:Predmet: Moderna fizika (APF-3)\, Predavanja (P)\nLetniki: 3. 
 letnik (Aplikativna fizika)\nIzvajalci: Andrej Zorko\nProstor: F3
LOCATION:F3
ORGANIZER:Andrej Zorko
RELATED-TO:fmf-AFLABS-URNIK:srecanje:10551
X-WR-TIMEZONE:Europe/Ljubljana
END:VEVENT
BEGIN:VEVENT
SUMMARY:Moderna fizika (APF-3)\, Predavanja (P)
DTSTART;TZID=Europe/Ljubljana:20240513T080000
DTEND;TZID=Europe/Ljubljana:20240513T100000
DTSTAMP:20260425T160737Z
UID:fmf-AFLABS-URNIK:premaknjeno-srecanje:127661
ATTENDEE:3. letnik (Aplikativna fizika)
CATEGORIES:Entry,Standard
COLOR:darkgreen
DESCRIPTION:Predmet: Moderna fizika (APF-3)\, Predavanja (P)\nLetniki: 3. 
 letnik (Aplikativna fizika)\nIzvajalci: Andrej Zorko\nProstor: F3
LOCATION:F3
ORGANIZER:Andrej Zorko
RELATED-TO:fmf-AFLABS-URNIK:srecanje:10551
X-WR-TIMEZONE:Europe/Ljubljana
END:VEVENT
BEGIN:VEVENT
SUMMARY:Moderna fizika (APF-3)\, Predavanja (P)
DTSTART;TZID=Europe/Ljubljana:20240520T080000
DTEND;TZID=Europe/Ljubljana:20240520T100000
DTSTAMP:20260425T160737Z
UID:fmf-AFLABS-URNIK:premaknjeno-srecanje:127662
ATTENDEE:3. letnik (Aplikativna fizika)
CATEGORIES:Entry,Standard
COLOR:darkgreen
DESCRIPTION:Predmet: Moderna fizika (APF-3)\, Predavanja (P)\nLetniki: 3. 
 letnik (Aplikativna fizika)\nIzvajalci: Andrej Zorko\nProstor: F3
LOCATION:F3
ORGANIZER:Andrej Zorko
RELATED-TO:fmf-AFLABS-URNIK:srecanje:10551
X-WR-TIMEZONE:Europe/Ljubljana
END:VEVENT
BEGIN:VEVENT
SUMMARY:Moderna fizika (APF-3)\, Predavanja (P)
DTSTART;TZID=Europe/Ljubljana:20240527T080000
DTEND;TZID=Europe/Ljubljana:20240527T100000
DTSTAMP:20260425T160737Z
UID:fmf-AFLABS-URNIK:premaknjeno-srecanje:127663
ATTENDEE:3. letnik (Aplikativna fizika)
CATEGORIES:Entry,Standard
COLOR:darkgreen
DESCRIPTION:Predmet: Moderna fizika (APF-3)\, Predavanja (P)\nLetniki: 3. 
 letnik (Aplikativna fizika)\nIzvajalci: Andrej Zorko\nProstor: F3
LOCATION:F3
ORGANIZER:Andrej Zorko
RELATED-TO:fmf-AFLABS-URNIK:srecanje:10551
X-WR-TIMEZONE:Europe/Ljubljana
END:VEVENT
BEGIN:VEVENT
SUMMARY:Moderna fizika (APF-3)\, Predavanja (P)
DTSTART;TZID=Europe/Ljubljana:20240510T100000
DTEND;TZID=Europe/Ljubljana:20240510T110000
DTSTAMP:20260425T160737Z
UID:fmf-AFLABS-URNIK:premaknjeno-srecanje:127675
ATTENDEE:3. letnik (Aplikativna fizika)
CATEGORIES:Entry,Standard
COLOR:darkgreen
DESCRIPTION:Predmet: Moderna fizika (APF-3)\, Predavanja (P)\nLetniki: 3. 
 letnik (Aplikativna fizika)\nIzvajalci: Andrej Zorko\nProstor: F7
LOCATION:F7
ORGANIZER:Andrej Zorko
RELATED-TO:fmf-AFLABS-URNIK:srecanje:10078
X-WR-TIMEZONE:Europe/Ljubljana
END:VEVENT
BEGIN:VEVENT
SUMMARY:Moderna fizika (APF-3)\, Predavanja (P)
DTSTART;TZID=Europe/Ljubljana:20240517T100000
DTEND;TZID=Europe/Ljubljana:20240517T110000
DTSTAMP:20260425T160737Z
UID:fmf-AFLABS-URNIK:premaknjeno-srecanje:127676
ATTENDEE:3. letnik (Aplikativna fizika)
CATEGORIES:Entry,Standard
COLOR:darkgreen
DESCRIPTION:Predmet: Moderna fizika (APF-3)\, Predavanja (P)\nLetniki: 3. 
 letnik (Aplikativna fizika)\nIzvajalci: Andrej Zorko\nProstor: F7
LOCATION:F7
ORGANIZER:Andrej Zorko
RELATED-TO:fmf-AFLABS-URNIK:srecanje:10078
X-WR-TIMEZONE:Europe/Ljubljana
END:VEVENT
BEGIN:VEVENT
SUMMARY:Moderna fizika (APF-3)\, Predavanja (P)
DTSTART;TZID=Europe/Ljubljana:20240524T100000
DTEND;TZID=Europe/Ljubljana:20240524T110000
DTSTAMP:20260425T160737Z
UID:fmf-AFLABS-URNIK:premaknjeno-srecanje:127677
ATTENDEE:3. letnik (Aplikativna fizika)
CATEGORIES:Entry,Standard
COLOR:darkgreen
DESCRIPTION:Predmet: Moderna fizika (APF-3)\, Predavanja (P)\nLetniki: 3. 
 letnik (Aplikativna fizika)\nIzvajalci: Andrej Zorko\nProstor: F7
LOCATION:F7
ORGANIZER:Andrej Zorko
RELATED-TO:fmf-AFLABS-URNIK:srecanje:10078
X-WR-TIMEZONE:Europe/Ljubljana
END:VEVENT
BEGIN:VEVENT
SUMMARY:Moderna fizika (APF-3)\, Predavanja (P)
DTSTART;TZID=Europe/Ljubljana:20240531T100000
DTEND;TZID=Europe/Ljubljana:20240531T110000
DTSTAMP:20260425T160737Z
UID:fmf-AFLABS-URNIK:premaknjeno-srecanje:127678
ATTENDEE:3. letnik (Aplikativna fizika)
CATEGORIES:Entry,Standard
COLOR:darkgreen
DESCRIPTION:Predmet: Moderna fizika (APF-3)\, Predavanja (P)\nLetniki: 3. 
 letnik (Aplikativna fizika)\nIzvajalci: Andrej Zorko\nProstor: F7
LOCATION:F7
ORGANIZER:Andrej Zorko
RELATED-TO:fmf-AFLABS-URNIK:srecanje:10078
X-WR-TIMEZONE:Europe/Ljubljana
END:VEVENT
BEGIN:VEVENT
SUMMARY:Moderna fizika (APF-3)\, Seminar (S)
DTSTART;TZID=Europe/Ljubljana:20240510T110000
DTEND;TZID=Europe/Ljubljana:20240510T120000
DTSTAMP:20260425T160737Z
UID:fmf-AFLABS-URNIK:premaknjeno-srecanje:127690
ATTENDEE:3. letnik (Aplikativna fizika)
CATEGORIES:Entry,Standard
COLOR:darkgreen
DESCRIPTION:Predmet: Moderna fizika (APF-3)\, Seminar (S)\nLetniki: 3. let
 nik (Aplikativna fizika)\nIzvajalci: Andrej Zorko\nProstor: F7
LOCATION:F7
ORGANIZER:Andrej Zorko
RELATED-TO:fmf-AFLABS-URNIK:srecanje:10079
X-WR-TIMEZONE:Europe/Ljubljana
END:VEVENT
BEGIN:VEVENT
SUMMARY:Moderna fizika (APF-3)\, Seminar (S)
DTSTART;TZID=Europe/Ljubljana:20240517T110000
DTEND;TZID=Europe/Ljubljana:20240517T120000
DTSTAMP:20260425T160737Z
UID:fmf-AFLABS-URNIK:premaknjeno-srecanje:127691
ATTENDEE:3. letnik (Aplikativna fizika)
CATEGORIES:Entry,Standard
COLOR:darkgreen
DESCRIPTION:Predmet: Moderna fizika (APF-3)\, Seminar (S)\nLetniki: 3. let
 nik (Aplikativna fizika)\nIzvajalci: Andrej Zorko\nProstor: F7
LOCATION:F7
ORGANIZER:Andrej Zorko
RELATED-TO:fmf-AFLABS-URNIK:srecanje:10079
X-WR-TIMEZONE:Europe/Ljubljana
END:VEVENT
BEGIN:VEVENT
SUMMARY:Moderna fizika (APF-3)\, Seminar (S)
DTSTART;TZID=Europe/Ljubljana:20240524T110000
DTEND;TZID=Europe/Ljubljana:20240524T120000
DTSTAMP:20260425T160737Z
UID:fmf-AFLABS-URNIK:premaknjeno-srecanje:127692
ATTENDEE:3. letnik (Aplikativna fizika)
CATEGORIES:Entry,Standard
COLOR:darkgreen
DESCRIPTION:Predmet: Moderna fizika (APF-3)\, Seminar (S)\nLetniki: 3. let
 nik (Aplikativna fizika)\nIzvajalci: Andrej Zorko\nProstor: F7
LOCATION:F7
ORGANIZER:Andrej Zorko
RELATED-TO:fmf-AFLABS-URNIK:srecanje:10079
X-WR-TIMEZONE:Europe/Ljubljana
END:VEVENT
BEGIN:VEVENT
SUMMARY:Moderna fizika (APF-3)\, Seminar (S)
DTSTART;TZID=Europe/Ljubljana:20240531T110000
DTEND;TZID=Europe/Ljubljana:20240531T120000
DTSTAMP:20260425T160737Z
UID:fmf-AFLABS-URNIK:premaknjeno-srecanje:127693
ATTENDEE:3. letnik (Aplikativna fizika)
CATEGORIES:Entry,Standard
COLOR:darkgreen
DESCRIPTION:Predmet: Moderna fizika (APF-3)\, Seminar (S)\nLetniki: 3. let
 nik (Aplikativna fizika)\nIzvajalci: Andrej Zorko\nProstor: F7
LOCATION:F7
ORGANIZER:Andrej Zorko
RELATED-TO:fmf-AFLABS-URNIK:srecanje:10079
X-WR-TIMEZONE:Europe/Ljubljana
END:VEVENT
BEGIN:VEVENT
SUMMARY:Izpit iz MF
DTSTART;TZID=Europe/Ljubljana:20240614T080000
DTEND;TZID=Europe/Ljubljana:20240614T110000
DTSTAMP:20260425T160737Z
UID:fmf-AFLABS-URNIK:rezervacija:16410
ATTENDEE:3. letnik (Aplikativna fizika)
CATEGORIES:Reservation
COLOR:royalblue
DESCRIPTION:Predmeti: Moderna fizika (APF-3)\nLetniki: 3. letnik (Aplikati
 vna fizika)\nIzvajalci: Andrej Zorko\nProstori: F7
LOCATION:F7
ORGANIZER:Andrej Zorko
X-WR-TIMEZONE:Europe/Ljubljana
END:VEVENT
END:VCALENDAR
