BEGIN:VCALENDAR
VERSION:2.0
PRODID:-//AFLabs urnik izvoz - fmf//aflabs.si//SI
DTSTAMP:20260424T220811Z
NAME:UL FMF urnik
REFRESH-INTERVAL:PT1H
SOURCE:https://urnik.fmf.uni-lj.si/teacher/119?day=2026-02-02&export=1
URL:https://urnik.fmf.uni-lj.si/teacher/119?day=2026-02-02&export=1
X-PUBLISHED-TTL:PT1H
X-WR-CALNAME:UL FMF urnik
X-WR-TIMEZONE:Europe/Ljubljana
BEGIN:VTIMEZONE
TZID:Europe/Ljubljana
BEGIN:DAYLIGHT
DTSTART:20260329T020000
RDATE:20260329T020000
RDATE:20270328T020000
TZNAME:CEST
TZOFFSETFROM:+0100
TZOFFSETTO:+0200
END:DAYLIGHT
BEGIN:STANDARD
DTSTART:20261025T030000
RDATE:20261025T030000
RDATE:20271031T030000
TZNAME:CET
TZOFFSETFROM:+0200
TZOFFSETTO:+0100
END:STANDARD
END:VTIMEZONE
BEGIN:VEVENT
SUMMARY:Specialistični seminar iz eksperimentalne fizike (FIZ-D)\, Predav
 anja (P)
DTSTART;TZID=Europe/Ljubljana:20260216T110000
DTEND;TZID=Europe/Ljubljana:20260216T140000
DTSTAMP:20260424T220811Z
UID:fmf-AFLABS-URNIK:premaknjeno-srecanje:250696
ATTENDEE:doktorski študij (Fizika, 3. stopnja)
CATEGORIES:Entry,Standard
COLOR:darkgreen
DESCRIPTION:Predmet: Specialistični seminar iz eksperimentalne fizike (FI
 Z-D)\, Predavanja (P)\nLetniki: doktorski študij (Fizika\, 3. stopnja)\nI
 zvajalci: Andrej Zorko\nProstor: F2
LOCATION:F2
ORGANIZER:Andrej Zorko
RELATED-TO:fmf-AFLABS-URNIK:srecanje:17198
X-WR-TIMEZONE:Europe/Ljubljana
END:VEVENT
BEGIN:VEVENT
SUMMARY:Specialistični seminar iz eksperimentalne fizike (FIZ-D)\, Predav
 anja (P)
DTSTART;TZID=Europe/Ljubljana:20260223T110000
DTEND;TZID=Europe/Ljubljana:20260223T140000
DTSTAMP:20260424T220811Z
UID:fmf-AFLABS-URNIK:premaknjeno-srecanje:250697
ATTENDEE:doktorski študij (Fizika, 3. stopnja)
CATEGORIES:Entry,Standard
COLOR:darkgreen
DESCRIPTION:Predmet: Specialistični seminar iz eksperimentalne fizike (FI
 Z-D)\, Predavanja (P)\nLetniki: doktorski študij (Fizika\, 3. stopnja)\nI
 zvajalci: Andrej Zorko\nProstor: F2
LOCATION:F2
ORGANIZER:Andrej Zorko
RELATED-TO:fmf-AFLABS-URNIK:srecanje:17198
X-WR-TIMEZONE:Europe/Ljubljana
END:VEVENT
BEGIN:VEVENT
SUMMARY:Specialistični seminar iz eksperimentalne fizike (FIZ-D)\, Predav
 anja (P)
DTSTART;TZID=Europe/Ljubljana:20260302T110000
DTEND;TZID=Europe/Ljubljana:20260302T140000
DTSTAMP:20260424T220811Z
UID:fmf-AFLABS-URNIK:premaknjeno-srecanje:250698
ATTENDEE:doktorski študij (Fizika, 3. stopnja)
CATEGORIES:Entry,Standard
COLOR:darkgreen
DESCRIPTION:Predmet: Specialistični seminar iz eksperimentalne fizike (FI
 Z-D)\, Predavanja (P)\nLetniki: doktorski študij (Fizika\, 3. stopnja)\nI
 zvajalci: Andrej Zorko\nProstor: F2
LOCATION:F2
ORGANIZER:Andrej Zorko
RELATED-TO:fmf-AFLABS-URNIK:srecanje:17198
X-WR-TIMEZONE:Europe/Ljubljana
END:VEVENT
BEGIN:VEVENT
SUMMARY:Specialistični seminar iz eksperimentalne fizike (FIZ-D)\, Predav
 anja (P)
DTSTART;TZID=Europe/Ljubljana:20260309T110000
DTEND;TZID=Europe/Ljubljana:20260309T140000
DTSTAMP:20260424T220811Z
UID:fmf-AFLABS-URNIK:premaknjeno-srecanje:250699
ATTENDEE:doktorski študij (Fizika, 3. stopnja)
CATEGORIES:Entry,Standard
COLOR:darkgreen
DESCRIPTION:Predmet: Specialistični seminar iz eksperimentalne fizike (FI
 Z-D)\, Predavanja (P)\nLetniki: doktorski študij (Fizika\, 3. stopnja)\nI
 zvajalci: Andrej Zorko\nProstor: F2
LOCATION:F2
ORGANIZER:Andrej Zorko
RELATED-TO:fmf-AFLABS-URNIK:srecanje:17198
X-WR-TIMEZONE:Europe/Ljubljana
END:VEVENT
BEGIN:VEVENT
SUMMARY:Specialistični seminar iz eksperimentalne fizike (FIZ-D)\, Predav
 anja (P)
DTSTART;TZID=Europe/Ljubljana:20260218T140000
DTEND;TZID=Europe/Ljubljana:20260218T170000
DTSTAMP:20260424T220811Z
UID:fmf-AFLABS-URNIK:premaknjeno-srecanje:250680
ATTENDEE:doktorski študij (Fizika, 3. stopnja)
CATEGORIES:Entry,Standard
COLOR:darkgreen
DESCRIPTION:Predmet: Specialistični seminar iz eksperimentalne fizike (FI
 Z-D)\, Predavanja (P)\nLetniki: doktorski študij (Fizika\, 3. stopnja)\nI
 zvajalci: Andrej Zorko\nProstor: F4
LOCATION:F4
ORGANIZER:Andrej Zorko
RELATED-TO:fmf-AFLABS-URNIK:srecanje:17400
X-WR-TIMEZONE:Europe/Ljubljana
END:VEVENT
BEGIN:VEVENT
SUMMARY:Specialistični seminar iz eksperimentalne fizike (FIZ-D)\, Predav
 anja (P)
DTSTART;TZID=Europe/Ljubljana:20260225T140000
DTEND;TZID=Europe/Ljubljana:20260225T170000
DTSTAMP:20260424T220811Z
UID:fmf-AFLABS-URNIK:premaknjeno-srecanje:250681
ATTENDEE:doktorski študij (Fizika, 3. stopnja)
CATEGORIES:Entry,Standard
COLOR:darkgreen
DESCRIPTION:Predmet: Specialistični seminar iz eksperimentalne fizike (FI
 Z-D)\, Predavanja (P)\nLetniki: doktorski študij (Fizika\, 3. stopnja)\nI
 zvajalci: Andrej Zorko\nProstor: F4
LOCATION:F4
ORGANIZER:Andrej Zorko
RELATED-TO:fmf-AFLABS-URNIK:srecanje:17400
X-WR-TIMEZONE:Europe/Ljubljana
END:VEVENT
BEGIN:VEVENT
SUMMARY:Specialistični seminar iz eksperimentalne fizike (FIZ-D)\, Predav
 anja (P)
DTSTART;TZID=Europe/Ljubljana:20260304T140000
DTEND;TZID=Europe/Ljubljana:20260304T170000
DTSTAMP:20260424T220811Z
UID:fmf-AFLABS-URNIK:premaknjeno-srecanje:250682
ATTENDEE:doktorski študij (Fizika, 3. stopnja)
CATEGORIES:Entry,Standard
COLOR:darkgreen
DESCRIPTION:Predmet: Specialistični seminar iz eksperimentalne fizike (FI
 Z-D)\, Predavanja (P)\nLetniki: doktorski študij (Fizika\, 3. stopnja)\nI
 zvajalci: Andrej Zorko\nProstor: F4
LOCATION:F4
ORGANIZER:Andrej Zorko
RELATED-TO:fmf-AFLABS-URNIK:srecanje:17400
X-WR-TIMEZONE:Europe/Ljubljana
END:VEVENT
BEGIN:VEVENT
SUMMARY:Izredni izpit iz MF
DTSTART;TZID=Europe/Ljubljana:20260212T100000
DTEND;TZID=Europe/Ljubljana:20260212T120000
DTSTAMP:20260424T220811Z
UID:fmf-AFLABS-URNIK:rezervacija:26615
ATTENDEE:3. letnik (Aplikativna fizika)
CATEGORIES:Reservation
COLOR:royalblue
DESCRIPTION:Predmeti: Moderna fizika (APF-3)\nLetniki: 3. letnik (Aplikati
 vna fizika)\nIzvajalci: Andrej Zorko\nProstori: F1
LOCATION:F1
ORGANIZER:Andrej Zorko
X-WR-TIMEZONE:Europe/Ljubljana
END:VEVENT
END:VCALENDAR
