BEGIN:VCALENDAR
VERSION:2.0
PRODID:-//AFLabs urnik izvoz - fmf//aflabs.si//SI
DTSTAMP:20260423T020626Z
NAME:UL FMF urnik
REFRESH-INTERVAL:PT1H
SOURCE:https://urnik.fmf.uni-lj.si/teacher/11?day=2020-09-21&export=1
URL:https://urnik.fmf.uni-lj.si/teacher/11?day=2020-09-21&export=1
X-PUBLISHED-TTL:PT1H
X-WR-CALNAME:UL FMF urnik
X-WR-TIMEZONE:Europe/Ljubljana
BEGIN:VTIMEZONE
TZID:Europe/Ljubljana
BEGIN:DAYLIGHT
DTSTART:20260329T020000
RDATE:20260329T020000
RDATE:20270328T020000
TZNAME:CEST
TZOFFSETFROM:+0100
TZOFFSETTO:+0200
END:DAYLIGHT
BEGIN:STANDARD
DTSTART:20261025T030000
RDATE:20261025T030000
RDATE:20271031T030000
TZNAME:CET
TZOFFSETFROM:+0200
TZOFFSETTO:+0100
END:STANDARD
END:VTIMEZONE
BEGIN:VEVENT
SUMMARY:Diplomski seminar (MAT-3)\, Predavanja (P)
DTSTART;TZID=Europe/Ljubljana:20201005T140000
DTEND;TZID=Europe/Ljubljana:20201005T160000
DTSTAMP:20260423T020626Z
UID:fmf-AFLABS-URNIK:premaknjeno-srecanje:15264
ATTENDEE:3. letnik (M)
CATEGORIES:Entry,Standard
COLOR:darkgreen
DESCRIPTION:Predmet: Diplomski seminar (MAT-3)\, Predavanja (P)\nLetniki: 
 3. letnik (M)\nIzvajalci: Sašo Strle\nProstor: 2.03
LOCATION:2.03
ORGANIZER:Sašo Strle
RELATED-TO:fmf-AFLABS-URNIK:srecanje:5309
X-WR-TIMEZONE:Europe/Ljubljana
END:VEVENT
BEGIN:VEVENT
SUMMARY:Diplomski seminar (MAT-3)\, Predavanja (P)
DTSTART;TZID=Europe/Ljubljana:20201012T140000
DTEND;TZID=Europe/Ljubljana:20201012T160000
DTSTAMP:20260423T020626Z
UID:fmf-AFLABS-URNIK:premaknjeno-srecanje:15265
ATTENDEE:3. letnik (M)
CATEGORIES:Entry,Standard
COLOR:darkgreen
DESCRIPTION:Predmet: Diplomski seminar (MAT-3)\, Predavanja (P)\nLetniki: 
 3. letnik (M)\nIzvajalci: Sašo Strle\nProstor: 2.03
LOCATION:2.03
ORGANIZER:Sašo Strle
RELATED-TO:fmf-AFLABS-URNIK:srecanje:5309
X-WR-TIMEZONE:Europe/Ljubljana
END:VEVENT
BEGIN:VEVENT
SUMMARY:Diplomski seminar (MAT-3)\, Predavanja (P)
DTSTART;TZID=Europe/Ljubljana:20201019T140000
DTEND;TZID=Europe/Ljubljana:20201019T160000
DTSTAMP:20260423T020626Z
UID:fmf-AFLABS-URNIK:premaknjeno-srecanje:15266
ATTENDEE:3. letnik (M)
CATEGORIES:Entry,Standard
COLOR:darkgreen
DESCRIPTION:Predmet: Diplomski seminar (MAT-3)\, Predavanja (P)\nLetniki: 
 3. letnik (M)\nIzvajalci: Sašo Strle\nProstor: 2.03
LOCATION:2.03
ORGANIZER:Sašo Strle
RELATED-TO:fmf-AFLABS-URNIK:srecanje:5309
X-WR-TIMEZONE:Europe/Ljubljana
END:VEVENT
BEGIN:VEVENT
SUMMARY:Diplomski seminar (MAT-3)\, Predavanja (P)
DTSTART;TZID=Europe/Ljubljana:20201026T140000
DTEND;TZID=Europe/Ljubljana:20201026T160000
DTSTAMP:20260423T020626Z
UID:fmf-AFLABS-URNIK:premaknjeno-srecanje:15267
ATTENDEE:3. letnik (M)
CATEGORIES:Entry,Standard
COLOR:darkgreen
DESCRIPTION:Predmet: Diplomski seminar (MAT-3)\, Predavanja (P)\nLetniki: 
 3. letnik (M)\nIzvajalci: Sašo Strle\nProstor: 2.03
LOCATION:2.03
ORGANIZER:Sašo Strle
RELATED-TO:fmf-AFLABS-URNIK:srecanje:5309
X-WR-TIMEZONE:Europe/Ljubljana
END:VEVENT
BEGIN:VEVENT
SUMMARY:Govorilna ura ()\, Ostalo (O)
DTSTART;TZID=Europe/Ljubljana:20201005T100000
DTEND;TZID=Europe/Ljubljana:20201005T110000
DTSTAMP:20260423T020626Z
UID:fmf-AFLABS-URNIK:premaknjeno-srecanje:38663
CATEGORIES:Entry,Standard
COLOR:darkgreen
DESCRIPTION:Predmet: Govorilna ura ()\, Ostalo (O)\nLetniki: \nIzvajalci: 
 Sašo Strle\nProstor: 4.01
LOCATION:4.01
ORGANIZER:Sašo Strle
RELATED-TO:fmf-AFLABS-URNIK:srecanje:4843
X-WR-TIMEZONE:Europe/Ljubljana
END:VEVENT
BEGIN:VEVENT
SUMMARY:Govorilna ura ()\, Ostalo (O)
DTSTART;TZID=Europe/Ljubljana:20201012T100000
DTEND;TZID=Europe/Ljubljana:20201012T110000
DTSTAMP:20260423T020626Z
UID:fmf-AFLABS-URNIK:premaknjeno-srecanje:38664
CATEGORIES:Entry,Standard
COLOR:darkgreen
DESCRIPTION:Predmet: Govorilna ura ()\, Ostalo (O)\nLetniki: \nIzvajalci: 
 Sašo Strle\nProstor: 4.01
LOCATION:4.01
ORGANIZER:Sašo Strle
RELATED-TO:fmf-AFLABS-URNIK:srecanje:4843
X-WR-TIMEZONE:Europe/Ljubljana
END:VEVENT
BEGIN:VEVENT
SUMMARY:Govorilna ura ()\, Ostalo (O)
DTSTART;TZID=Europe/Ljubljana:20201019T100000
DTEND;TZID=Europe/Ljubljana:20201019T110000
DTSTAMP:20260423T020626Z
UID:fmf-AFLABS-URNIK:premaknjeno-srecanje:38665
CATEGORIES:Entry,Standard
COLOR:darkgreen
DESCRIPTION:Predmet: Govorilna ura ()\, Ostalo (O)\nLetniki: \nIzvajalci: 
 Sašo Strle\nProstor: 4.01
LOCATION:4.01
ORGANIZER:Sašo Strle
RELATED-TO:fmf-AFLABS-URNIK:srecanje:4843
X-WR-TIMEZONE:Europe/Ljubljana
END:VEVENT
BEGIN:VEVENT
SUMMARY:Govorilna ura ()\, Ostalo (O)
DTSTART;TZID=Europe/Ljubljana:20201026T100000
DTEND;TZID=Europe/Ljubljana:20201026T110000
DTSTAMP:20260423T020626Z
UID:fmf-AFLABS-URNIK:premaknjeno-srecanje:38666
CATEGORIES:Entry,Standard
COLOR:darkgreen
DESCRIPTION:Predmet: Govorilna ura ()\, Ostalo (O)\nLetniki: \nIzvajalci: 
 Sašo Strle\nProstor: 4.01
LOCATION:4.01
ORGANIZER:Sašo Strle
RELATED-TO:fmf-AFLABS-URNIK:srecanje:4843
X-WR-TIMEZONE:Europe/Ljubljana
END:VEVENT
BEGIN:VEVENT
SUMMARY:Analiza 1 (FM-1)\, Predavanja (P)
DTSTART;TZID=Europe/Ljubljana:20201006T090000
DTEND;TZID=Europe/Ljubljana:20201006T110000
DTSTAMP:20260423T020626Z
UID:fmf-AFLABS-URNIK:premaknjeno-srecanje:4485
ATTENDEE:1. letnik (FM)
CATEGORIES:Entry,Standard
COLOR:darkgreen
DESCRIPTION:Predmet: Analiza 1 (FM-1)\, Predavanja (P)\nLetniki: 1. letnik
  (FM)\nIzvajalci: Sašo Strle\nProstor: 2.05
LOCATION:2.05
ORGANIZER:Sašo Strle
RELATED-TO:fmf-AFLABS-URNIK:srecanje:4666
X-WR-TIMEZONE:Europe/Ljubljana
END:VEVENT
BEGIN:VEVENT
SUMMARY:Analiza 1 (FM-1)\, Predavanja (P)
DTSTART;TZID=Europe/Ljubljana:20201013T090000
DTEND;TZID=Europe/Ljubljana:20201013T110000
DTSTAMP:20260423T020626Z
UID:fmf-AFLABS-URNIK:premaknjeno-srecanje:4486
ATTENDEE:1. letnik (FM)
CATEGORIES:Entry,Standard
COLOR:darkgreen
DESCRIPTION:Predmet: Analiza 1 (FM-1)\, Predavanja (P)\nLetniki: 1. letnik
  (FM)\nIzvajalci: Sašo Strle\nProstor: 2.05
LOCATION:2.05
ORGANIZER:Sašo Strle
RELATED-TO:fmf-AFLABS-URNIK:srecanje:4666
X-WR-TIMEZONE:Europe/Ljubljana
END:VEVENT
BEGIN:VEVENT
SUMMARY:Analiza 1 (FM-1)\, Predavanja (P)
DTSTART;TZID=Europe/Ljubljana:20201020T090000
DTEND;TZID=Europe/Ljubljana:20201020T110000
DTSTAMP:20260423T020626Z
UID:fmf-AFLABS-URNIK:premaknjeno-srecanje:4487
ATTENDEE:1. letnik (FM)
CATEGORIES:Entry,Standard
COLOR:darkgreen
DESCRIPTION:Predmet: Analiza 1 (FM-1)\, Predavanja (P)\nLetniki: 1. letnik
  (FM)\nIzvajalci: Sašo Strle\nProstor: 2.05
LOCATION:2.05
ORGANIZER:Sašo Strle
RELATED-TO:fmf-AFLABS-URNIK:srecanje:4666
X-WR-TIMEZONE:Europe/Ljubljana
END:VEVENT
BEGIN:VEVENT
SUMMARY:Elementarna geometrija (MAT-3)\, Predavanja (P)
DTSTART;TZID=Europe/Ljubljana:20201006T130000
DTEND;TZID=Europe/Ljubljana:20201006T160000
DTSTAMP:20260423T020626Z
UID:fmf-AFLABS-URNIK:premaknjeno-srecanje:19372
ATTENDEE:3. letnik (M)
CATEGORIES:Entry,Standard
COLOR:darkgreen
DESCRIPTION:Predmet: Elementarna geometrija (MAT-3)\, Predavanja (P)\nLetn
 iki: 3. letnik (M)\nIzvajalci: Sašo Strle\nProstor: 3.05
LOCATION:3.05
ORGANIZER:Sašo Strle
RELATED-TO:fmf-AFLABS-URNIK:srecanje:4730
X-WR-TIMEZONE:Europe/Ljubljana
END:VEVENT
BEGIN:VEVENT
SUMMARY:Elementarna geometrija (MAT-3)\, Predavanja (P)
DTSTART;TZID=Europe/Ljubljana:20201013T130000
DTEND;TZID=Europe/Ljubljana:20201013T160000
DTSTAMP:20260423T020626Z
UID:fmf-AFLABS-URNIK:premaknjeno-srecanje:19373
ATTENDEE:3. letnik (M)
CATEGORIES:Entry,Standard
COLOR:darkgreen
DESCRIPTION:Predmet: Elementarna geometrija (MAT-3)\, Predavanja (P)\nLetn
 iki: 3. letnik (M)\nIzvajalci: Sašo Strle\nProstor: 3.05
LOCATION:3.05
ORGANIZER:Sašo Strle
RELATED-TO:fmf-AFLABS-URNIK:srecanje:4730
X-WR-TIMEZONE:Europe/Ljubljana
END:VEVENT
BEGIN:VEVENT
SUMMARY:Elementarna geometrija (MAT-3)\, Predavanja (P)
DTSTART;TZID=Europe/Ljubljana:20201020T130000
DTEND;TZID=Europe/Ljubljana:20201020T160000
DTSTAMP:20260423T020626Z
UID:fmf-AFLABS-URNIK:premaknjeno-srecanje:19374
ATTENDEE:3. letnik (M)
CATEGORIES:Entry,Standard
COLOR:darkgreen
DESCRIPTION:Predmet: Elementarna geometrija (MAT-3)\, Predavanja (P)\nLetn
 iki: 3. letnik (M)\nIzvajalci: Sašo Strle\nProstor: 3.05
LOCATION:3.05
ORGANIZER:Sašo Strle
RELATED-TO:fmf-AFLABS-URNIK:srecanje:4730
X-WR-TIMEZONE:Europe/Ljubljana
END:VEVENT
BEGIN:VEVENT
SUMMARY:REZ FM ()\, Ostalo (O)
DTSTART;TZID=Europe/Ljubljana:20201006T150000
DTEND;TZID=Europe/Ljubljana:20201006T160000
DTSTAMP:20260423T020626Z
UID:fmf-AFLABS-URNIK:premaknjeno-srecanje:89826
CATEGORIES:Entry,Standard
COLOR:darkgreen
DESCRIPTION:Predmet: REZ FM ()\, Ostalo (O)\nLetniki: \nIzvajalci: Sašo S
 trle\nProstor: 3.04
LOCATION:3.04
ORGANIZER:Sašo Strle
RELATED-TO:fmf-AFLABS-URNIK:srecanje:5429
X-WR-TIMEZONE:Europe/Ljubljana
END:VEVENT
BEGIN:VEVENT
SUMMARY:REZ FM ()\, Ostalo (O)
DTSTART;TZID=Europe/Ljubljana:20201013T150000
DTEND;TZID=Europe/Ljubljana:20201013T160000
DTSTAMP:20260423T020626Z
UID:fmf-AFLABS-URNIK:premaknjeno-srecanje:89827
CATEGORIES:Entry,Standard
COLOR:darkgreen
DESCRIPTION:Predmet: REZ FM ()\, Ostalo (O)\nLetniki: \nIzvajalci: Sašo S
 trle\nProstor: 3.04
LOCATION:3.04
ORGANIZER:Sašo Strle
RELATED-TO:fmf-AFLABS-URNIK:srecanje:5429
X-WR-TIMEZONE:Europe/Ljubljana
END:VEVENT
BEGIN:VEVENT
SUMMARY:REZ FM ()\, Ostalo (O)
DTSTART;TZID=Europe/Ljubljana:20201020T150000
DTEND;TZID=Europe/Ljubljana:20201020T160000
DTSTAMP:20260423T020626Z
UID:fmf-AFLABS-URNIK:premaknjeno-srecanje:89828
CATEGORIES:Entry,Standard
COLOR:darkgreen
DESCRIPTION:Predmet: REZ FM ()\, Ostalo (O)\nLetniki: \nIzvajalci: Sašo S
 trle\nProstor: 3.04
LOCATION:3.04
ORGANIZER:Sašo Strle
RELATED-TO:fmf-AFLABS-URNIK:srecanje:5429
X-WR-TIMEZONE:Europe/Ljubljana
END:VEVENT
BEGIN:VEVENT
SUMMARY:REZ FM ()\, Predavanja (P)
DTSTART;TZID=Europe/Ljubljana:20201006T160000
DTEND;TZID=Europe/Ljubljana:20201006T170000
DTSTAMP:20260423T020626Z
UID:fmf-AFLABS-URNIK:premaknjeno-srecanje:90153
CATEGORIES:Entry,Standard
COLOR:darkgreen
DESCRIPTION:Predmet: REZ FM ()\, Predavanja (P)\nLetniki: \nIzvajalci: Sa
 šo Strle\nProstor: 3.05
LOCATION:3.05
ORGANIZER:Sašo Strle
RELATED-TO:fmf-AFLABS-URNIK:srecanje:5401
X-WR-TIMEZONE:Europe/Ljubljana
END:VEVENT
BEGIN:VEVENT
SUMMARY:REZ FM ()\, Predavanja (P)
DTSTART;TZID=Europe/Ljubljana:20201013T160000
DTEND;TZID=Europe/Ljubljana:20201013T170000
DTSTAMP:20260423T020626Z
UID:fmf-AFLABS-URNIK:premaknjeno-srecanje:90154
CATEGORIES:Entry,Standard
COLOR:darkgreen
DESCRIPTION:Predmet: REZ FM ()\, Predavanja (P)\nLetniki: \nIzvajalci: Sa
 šo Strle\nProstor: 3.05
LOCATION:3.05
ORGANIZER:Sašo Strle
RELATED-TO:fmf-AFLABS-URNIK:srecanje:5401
X-WR-TIMEZONE:Europe/Ljubljana
END:VEVENT
BEGIN:VEVENT
SUMMARY:REZ FM ()\, Predavanja (P)
DTSTART;TZID=Europe/Ljubljana:20201020T160000
DTEND;TZID=Europe/Ljubljana:20201020T170000
DTSTAMP:20260423T020626Z
UID:fmf-AFLABS-URNIK:premaknjeno-srecanje:90155
CATEGORIES:Entry,Standard
COLOR:darkgreen
DESCRIPTION:Predmet: REZ FM ()\, Predavanja (P)\nLetniki: \nIzvajalci: Sa
 šo Strle\nProstor: 3.05
LOCATION:3.05
ORGANIZER:Sašo Strle
RELATED-TO:fmf-AFLABS-URNIK:srecanje:5401
X-WR-TIMEZONE:Europe/Ljubljana
END:VEVENT
BEGIN:VEVENT
SUMMARY:Analiza 1 (FM-1)\, Predavanja (P)
DTSTART;TZID=Europe/Ljubljana:20201007T100000
DTEND;TZID=Europe/Ljubljana:20201007T120000
DTSTAMP:20260423T020626Z
UID:fmf-AFLABS-URNIK:premaknjeno-srecanje:4797
ATTENDEE:1. letnik (FM)
CATEGORIES:Entry,Standard
COLOR:darkgreen
DESCRIPTION:Predmet: Analiza 1 (FM-1)\, Predavanja (P)\nLetniki: 1. letnik
  (FM)\nIzvajalci: Sašo Strle\nProstor: 2.01
LOCATION:2.01
ORGANIZER:Sašo Strle
RELATED-TO:fmf-AFLABS-URNIK:srecanje:4669
X-WR-TIMEZONE:Europe/Ljubljana
END:VEVENT
BEGIN:VEVENT
SUMMARY:Analiza 1 (FM-1)\, Predavanja (P)
DTSTART;TZID=Europe/Ljubljana:20201014T100000
DTEND;TZID=Europe/Ljubljana:20201014T120000
DTSTAMP:20260423T020626Z
UID:fmf-AFLABS-URNIK:premaknjeno-srecanje:4798
ATTENDEE:1. letnik (FM)
CATEGORIES:Entry,Standard
COLOR:darkgreen
DESCRIPTION:Predmet: Analiza 1 (FM-1)\, Predavanja (P)\nLetniki: 1. letnik
  (FM)\nIzvajalci: Sašo Strle\nProstor: 2.01
LOCATION:2.01
ORGANIZER:Sašo Strle
RELATED-TO:fmf-AFLABS-URNIK:srecanje:4669
X-WR-TIMEZONE:Europe/Ljubljana
END:VEVENT
BEGIN:VEVENT
SUMMARY:Analiza 1 (FM-1)\, Predavanja (P)
DTSTART;TZID=Europe/Ljubljana:20201021T100000
DTEND;TZID=Europe/Ljubljana:20201021T120000
DTSTAMP:20260423T020626Z
UID:fmf-AFLABS-URNIK:premaknjeno-srecanje:4799
ATTENDEE:1. letnik (FM)
CATEGORIES:Entry,Standard
COLOR:darkgreen
DESCRIPTION:Predmet: Analiza 1 (FM-1)\, Predavanja (P)\nLetniki: 1. letnik
  (FM)\nIzvajalci: Sašo Strle\nProstor: 2.01
LOCATION:2.01
ORGANIZER:Sašo Strle
RELATED-TO:fmf-AFLABS-URNIK:srecanje:4669
X-WR-TIMEZONE:Europe/Ljubljana
END:VEVENT
BEGIN:VEVENT
SUMMARY:Rezervacija
DTSTART;TZID=Europe/Ljubljana:20200821T160000
DTEND;TZID=Europe/Ljubljana:20200821T180000
DTSTAMP:20260423T020626Z
UID:fmf-AFLABS-URNIK:rezervacija:6005
CATEGORIES:Reservation
COLOR:royalblue
DESCRIPTION:Predmeti: \nLetniki: \nIzvajalci: Sašo Strle\nProstori: 2.01\
 , 2.03
LOCATION:2.01\, 2.03
ORGANIZER:Sašo Strle
X-WR-TIMEZONE:Europe/Ljubljana
END:VEVENT
END:VCALENDAR
