BEGIN:VCALENDAR
VERSION:2.0
PRODID:-//AFLabs urnik izvoz - fmf//aflabs.si//SI
DTSTAMP:20260422T013427Z
NAME:UL FMF urnik
REFRESH-INTERVAL:PT1H
SOURCE:https://urnik.fmf.uni-lj.si/teacher/11?day=2021-01-18&export=1
URL:https://urnik.fmf.uni-lj.si/teacher/11?day=2021-01-18&export=1
X-PUBLISHED-TTL:PT1H
X-WR-CALNAME:UL FMF urnik
X-WR-TIMEZONE:Europe/Ljubljana
BEGIN:VTIMEZONE
TZID:Europe/Ljubljana
BEGIN:DAYLIGHT
DTSTART:20260329T020000
RDATE:20260329T020000
RDATE:20270328T020000
TZNAME:CEST
TZOFFSETFROM:+0100
TZOFFSETTO:+0200
END:DAYLIGHT
BEGIN:STANDARD
DTSTART:20261025T030000
RDATE:20261025T030000
RDATE:20271031T030000
TZNAME:CET
TZOFFSETFROM:+0200
TZOFFSETTO:+0100
END:STANDARD
END:VTIMEZONE
BEGIN:VEVENT
SUMMARY:Diplomski seminar (MAT-3)\, Predavanja (P)
DTSTART;TZID=Europe/Ljubljana:20201214T140000
DTEND;TZID=Europe/Ljubljana:20201214T160000
DTSTAMP:20260422T013427Z
UID:fmf-AFLABS-URNIK:premaknjeno-srecanje:15274
ATTENDEE:3. letnik (M)
CATEGORIES:Entry,Standard
COLOR:darkgreen
DESCRIPTION:Predmet: Diplomski seminar (MAT-3)\, Predavanja (P)\nLetniki: 
 3. letnik (M)\nIzvajalci: Sašo Strle\nProstor: 2.03
LOCATION:2.03
ORGANIZER:Sašo Strle
RELATED-TO:fmf-AFLABS-URNIK:srecanje:5309
X-WR-TIMEZONE:Europe/Ljubljana
END:VEVENT
BEGIN:VEVENT
SUMMARY:Diplomski seminar (MAT-3)\, Predavanja (P)
DTSTART;TZID=Europe/Ljubljana:20201221T140000
DTEND;TZID=Europe/Ljubljana:20201221T160000
DTSTAMP:20260422T013427Z
UID:fmf-AFLABS-URNIK:premaknjeno-srecanje:15275
ATTENDEE:3. letnik (M)
CATEGORIES:Entry,Standard
COLOR:darkgreen
DESCRIPTION:Predmet: Diplomski seminar (MAT-3)\, Predavanja (P)\nLetniki: 
 3. letnik (M)\nIzvajalci: Sašo Strle\nProstor: 2.03
LOCATION:2.03
ORGANIZER:Sašo Strle
RELATED-TO:fmf-AFLABS-URNIK:srecanje:5309
X-WR-TIMEZONE:Europe/Ljubljana
END:VEVENT
BEGIN:VEVENT
SUMMARY:Diplomski seminar (MAT-3)\, Predavanja (P)
DTSTART;TZID=Europe/Ljubljana:20201228T140000
DTEND;TZID=Europe/Ljubljana:20201228T160000
DTSTAMP:20260422T013427Z
UID:fmf-AFLABS-URNIK:premaknjeno-srecanje:15276
ATTENDEE:3. letnik (M)
CATEGORIES:Entry,Standard
COLOR:darkgreen
DESCRIPTION:Predmet: Diplomski seminar (MAT-3)\, Predavanja (P)\nLetniki: 
 3. letnik (M)\nIzvajalci: Sašo Strle\nProstor: 2.03
LOCATION:2.03
ORGANIZER:Sašo Strle
RELATED-TO:fmf-AFLABS-URNIK:srecanje:5309
X-WR-TIMEZONE:Europe/Ljubljana
END:VEVENT
BEGIN:VEVENT
SUMMARY:Diplomski seminar (MAT-3)\, Predavanja (P)
DTSTART;TZID=Europe/Ljubljana:20210104T140000
DTEND;TZID=Europe/Ljubljana:20210104T160000
DTSTAMP:20260422T013427Z
UID:fmf-AFLABS-URNIK:premaknjeno-srecanje:15277
ATTENDEE:3. letnik (M)
CATEGORIES:Entry,Standard
COLOR:darkgreen
DESCRIPTION:Predmet: Diplomski seminar (MAT-3)\, Predavanja (P)\nLetniki: 
 3. letnik (M)\nIzvajalci: Sašo Strle\nProstor: 2.03
LOCATION:2.03
ORGANIZER:Sašo Strle
RELATED-TO:fmf-AFLABS-URNIK:srecanje:5309
X-WR-TIMEZONE:Europe/Ljubljana
END:VEVENT
BEGIN:VEVENT
SUMMARY:Diplomski seminar (MAT-3)\, Predavanja (P)
DTSTART;TZID=Europe/Ljubljana:20210111T140000
DTEND;TZID=Europe/Ljubljana:20210111T160000
DTSTAMP:20260422T013427Z
UID:fmf-AFLABS-URNIK:premaknjeno-srecanje:15278
ATTENDEE:3. letnik (M)
CATEGORIES:Entry,Standard
COLOR:darkgreen
DESCRIPTION:Predmet: Diplomski seminar (MAT-3)\, Predavanja (P)\nLetniki: 
 3. letnik (M)\nIzvajalci: Sašo Strle\nProstor: 2.03
LOCATION:2.03
ORGANIZER:Sašo Strle
RELATED-TO:fmf-AFLABS-URNIK:srecanje:5309
X-WR-TIMEZONE:Europe/Ljubljana
END:VEVENT
BEGIN:VEVENT
SUMMARY:Govorilna ura ()\, Ostalo (O)
DTSTART;TZID=Europe/Ljubljana:20201214T100000
DTEND;TZID=Europe/Ljubljana:20201214T110000
DTSTAMP:20260422T013427Z
UID:fmf-AFLABS-URNIK:premaknjeno-srecanje:38673
CATEGORIES:Entry,Standard
COLOR:darkgreen
DESCRIPTION:Predmet: Govorilna ura ()\, Ostalo (O)\nLetniki: \nIzvajalci: 
 Sašo Strle\nProstor: 4.01
LOCATION:4.01
ORGANIZER:Sašo Strle
RELATED-TO:fmf-AFLABS-URNIK:srecanje:4843
X-WR-TIMEZONE:Europe/Ljubljana
END:VEVENT
BEGIN:VEVENT
SUMMARY:Govorilna ura ()\, Ostalo (O)
DTSTART;TZID=Europe/Ljubljana:20201221T100000
DTEND;TZID=Europe/Ljubljana:20201221T110000
DTSTAMP:20260422T013427Z
UID:fmf-AFLABS-URNIK:premaknjeno-srecanje:38674
CATEGORIES:Entry,Standard
COLOR:darkgreen
DESCRIPTION:Predmet: Govorilna ura ()\, Ostalo (O)\nLetniki: \nIzvajalci: 
 Sašo Strle\nProstor: 4.01
LOCATION:4.01
ORGANIZER:Sašo Strle
RELATED-TO:fmf-AFLABS-URNIK:srecanje:4843
X-WR-TIMEZONE:Europe/Ljubljana
END:VEVENT
BEGIN:VEVENT
SUMMARY:Govorilna ura ()\, Ostalo (O)
DTSTART;TZID=Europe/Ljubljana:20201228T100000
DTEND;TZID=Europe/Ljubljana:20201228T110000
DTSTAMP:20260422T013427Z
UID:fmf-AFLABS-URNIK:premaknjeno-srecanje:38675
CATEGORIES:Entry,Standard
COLOR:darkgreen
DESCRIPTION:Predmet: Govorilna ura ()\, Ostalo (O)\nLetniki: \nIzvajalci: 
 Sašo Strle\nProstor: 4.01
LOCATION:4.01
ORGANIZER:Sašo Strle
RELATED-TO:fmf-AFLABS-URNIK:srecanje:4843
X-WR-TIMEZONE:Europe/Ljubljana
END:VEVENT
BEGIN:VEVENT
SUMMARY:Govorilna ura ()\, Ostalo (O)
DTSTART;TZID=Europe/Ljubljana:20210104T100000
DTEND;TZID=Europe/Ljubljana:20210104T110000
DTSTAMP:20260422T013427Z
UID:fmf-AFLABS-URNIK:premaknjeno-srecanje:38676
CATEGORIES:Entry,Standard
COLOR:darkgreen
DESCRIPTION:Predmet: Govorilna ura ()\, Ostalo (O)\nLetniki: \nIzvajalci: 
 Sašo Strle\nProstor: 4.01
LOCATION:4.01
ORGANIZER:Sašo Strle
RELATED-TO:fmf-AFLABS-URNIK:srecanje:4843
X-WR-TIMEZONE:Europe/Ljubljana
END:VEVENT
BEGIN:VEVENT
SUMMARY:Govorilna ura ()\, Ostalo (O)
DTSTART;TZID=Europe/Ljubljana:20210111T100000
DTEND;TZID=Europe/Ljubljana:20210111T110000
DTSTAMP:20260422T013427Z
UID:fmf-AFLABS-URNIK:premaknjeno-srecanje:38677
CATEGORIES:Entry,Standard
COLOR:darkgreen
DESCRIPTION:Predmet: Govorilna ura ()\, Ostalo (O)\nLetniki: \nIzvajalci: 
 Sašo Strle\nProstor: 4.01
LOCATION:4.01
ORGANIZER:Sašo Strle
RELATED-TO:fmf-AFLABS-URNIK:srecanje:4843
X-WR-TIMEZONE:Europe/Ljubljana
END:VEVENT
BEGIN:VEVENT
SUMMARY:Analiza 1 (FM-1)\, Predavanja (P)
DTSTART;TZID=Europe/Ljubljana:20201215T090000
DTEND;TZID=Europe/Ljubljana:20201215T110000
DTSTAMP:20260422T013427Z
UID:fmf-AFLABS-URNIK:premaknjeno-srecanje:4495
ATTENDEE:1. letnik (FM)
CATEGORIES:Entry,Standard
COLOR:darkgreen
DESCRIPTION:Predmet: Analiza 1 (FM-1)\, Predavanja (P)\nLetniki: 1. letnik
  (FM)\nIzvajalci: Sašo Strle\nProstor: 2.05
LOCATION:2.05
ORGANIZER:Sašo Strle
RELATED-TO:fmf-AFLABS-URNIK:srecanje:4666
X-WR-TIMEZONE:Europe/Ljubljana
END:VEVENT
BEGIN:VEVENT
SUMMARY:Analiza 1 (FM-1)\, Predavanja (P)
DTSTART;TZID=Europe/Ljubljana:20201222T090000
DTEND;TZID=Europe/Ljubljana:20201222T110000
DTSTAMP:20260422T013427Z
UID:fmf-AFLABS-URNIK:premaknjeno-srecanje:4496
ATTENDEE:1. letnik (FM)
CATEGORIES:Entry,Standard
COLOR:darkgreen
DESCRIPTION:Predmet: Analiza 1 (FM-1)\, Predavanja (P)\nLetniki: 1. letnik
  (FM)\nIzvajalci: Sašo Strle\nProstor: 2.05
LOCATION:2.05
ORGANIZER:Sašo Strle
RELATED-TO:fmf-AFLABS-URNIK:srecanje:4666
X-WR-TIMEZONE:Europe/Ljubljana
END:VEVENT
BEGIN:VEVENT
SUMMARY:Analiza 1 (FM-1)\, Predavanja (P)
DTSTART;TZID=Europe/Ljubljana:20201229T090000
DTEND;TZID=Europe/Ljubljana:20201229T110000
DTSTAMP:20260422T013427Z
UID:fmf-AFLABS-URNIK:premaknjeno-srecanje:4497
ATTENDEE:1. letnik (FM)
CATEGORIES:Entry,Standard
COLOR:darkgreen
DESCRIPTION:Predmet: Analiza 1 (FM-1)\, Predavanja (P)\nLetniki: 1. letnik
  (FM)\nIzvajalci: Sašo Strle\nProstor: 2.05
LOCATION:2.05
ORGANIZER:Sašo Strle
RELATED-TO:fmf-AFLABS-URNIK:srecanje:4666
X-WR-TIMEZONE:Europe/Ljubljana
END:VEVENT
BEGIN:VEVENT
SUMMARY:Analiza 1 (FM-1)\, Predavanja (P)
DTSTART;TZID=Europe/Ljubljana:20210105T090000
DTEND;TZID=Europe/Ljubljana:20210105T110000
DTSTAMP:20260422T013427Z
UID:fmf-AFLABS-URNIK:premaknjeno-srecanje:4498
ATTENDEE:1. letnik (FM)
CATEGORIES:Entry,Standard
COLOR:darkgreen
DESCRIPTION:Predmet: Analiza 1 (FM-1)\, Predavanja (P)\nLetniki: 1. letnik
  (FM)\nIzvajalci: Sašo Strle\nProstor: 2.05
LOCATION:2.05
ORGANIZER:Sašo Strle
RELATED-TO:fmf-AFLABS-URNIK:srecanje:4666
X-WR-TIMEZONE:Europe/Ljubljana
END:VEVENT
BEGIN:VEVENT
SUMMARY:Analiza 1 (FM-1)\, Predavanja (P)
DTSTART;TZID=Europe/Ljubljana:20210112T090000
DTEND;TZID=Europe/Ljubljana:20210112T110000
DTSTAMP:20260422T013427Z
UID:fmf-AFLABS-URNIK:premaknjeno-srecanje:4499
ATTENDEE:1. letnik (FM)
CATEGORIES:Entry,Standard
COLOR:darkgreen
DESCRIPTION:Predmet: Analiza 1 (FM-1)\, Predavanja (P)\nLetniki: 1. letnik
  (FM)\nIzvajalci: Sašo Strle\nProstor: 2.05
LOCATION:2.05
ORGANIZER:Sašo Strle
RELATED-TO:fmf-AFLABS-URNIK:srecanje:4666
X-WR-TIMEZONE:Europe/Ljubljana
END:VEVENT
BEGIN:VEVENT
SUMMARY:Elementarna geometrija (MAT-3)\, Predavanja (P)
DTSTART;TZID=Europe/Ljubljana:20201215T130000
DTEND;TZID=Europe/Ljubljana:20201215T160000
DTSTAMP:20260422T013427Z
UID:fmf-AFLABS-URNIK:premaknjeno-srecanje:19382
ATTENDEE:3. letnik (M)
CATEGORIES:Entry,Standard
COLOR:darkgreen
DESCRIPTION:Predmet: Elementarna geometrija (MAT-3)\, Predavanja (P)\nLetn
 iki: 3. letnik (M)\nIzvajalci: Sašo Strle\nProstor: 3.05
LOCATION:3.05
ORGANIZER:Sašo Strle
RELATED-TO:fmf-AFLABS-URNIK:srecanje:4730
X-WR-TIMEZONE:Europe/Ljubljana
END:VEVENT
BEGIN:VEVENT
SUMMARY:Elementarna geometrija (MAT-3)\, Predavanja (P)
DTSTART;TZID=Europe/Ljubljana:20201222T130000
DTEND;TZID=Europe/Ljubljana:20201222T160000
DTSTAMP:20260422T013427Z
UID:fmf-AFLABS-URNIK:premaknjeno-srecanje:19383
ATTENDEE:3. letnik (M)
CATEGORIES:Entry,Standard
COLOR:darkgreen
DESCRIPTION:Predmet: Elementarna geometrija (MAT-3)\, Predavanja (P)\nLetn
 iki: 3. letnik (M)\nIzvajalci: Sašo Strle\nProstor: 3.05
LOCATION:3.05
ORGANIZER:Sašo Strle
RELATED-TO:fmf-AFLABS-URNIK:srecanje:4730
X-WR-TIMEZONE:Europe/Ljubljana
END:VEVENT
BEGIN:VEVENT
SUMMARY:Elementarna geometrija (MAT-3)\, Predavanja (P)
DTSTART;TZID=Europe/Ljubljana:20201229T130000
DTEND;TZID=Europe/Ljubljana:20201229T160000
DTSTAMP:20260422T013427Z
UID:fmf-AFLABS-URNIK:premaknjeno-srecanje:19384
ATTENDEE:3. letnik (M)
CATEGORIES:Entry,Standard
COLOR:darkgreen
DESCRIPTION:Predmet: Elementarna geometrija (MAT-3)\, Predavanja (P)\nLetn
 iki: 3. letnik (M)\nIzvajalci: Sašo Strle\nProstor: 3.05
LOCATION:3.05
ORGANIZER:Sašo Strle
RELATED-TO:fmf-AFLABS-URNIK:srecanje:4730
X-WR-TIMEZONE:Europe/Ljubljana
END:VEVENT
BEGIN:VEVENT
SUMMARY:Elementarna geometrija (MAT-3)\, Predavanja (P)
DTSTART;TZID=Europe/Ljubljana:20210105T130000
DTEND;TZID=Europe/Ljubljana:20210105T160000
DTSTAMP:20260422T013427Z
UID:fmf-AFLABS-URNIK:premaknjeno-srecanje:19385
ATTENDEE:3. letnik (M)
CATEGORIES:Entry,Standard
COLOR:darkgreen
DESCRIPTION:Predmet: Elementarna geometrija (MAT-3)\, Predavanja (P)\nLetn
 iki: 3. letnik (M)\nIzvajalci: Sašo Strle\nProstor: 3.05
LOCATION:3.05
ORGANIZER:Sašo Strle
RELATED-TO:fmf-AFLABS-URNIK:srecanje:4730
X-WR-TIMEZONE:Europe/Ljubljana
END:VEVENT
BEGIN:VEVENT
SUMMARY:Elementarna geometrija (MAT-3)\, Predavanja (P)
DTSTART;TZID=Europe/Ljubljana:20210112T130000
DTEND;TZID=Europe/Ljubljana:20210112T160000
DTSTAMP:20260422T013427Z
UID:fmf-AFLABS-URNIK:premaknjeno-srecanje:19386
ATTENDEE:3. letnik (M)
CATEGORIES:Entry,Standard
COLOR:darkgreen
DESCRIPTION:Predmet: Elementarna geometrija (MAT-3)\, Predavanja (P)\nLetn
 iki: 3. letnik (M)\nIzvajalci: Sašo Strle\nProstor: 3.05
LOCATION:3.05
ORGANIZER:Sašo Strle
RELATED-TO:fmf-AFLABS-URNIK:srecanje:4730
X-WR-TIMEZONE:Europe/Ljubljana
END:VEVENT
BEGIN:VEVENT
SUMMARY:REZ FM ()\, Ostalo (O)
DTSTART;TZID=Europe/Ljubljana:20201215T150000
DTEND;TZID=Europe/Ljubljana:20201215T160000
DTSTAMP:20260422T013427Z
UID:fmf-AFLABS-URNIK:premaknjeno-srecanje:89836
CATEGORIES:Entry,Standard
COLOR:darkgreen
DESCRIPTION:Predmet: REZ FM ()\, Ostalo (O)\nLetniki: \nIzvajalci: Sašo S
 trle\nProstor: 3.04
LOCATION:3.04
ORGANIZER:Sašo Strle
RELATED-TO:fmf-AFLABS-URNIK:srecanje:5429
X-WR-TIMEZONE:Europe/Ljubljana
END:VEVENT
BEGIN:VEVENT
SUMMARY:REZ FM ()\, Ostalo (O)
DTSTART;TZID=Europe/Ljubljana:20201222T150000
DTEND;TZID=Europe/Ljubljana:20201222T160000
DTSTAMP:20260422T013427Z
UID:fmf-AFLABS-URNIK:premaknjeno-srecanje:89837
CATEGORIES:Entry,Standard
COLOR:darkgreen
DESCRIPTION:Predmet: REZ FM ()\, Ostalo (O)\nLetniki: \nIzvajalci: Sašo S
 trle\nProstor: 3.04
LOCATION:3.04
ORGANIZER:Sašo Strle
RELATED-TO:fmf-AFLABS-URNIK:srecanje:5429
X-WR-TIMEZONE:Europe/Ljubljana
END:VEVENT
BEGIN:VEVENT
SUMMARY:REZ FM ()\, Ostalo (O)
DTSTART;TZID=Europe/Ljubljana:20201229T150000
DTEND;TZID=Europe/Ljubljana:20201229T160000
DTSTAMP:20260422T013427Z
UID:fmf-AFLABS-URNIK:premaknjeno-srecanje:89838
CATEGORIES:Entry,Standard
COLOR:darkgreen
DESCRIPTION:Predmet: REZ FM ()\, Ostalo (O)\nLetniki: \nIzvajalci: Sašo S
 trle\nProstor: 3.04
LOCATION:3.04
ORGANIZER:Sašo Strle
RELATED-TO:fmf-AFLABS-URNIK:srecanje:5429
X-WR-TIMEZONE:Europe/Ljubljana
END:VEVENT
BEGIN:VEVENT
SUMMARY:REZ FM ()\, Ostalo (O)
DTSTART;TZID=Europe/Ljubljana:20210105T150000
DTEND;TZID=Europe/Ljubljana:20210105T160000
DTSTAMP:20260422T013427Z
UID:fmf-AFLABS-URNIK:premaknjeno-srecanje:89839
CATEGORIES:Entry,Standard
COLOR:darkgreen
DESCRIPTION:Predmet: REZ FM ()\, Ostalo (O)\nLetniki: \nIzvajalci: Sašo S
 trle\nProstor: 3.04
LOCATION:3.04
ORGANIZER:Sašo Strle
RELATED-TO:fmf-AFLABS-URNIK:srecanje:5429
X-WR-TIMEZONE:Europe/Ljubljana
END:VEVENT
BEGIN:VEVENT
SUMMARY:REZ FM ()\, Ostalo (O)
DTSTART;TZID=Europe/Ljubljana:20210112T150000
DTEND;TZID=Europe/Ljubljana:20210112T160000
DTSTAMP:20260422T013427Z
UID:fmf-AFLABS-URNIK:premaknjeno-srecanje:89840
CATEGORIES:Entry,Standard
COLOR:darkgreen
DESCRIPTION:Predmet: REZ FM ()\, Ostalo (O)\nLetniki: \nIzvajalci: Sašo S
 trle\nProstor: 3.04
LOCATION:3.04
ORGANIZER:Sašo Strle
RELATED-TO:fmf-AFLABS-URNIK:srecanje:5429
X-WR-TIMEZONE:Europe/Ljubljana
END:VEVENT
BEGIN:VEVENT
SUMMARY:REZ FM ()\, Predavanja (P)
DTSTART;TZID=Europe/Ljubljana:20201215T160000
DTEND;TZID=Europe/Ljubljana:20201215T170000
DTSTAMP:20260422T013427Z
UID:fmf-AFLABS-URNIK:premaknjeno-srecanje:90163
CATEGORIES:Entry,Standard
COLOR:darkgreen
DESCRIPTION:Predmet: REZ FM ()\, Predavanja (P)\nLetniki: \nIzvajalci: Sa
 šo Strle\nProstor: 3.05
LOCATION:3.05
ORGANIZER:Sašo Strle
RELATED-TO:fmf-AFLABS-URNIK:srecanje:5401
X-WR-TIMEZONE:Europe/Ljubljana
END:VEVENT
BEGIN:VEVENT
SUMMARY:REZ FM ()\, Predavanja (P)
DTSTART;TZID=Europe/Ljubljana:20201222T160000
DTEND;TZID=Europe/Ljubljana:20201222T170000
DTSTAMP:20260422T013427Z
UID:fmf-AFLABS-URNIK:premaknjeno-srecanje:90164
CATEGORIES:Entry,Standard
COLOR:darkgreen
DESCRIPTION:Predmet: REZ FM ()\, Predavanja (P)\nLetniki: \nIzvajalci: Sa
 šo Strle\nProstor: 3.05
LOCATION:3.05
ORGANIZER:Sašo Strle
RELATED-TO:fmf-AFLABS-URNIK:srecanje:5401
X-WR-TIMEZONE:Europe/Ljubljana
END:VEVENT
BEGIN:VEVENT
SUMMARY:REZ FM ()\, Predavanja (P)
DTSTART;TZID=Europe/Ljubljana:20201229T160000
DTEND;TZID=Europe/Ljubljana:20201229T170000
DTSTAMP:20260422T013427Z
UID:fmf-AFLABS-URNIK:premaknjeno-srecanje:90165
CATEGORIES:Entry,Standard
COLOR:darkgreen
DESCRIPTION:Predmet: REZ FM ()\, Predavanja (P)\nLetniki: \nIzvajalci: Sa
 šo Strle\nProstor: 3.05
LOCATION:3.05
ORGANIZER:Sašo Strle
RELATED-TO:fmf-AFLABS-URNIK:srecanje:5401
X-WR-TIMEZONE:Europe/Ljubljana
END:VEVENT
BEGIN:VEVENT
SUMMARY:REZ FM ()\, Predavanja (P)
DTSTART;TZID=Europe/Ljubljana:20210105T160000
DTEND;TZID=Europe/Ljubljana:20210105T170000
DTSTAMP:20260422T013427Z
UID:fmf-AFLABS-URNIK:premaknjeno-srecanje:90166
CATEGORIES:Entry,Standard
COLOR:darkgreen
DESCRIPTION:Predmet: REZ FM ()\, Predavanja (P)\nLetniki: \nIzvajalci: Sa
 šo Strle\nProstor: 3.05
LOCATION:3.05
ORGANIZER:Sašo Strle
RELATED-TO:fmf-AFLABS-URNIK:srecanje:5401
X-WR-TIMEZONE:Europe/Ljubljana
END:VEVENT
BEGIN:VEVENT
SUMMARY:REZ FM ()\, Predavanja (P)
DTSTART;TZID=Europe/Ljubljana:20210112T160000
DTEND;TZID=Europe/Ljubljana:20210112T170000
DTSTAMP:20260422T013427Z
UID:fmf-AFLABS-URNIK:premaknjeno-srecanje:90167
CATEGORIES:Entry,Standard
COLOR:darkgreen
DESCRIPTION:Predmet: REZ FM ()\, Predavanja (P)\nLetniki: \nIzvajalci: Sa
 šo Strle\nProstor: 3.05
LOCATION:3.05
ORGANIZER:Sašo Strle
RELATED-TO:fmf-AFLABS-URNIK:srecanje:5401
X-WR-TIMEZONE:Europe/Ljubljana
END:VEVENT
BEGIN:VEVENT
SUMMARY:Analiza 1 (FM-1)\, Predavanja (P)
DTSTART;TZID=Europe/Ljubljana:20201216T100000
DTEND;TZID=Europe/Ljubljana:20201216T120000
DTSTAMP:20260422T013427Z
UID:fmf-AFLABS-URNIK:premaknjeno-srecanje:4807
ATTENDEE:1. letnik (FM)
CATEGORIES:Entry,Standard
COLOR:darkgreen
DESCRIPTION:Predmet: Analiza 1 (FM-1)\, Predavanja (P)\nLetniki: 1. letnik
  (FM)\nIzvajalci: Sašo Strle\nProstor: 2.01
LOCATION:2.01
ORGANIZER:Sašo Strle
RELATED-TO:fmf-AFLABS-URNIK:srecanje:4669
X-WR-TIMEZONE:Europe/Ljubljana
END:VEVENT
BEGIN:VEVENT
SUMMARY:Analiza 1 (FM-1)\, Predavanja (P)
DTSTART;TZID=Europe/Ljubljana:20201223T100000
DTEND;TZID=Europe/Ljubljana:20201223T120000
DTSTAMP:20260422T013427Z
UID:fmf-AFLABS-URNIK:premaknjeno-srecanje:4808
ATTENDEE:1. letnik (FM)
CATEGORIES:Entry,Standard
COLOR:darkgreen
DESCRIPTION:Predmet: Analiza 1 (FM-1)\, Predavanja (P)\nLetniki: 1. letnik
  (FM)\nIzvajalci: Sašo Strle\nProstor: 2.01
LOCATION:2.01
ORGANIZER:Sašo Strle
RELATED-TO:fmf-AFLABS-URNIK:srecanje:4669
X-WR-TIMEZONE:Europe/Ljubljana
END:VEVENT
BEGIN:VEVENT
SUMMARY:Analiza 1 (FM-1)\, Predavanja (P)
DTSTART;TZID=Europe/Ljubljana:20201230T100000
DTEND;TZID=Europe/Ljubljana:20201230T120000
DTSTAMP:20260422T013427Z
UID:fmf-AFLABS-URNIK:premaknjeno-srecanje:4809
ATTENDEE:1. letnik (FM)
CATEGORIES:Entry,Standard
COLOR:darkgreen
DESCRIPTION:Predmet: Analiza 1 (FM-1)\, Predavanja (P)\nLetniki: 1. letnik
  (FM)\nIzvajalci: Sašo Strle\nProstor: 2.01
LOCATION:2.01
ORGANIZER:Sašo Strle
RELATED-TO:fmf-AFLABS-URNIK:srecanje:4669
X-WR-TIMEZONE:Europe/Ljubljana
END:VEVENT
BEGIN:VEVENT
SUMMARY:Analiza 1 (FM-1)\, Predavanja (P)
DTSTART;TZID=Europe/Ljubljana:20210106T100000
DTEND;TZID=Europe/Ljubljana:20210106T120000
DTSTAMP:20260422T013427Z
UID:fmf-AFLABS-URNIK:premaknjeno-srecanje:4810
ATTENDEE:1. letnik (FM)
CATEGORIES:Entry,Standard
COLOR:darkgreen
DESCRIPTION:Predmet: Analiza 1 (FM-1)\, Predavanja (P)\nLetniki: 1. letnik
  (FM)\nIzvajalci: Sašo Strle\nProstor: 2.01
LOCATION:2.01
ORGANIZER:Sašo Strle
RELATED-TO:fmf-AFLABS-URNIK:srecanje:4669
X-WR-TIMEZONE:Europe/Ljubljana
END:VEVENT
BEGIN:VEVENT
SUMMARY:Analiza 1 (FM-1)\, Predavanja (P)
DTSTART;TZID=Europe/Ljubljana:20210113T100000
DTEND;TZID=Europe/Ljubljana:20210113T120000
DTSTAMP:20260422T013427Z
UID:fmf-AFLABS-URNIK:premaknjeno-srecanje:4811
ATTENDEE:1. letnik (FM)
CATEGORIES:Entry,Standard
COLOR:darkgreen
DESCRIPTION:Predmet: Analiza 1 (FM-1)\, Predavanja (P)\nLetniki: 1. letnik
  (FM)\nIzvajalci: Sašo Strle\nProstor: 2.01
LOCATION:2.01
ORGANIZER:Sašo Strle
RELATED-TO:fmf-AFLABS-URNIK:srecanje:4669
X-WR-TIMEZONE:Europe/Ljubljana
END:VEVENT
BEGIN:VEVENT
SUMMARY:Govorilna ura ()\, Ostalo (O)
DTSTART;TZID=Europe/Ljubljana:20210215T100000
DTEND;TZID=Europe/Ljubljana:20210215T110000
DTSTAMP:20260422T013427Z
UID:fmf-AFLABS-URNIK:premaknjeno-srecanje:38708
CATEGORIES:Entry,Standard
COLOR:darkgreen
DESCRIPTION:Predmet: Govorilna ura ()\, Ostalo (O)\nLetniki: \nIzvajalci: 
 Sašo Strle\nProstor: 4.01
LOCATION:4.01
ORGANIZER:Sašo Strle
RELATED-TO:fmf-AFLABS-URNIK:srecanje:5588
X-WR-TIMEZONE:Europe/Ljubljana
END:VEVENT
BEGIN:VEVENT
SUMMARY:Govorilna ura ()\, Ostalo (O)
DTSTART;TZID=Europe/Ljubljana:20210222T100000
DTEND;TZID=Europe/Ljubljana:20210222T110000
DTSTAMP:20260422T013427Z
UID:fmf-AFLABS-URNIK:premaknjeno-srecanje:38709
CATEGORIES:Entry,Standard
COLOR:darkgreen
DESCRIPTION:Predmet: Govorilna ura ()\, Ostalo (O)\nLetniki: \nIzvajalci: 
 Sašo Strle\nProstor: 4.01
LOCATION:4.01
ORGANIZER:Sašo Strle
RELATED-TO:fmf-AFLABS-URNIK:srecanje:5588
X-WR-TIMEZONE:Europe/Ljubljana
END:VEVENT
BEGIN:VEVENT
SUMMARY:Topološki seminar (MAT-D)\, Seminar (S)
DTSTART;TZID=Europe/Ljubljana:20210215T120000
DTEND;TZID=Europe/Ljubljana:20210215T140000
DTSTAMP:20260422T013427Z
UID:fmf-AFLABS-URNIK:premaknjeno-srecanje:110598
ATTENDEE:doktorski študij (M)
CATEGORIES:Entry,Standard
COLOR:darkgreen
DESCRIPTION:Predmet: Topološki seminar (MAT-D)\, Seminar (S)\nLetniki: do
 ktorski študij (M)\nIzvajalci: Petar Pavešić\nProstor: 3.06
LOCATION:3.06
ORGANIZER:Petar Pavešić
RELATED-TO:fmf-AFLABS-URNIK:srecanje:5931
X-WR-TIMEZONE:Europe/Ljubljana
END:VEVENT
BEGIN:VEVENT
SUMMARY:Topološki seminar (MAT-D)\, Seminar (S)
DTSTART;TZID=Europe/Ljubljana:20210222T120000
DTEND;TZID=Europe/Ljubljana:20210222T140000
DTSTAMP:20260422T013427Z
UID:fmf-AFLABS-URNIK:premaknjeno-srecanje:110599
ATTENDEE:doktorski študij (M)
CATEGORIES:Entry,Standard
COLOR:darkgreen
DESCRIPTION:Predmet: Topološki seminar (MAT-D)\, Seminar (S)\nLetniki: do
 ktorski študij (M)\nIzvajalci: Petar Pavešić\nProstor: 3.06
LOCATION:3.06
ORGANIZER:Petar Pavešić
RELATED-TO:fmf-AFLABS-URNIK:srecanje:5931
X-WR-TIMEZONE:Europe/Ljubljana
END:VEVENT
BEGIN:VEVENT
SUMMARY:Diplomski seminar (MAT-3)\, Seminar (S)
DTSTART;TZID=Europe/Ljubljana:20210216T120000
DTEND;TZID=Europe/Ljubljana:20210216T140000
DTSTAMP:20260422T013427Z
UID:fmf-AFLABS-URNIK:premaknjeno-srecanje:15578
ATTENDEE:3. letnik (M)
CATEGORIES:Entry,Standard
COLOR:darkgreen
DESCRIPTION:Predmet: Diplomski seminar (MAT-3)\, Seminar (S)\nLetniki: 3. 
 letnik (M)\nIzvajalci: Sašo Strle\nProstor: 2.04
LOCATION:2.04
ORGANIZER:Sašo Strle
RELATED-TO:fmf-AFLABS-URNIK:srecanje:5493
X-WR-TIMEZONE:Europe/Ljubljana
END:VEVENT
BEGIN:VEVENT
SUMMARY:REZ FM ()\, Ostalo (O)
DTSTART;TZID=Europe/Ljubljana:20210216T100000
DTEND;TZID=Europe/Ljubljana:20210216T120000
DTSTAMP:20260422T013427Z
UID:fmf-AFLABS-URNIK:premaknjeno-srecanje:89795
CATEGORIES:Entry,Standard
COLOR:darkgreen
DESCRIPTION:Predmet: REZ FM ()\, Ostalo (O)\nLetniki: \nIzvajalci: Sašo S
 trle\nProstor: 3.06
LOCATION:3.06
ORGANIZER:Sašo Strle
RELATED-TO:fmf-AFLABS-URNIK:srecanje:6080
X-WR-TIMEZONE:Europe/Ljubljana
END:VEVENT
BEGIN:VEVENT
SUMMARY:Uvod v geometrijsko topologijo (FM-3\, IŠRM-3\, MAT-2\, PM-4)\, P
 redavanja (P)
DTSTART;TZID=Europe/Ljubljana:20210216T100000
DTEND;TZID=Europe/Ljubljana:20210216T120000
DTSTAMP:20260422T013427Z
UID:fmf-AFLABS-URNIK:premaknjeno-srecanje:116413
ATTENDEE:2. letnik (M)
ATTENDEE:3. letnik (FM)
ATTENDEE:3. letnik (IŠRM)
ATTENDEE:4. letnik (PM)
CATEGORIES:Entry,Standard
COLOR:darkgreen
DESCRIPTION:Predmet: Uvod v geometrijsko topologijo (FM-3\, IŠRM-3\, MAT-
 2\, PM-4)\, Predavanja (P)\nLetniki: 3. letnik (FM)\, 3. letnik (IŠRM)\, 
 2. letnik (M)\, 4. letnik (PM)\nIzvajalci: Sašo Strle\nProstor: 2.03
LOCATION:2.03
ORGANIZER:Sašo Strle
RELATED-TO:fmf-AFLABS-URNIK:srecanje:5955
X-WR-TIMEZONE:Europe/Ljubljana
END:VEVENT
BEGIN:VEVENT
SUMMARY:REZ FM ()\, Ostalo (O)
DTSTART;TZID=Europe/Ljubljana:20210217T140000
DTEND;TZID=Europe/Ljubljana:20210217T150000
DTSTAMP:20260422T013427Z
UID:fmf-AFLABS-URNIK:premaknjeno-srecanje:89857
CATEGORIES:Entry,Standard
COLOR:darkgreen
DESCRIPTION:Predmet: REZ FM ()\, Ostalo (O)\nLetniki: \nIzvajalci: Sašo S
 trle\nProstor: 2.04
LOCATION:2.04
ORGANIZER:Sašo Strle
RELATED-TO:fmf-AFLABS-URNIK:srecanje:6054
X-WR-TIMEZONE:Europe/Ljubljana
END:VEVENT
END:VCALENDAR
