BEGIN:VCALENDAR
VERSION:2.0
PRODID:-//AFLabs urnik izvoz - fmf//aflabs.si//SI
DTSTAMP:20260420T134213Z
NAME:UL FMF urnik
REFRESH-INTERVAL:PT1H
SOURCE:https://urnik.fmf.uni-lj.si/teacher/11?day=2021-06-14&export=1
URL:https://urnik.fmf.uni-lj.si/teacher/11?day=2021-06-14&export=1
X-PUBLISHED-TTL:PT1H
X-WR-CALNAME:UL FMF urnik
X-WR-TIMEZONE:Europe/Ljubljana
BEGIN:VTIMEZONE
TZID:Europe/Ljubljana
BEGIN:DAYLIGHT
DTSTART:20260329T020000
RDATE:20260329T020000
RDATE:20270328T020000
TZNAME:CEST
TZOFFSETFROM:+0100
TZOFFSETTO:+0200
END:DAYLIGHT
BEGIN:STANDARD
DTSTART:20261025T030000
RDATE:20261025T030000
RDATE:20271031T030000
TZNAME:CET
TZOFFSETFROM:+0200
TZOFFSETTO:+0100
END:STANDARD
END:VTIMEZONE
BEGIN:VEVENT
SUMMARY:Govorilna ura ()\, Ostalo (O)
DTSTART;TZID=Europe/Ljubljana:20210510T100000
DTEND;TZID=Europe/Ljubljana:20210510T110000
DTSTAMP:20260420T134213Z
UID:fmf-AFLABS-URNIK:premaknjeno-srecanje:38720
CATEGORIES:Entry,Standard
COLOR:darkgreen
DESCRIPTION:Predmet: Govorilna ura ()\, Ostalo (O)\nLetniki: \nIzvajalci: 
 Sašo Strle\nProstor: 4.01
LOCATION:4.01
ORGANIZER:Sašo Strle
RELATED-TO:fmf-AFLABS-URNIK:srecanje:5588
X-WR-TIMEZONE:Europe/Ljubljana
END:VEVENT
BEGIN:VEVENT
SUMMARY:Govorilna ura ()\, Ostalo (O)
DTSTART;TZID=Europe/Ljubljana:20210517T100000
DTEND;TZID=Europe/Ljubljana:20210517T110000
DTSTAMP:20260420T134213Z
UID:fmf-AFLABS-URNIK:premaknjeno-srecanje:38721
CATEGORIES:Entry,Standard
COLOR:darkgreen
DESCRIPTION:Predmet: Govorilna ura ()\, Ostalo (O)\nLetniki: \nIzvajalci: 
 Sašo Strle\nProstor: 4.01
LOCATION:4.01
ORGANIZER:Sašo Strle
RELATED-TO:fmf-AFLABS-URNIK:srecanje:5588
X-WR-TIMEZONE:Europe/Ljubljana
END:VEVENT
BEGIN:VEVENT
SUMMARY:Govorilna ura ()\, Ostalo (O)
DTSTART;TZID=Europe/Ljubljana:20210524T100000
DTEND;TZID=Europe/Ljubljana:20210524T110000
DTSTAMP:20260420T134213Z
UID:fmf-AFLABS-URNIK:premaknjeno-srecanje:38722
CATEGORIES:Entry,Standard
COLOR:darkgreen
DESCRIPTION:Predmet: Govorilna ura ()\, Ostalo (O)\nLetniki: \nIzvajalci: 
 Sašo Strle\nProstor: 4.01
LOCATION:4.01
ORGANIZER:Sašo Strle
RELATED-TO:fmf-AFLABS-URNIK:srecanje:5588
X-WR-TIMEZONE:Europe/Ljubljana
END:VEVENT
BEGIN:VEVENT
SUMMARY:Govorilna ura ()\, Ostalo (O)
DTSTART;TZID=Europe/Ljubljana:20210531T100000
DTEND;TZID=Europe/Ljubljana:20210531T110000
DTSTAMP:20260420T134213Z
UID:fmf-AFLABS-URNIK:premaknjeno-srecanje:38723
CATEGORIES:Entry,Standard
COLOR:darkgreen
DESCRIPTION:Predmet: Govorilna ura ()\, Ostalo (O)\nLetniki: \nIzvajalci: 
 Sašo Strle\nProstor: 4.01
LOCATION:4.01
ORGANIZER:Sašo Strle
RELATED-TO:fmf-AFLABS-URNIK:srecanje:5588
X-WR-TIMEZONE:Europe/Ljubljana
END:VEVENT
BEGIN:VEVENT
SUMMARY:Topološki seminar (MAT-D)\, Seminar (S)
DTSTART;TZID=Europe/Ljubljana:20210510T120000
DTEND;TZID=Europe/Ljubljana:20210510T140000
DTSTAMP:20260420T134213Z
UID:fmf-AFLABS-URNIK:premaknjeno-srecanje:110610
ATTENDEE:doktorski študij (M)
CATEGORIES:Entry,Standard
COLOR:darkgreen
DESCRIPTION:Predmet: Topološki seminar (MAT-D)\, Seminar (S)\nLetniki: do
 ktorski študij (M)\nIzvajalci: Petar Pavešić\nProstor: 3.06
LOCATION:3.06
ORGANIZER:Petar Pavešić
RELATED-TO:fmf-AFLABS-URNIK:srecanje:5931
X-WR-TIMEZONE:Europe/Ljubljana
END:VEVENT
BEGIN:VEVENT
SUMMARY:Topološki seminar (MAT-D)\, Seminar (S)
DTSTART;TZID=Europe/Ljubljana:20210517T120000
DTEND;TZID=Europe/Ljubljana:20210517T140000
DTSTAMP:20260420T134213Z
UID:fmf-AFLABS-URNIK:premaknjeno-srecanje:110611
ATTENDEE:doktorski študij (M)
CATEGORIES:Entry,Standard
COLOR:darkgreen
DESCRIPTION:Predmet: Topološki seminar (MAT-D)\, Seminar (S)\nLetniki: do
 ktorski študij (M)\nIzvajalci: Petar Pavešić\nProstor: 3.06
LOCATION:3.06
ORGANIZER:Petar Pavešić
RELATED-TO:fmf-AFLABS-URNIK:srecanje:5931
X-WR-TIMEZONE:Europe/Ljubljana
END:VEVENT
BEGIN:VEVENT
SUMMARY:Topološki seminar (MAT-D)\, Seminar (S)
DTSTART;TZID=Europe/Ljubljana:20210524T120000
DTEND;TZID=Europe/Ljubljana:20210524T140000
DTSTAMP:20260420T134213Z
UID:fmf-AFLABS-URNIK:premaknjeno-srecanje:110612
ATTENDEE:doktorski študij (M)
CATEGORIES:Entry,Standard
COLOR:darkgreen
DESCRIPTION:Predmet: Topološki seminar (MAT-D)\, Seminar (S)\nLetniki: do
 ktorski študij (M)\nIzvajalci: Petar Pavešić\nProstor: 3.06
LOCATION:3.06
ORGANIZER:Petar Pavešić
RELATED-TO:fmf-AFLABS-URNIK:srecanje:5931
X-WR-TIMEZONE:Europe/Ljubljana
END:VEVENT
BEGIN:VEVENT
SUMMARY:Topološki seminar (MAT-D)\, Seminar (S)
DTSTART;TZID=Europe/Ljubljana:20210531T120000
DTEND;TZID=Europe/Ljubljana:20210531T140000
DTSTAMP:20260420T134213Z
UID:fmf-AFLABS-URNIK:premaknjeno-srecanje:110613
ATTENDEE:doktorski študij (M)
CATEGORIES:Entry,Standard
COLOR:darkgreen
DESCRIPTION:Predmet: Topološki seminar (MAT-D)\, Seminar (S)\nLetniki: do
 ktorski študij (M)\nIzvajalci: Petar Pavešić\nProstor: 3.06
LOCATION:3.06
ORGANIZER:Petar Pavešić
RELATED-TO:fmf-AFLABS-URNIK:srecanje:5931
X-WR-TIMEZONE:Europe/Ljubljana
END:VEVENT
BEGIN:VEVENT
SUMMARY:Diplomski seminar (MAT-3)\, Seminar (S)
DTSTART;TZID=Europe/Ljubljana:20210511T120000
DTEND;TZID=Europe/Ljubljana:20210511T140000
DTSTAMP:20260420T134213Z
UID:fmf-AFLABS-URNIK:premaknjeno-srecanje:15590
ATTENDEE:3. letnik (M)
CATEGORIES:Entry,Standard
COLOR:darkgreen
DESCRIPTION:Predmet: Diplomski seminar (MAT-3)\, Seminar (S)\nLetniki: 3. 
 letnik (M)\nIzvajalci: Sašo Strle\nProstor: 2.04
LOCATION:2.04
ORGANIZER:Sašo Strle
RELATED-TO:fmf-AFLABS-URNIK:srecanje:5493
X-WR-TIMEZONE:Europe/Ljubljana
END:VEVENT
BEGIN:VEVENT
SUMMARY:Diplomski seminar (MAT-3)\, Seminar (S)
DTSTART;TZID=Europe/Ljubljana:20210518T120000
DTEND;TZID=Europe/Ljubljana:20210518T140000
DTSTAMP:20260420T134213Z
UID:fmf-AFLABS-URNIK:premaknjeno-srecanje:15591
ATTENDEE:3. letnik (M)
CATEGORIES:Entry,Standard
COLOR:darkgreen
DESCRIPTION:Predmet: Diplomski seminar (MAT-3)\, Seminar (S)\nLetniki: 3. 
 letnik (M)\nIzvajalci: Sašo Strle\nProstor: 2.04
LOCATION:2.04
ORGANIZER:Sašo Strle
RELATED-TO:fmf-AFLABS-URNIK:srecanje:5493
X-WR-TIMEZONE:Europe/Ljubljana
END:VEVENT
BEGIN:VEVENT
SUMMARY:Diplomski seminar (MAT-3)\, Seminar (S)
DTSTART;TZID=Europe/Ljubljana:20210525T120000
DTEND;TZID=Europe/Ljubljana:20210525T140000
DTSTAMP:20260420T134213Z
UID:fmf-AFLABS-URNIK:premaknjeno-srecanje:15592
ATTENDEE:3. letnik (M)
CATEGORIES:Entry,Standard
COLOR:darkgreen
DESCRIPTION:Predmet: Diplomski seminar (MAT-3)\, Seminar (S)\nLetniki: 3. 
 letnik (M)\nIzvajalci: Sašo Strle\nProstor: 2.04
LOCATION:2.04
ORGANIZER:Sašo Strle
RELATED-TO:fmf-AFLABS-URNIK:srecanje:5493
X-WR-TIMEZONE:Europe/Ljubljana
END:VEVENT
BEGIN:VEVENT
SUMMARY:REZ FM ()\, Ostalo (O)
DTSTART;TZID=Europe/Ljubljana:20210511T100000
DTEND;TZID=Europe/Ljubljana:20210511T120000
DTSTAMP:20260420T134213Z
UID:fmf-AFLABS-URNIK:premaknjeno-srecanje:89807
CATEGORIES:Entry,Standard
COLOR:darkgreen
DESCRIPTION:Predmet: REZ FM ()\, Ostalo (O)\nLetniki: \nIzvajalci: Sašo S
 trle\nProstor: 3.06
LOCATION:3.06
ORGANIZER:Sašo Strle
RELATED-TO:fmf-AFLABS-URNIK:srecanje:6080
X-WR-TIMEZONE:Europe/Ljubljana
END:VEVENT
BEGIN:VEVENT
SUMMARY:REZ FM ()\, Ostalo (O)
DTSTART;TZID=Europe/Ljubljana:20210518T100000
DTEND;TZID=Europe/Ljubljana:20210518T120000
DTSTAMP:20260420T134213Z
UID:fmf-AFLABS-URNIK:premaknjeno-srecanje:89808
CATEGORIES:Entry,Standard
COLOR:darkgreen
DESCRIPTION:Predmet: REZ FM ()\, Ostalo (O)\nLetniki: \nIzvajalci: Sašo S
 trle\nProstor: 3.06
LOCATION:3.06
ORGANIZER:Sašo Strle
RELATED-TO:fmf-AFLABS-URNIK:srecanje:6080
X-WR-TIMEZONE:Europe/Ljubljana
END:VEVENT
BEGIN:VEVENT
SUMMARY:REZ FM ()\, Ostalo (O)
DTSTART;TZID=Europe/Ljubljana:20210525T100000
DTEND;TZID=Europe/Ljubljana:20210525T120000
DTSTAMP:20260420T134213Z
UID:fmf-AFLABS-URNIK:premaknjeno-srecanje:89809
CATEGORIES:Entry,Standard
COLOR:darkgreen
DESCRIPTION:Predmet: REZ FM ()\, Ostalo (O)\nLetniki: \nIzvajalci: Sašo S
 trle\nProstor: 3.06
LOCATION:3.06
ORGANIZER:Sašo Strle
RELATED-TO:fmf-AFLABS-URNIK:srecanje:6080
X-WR-TIMEZONE:Europe/Ljubljana
END:VEVENT
BEGIN:VEVENT
SUMMARY:Uvod v geometrijsko topologijo (FM-3\, IŠRM-3\, MAT-2\, PM-4)\, P
 redavanja (P)
DTSTART;TZID=Europe/Ljubljana:20210511T100000
DTEND;TZID=Europe/Ljubljana:20210511T120000
DTSTAMP:20260420T134213Z
UID:fmf-AFLABS-URNIK:premaknjeno-srecanje:116425
ATTENDEE:2. letnik (M)
ATTENDEE:3. letnik (FM)
ATTENDEE:3. letnik (IŠRM)
ATTENDEE:4. letnik (PM)
CATEGORIES:Entry,Standard
COLOR:darkgreen
DESCRIPTION:Predmet: Uvod v geometrijsko topologijo (FM-3\, IŠRM-3\, MAT-
 2\, PM-4)\, Predavanja (P)\nLetniki: 3. letnik (FM)\, 3. letnik (IŠRM)\, 
 2. letnik (M)\, 4. letnik (PM)\nIzvajalci: Sašo Strle\nProstor: 2.03
LOCATION:2.03
ORGANIZER:Sašo Strle
RELATED-TO:fmf-AFLABS-URNIK:srecanje:5955
X-WR-TIMEZONE:Europe/Ljubljana
END:VEVENT
BEGIN:VEVENT
SUMMARY:Uvod v geometrijsko topologijo (FM-3\, IŠRM-3\, MAT-2\, PM-4)\, P
 redavanja (P)
DTSTART;TZID=Europe/Ljubljana:20210518T100000
DTEND;TZID=Europe/Ljubljana:20210518T120000
DTSTAMP:20260420T134213Z
UID:fmf-AFLABS-URNIK:premaknjeno-srecanje:116426
ATTENDEE:2. letnik (M)
ATTENDEE:3. letnik (FM)
ATTENDEE:3. letnik (IŠRM)
ATTENDEE:4. letnik (PM)
CATEGORIES:Entry,Standard
COLOR:darkgreen
DESCRIPTION:Predmet: Uvod v geometrijsko topologijo (FM-3\, IŠRM-3\, MAT-
 2\, PM-4)\, Predavanja (P)\nLetniki: 3. letnik (FM)\, 3. letnik (IŠRM)\, 
 2. letnik (M)\, 4. letnik (PM)\nIzvajalci: Sašo Strle\nProstor: 2.03
LOCATION:2.03
ORGANIZER:Sašo Strle
RELATED-TO:fmf-AFLABS-URNIK:srecanje:5955
X-WR-TIMEZONE:Europe/Ljubljana
END:VEVENT
BEGIN:VEVENT
SUMMARY:Uvod v geometrijsko topologijo (FM-3\, IŠRM-3\, MAT-2\, PM-4)\, P
 redavanja (P)
DTSTART;TZID=Europe/Ljubljana:20210525T100000
DTEND;TZID=Europe/Ljubljana:20210525T120000
DTSTAMP:20260420T134213Z
UID:fmf-AFLABS-URNIK:premaknjeno-srecanje:116427
ATTENDEE:2. letnik (M)
ATTENDEE:3. letnik (FM)
ATTENDEE:3. letnik (IŠRM)
ATTENDEE:4. letnik (PM)
CATEGORIES:Entry,Standard
COLOR:darkgreen
DESCRIPTION:Predmet: Uvod v geometrijsko topologijo (FM-3\, IŠRM-3\, MAT-
 2\, PM-4)\, Predavanja (P)\nLetniki: 3. letnik (FM)\, 3. letnik (IŠRM)\, 
 2. letnik (M)\, 4. letnik (PM)\nIzvajalci: Sašo Strle\nProstor: 2.03
LOCATION:2.03
ORGANIZER:Sašo Strle
RELATED-TO:fmf-AFLABS-URNIK:srecanje:5955
X-WR-TIMEZONE:Europe/Ljubljana
END:VEVENT
BEGIN:VEVENT
SUMMARY:REZ FM ()\, Ostalo (O)
DTSTART;TZID=Europe/Ljubljana:20210512T140000
DTEND;TZID=Europe/Ljubljana:20210512T150000
DTSTAMP:20260420T134213Z
UID:fmf-AFLABS-URNIK:premaknjeno-srecanje:89869
CATEGORIES:Entry,Standard
COLOR:darkgreen
DESCRIPTION:Predmet: REZ FM ()\, Ostalo (O)\nLetniki: \nIzvajalci: Sašo S
 trle\nProstor: 2.04
LOCATION:2.04
ORGANIZER:Sašo Strle
RELATED-TO:fmf-AFLABS-URNIK:srecanje:6054
X-WR-TIMEZONE:Europe/Ljubljana
END:VEVENT
BEGIN:VEVENT
SUMMARY:REZ FM ()\, Ostalo (O)
DTSTART;TZID=Europe/Ljubljana:20210519T140000
DTEND;TZID=Europe/Ljubljana:20210519T150000
DTSTAMP:20260420T134213Z
UID:fmf-AFLABS-URNIK:premaknjeno-srecanje:89870
CATEGORIES:Entry,Standard
COLOR:darkgreen
DESCRIPTION:Predmet: REZ FM ()\, Ostalo (O)\nLetniki: \nIzvajalci: Sašo S
 trle\nProstor: 2.04
LOCATION:2.04
ORGANIZER:Sašo Strle
RELATED-TO:fmf-AFLABS-URNIK:srecanje:6054
X-WR-TIMEZONE:Europe/Ljubljana
END:VEVENT
BEGIN:VEVENT
SUMMARY:REZ FM ()\, Ostalo (O)
DTSTART;TZID=Europe/Ljubljana:20210526T140000
DTEND;TZID=Europe/Ljubljana:20210526T150000
DTSTAMP:20260420T134213Z
UID:fmf-AFLABS-URNIK:premaknjeno-srecanje:89871
CATEGORIES:Entry,Standard
COLOR:darkgreen
DESCRIPTION:Predmet: REZ FM ()\, Ostalo (O)\nLetniki: \nIzvajalci: Sašo S
 trle\nProstor: 2.04
LOCATION:2.04
ORGANIZER:Sašo Strle
RELATED-TO:fmf-AFLABS-URNIK:srecanje:6054
X-WR-TIMEZONE:Europe/Ljubljana
END:VEVENT
BEGIN:VEVENT
SUMMARY:Rezervacija
DTSTART;TZID=Europe/Ljubljana:20210604T120000
DTEND;TZID=Europe/Ljubljana:20210604T150000
DTSTAMP:20260420T134213Z
UID:fmf-AFLABS-URNIK:rezervacija:6748
CATEGORIES:Reservation
COLOR:royalblue
DESCRIPTION:Predmeti: \nLetniki: \nIzvajalci: Gregor Cigler\, Marko Kandi
 ć\, Sašo Strle\nProstori: 2.01\, 2.05
LOCATION:2.01\, 2.05
ORGANIZER:Gregor Cigler, Marko Kandić, Sašo Strle
X-WR-TIMEZONE:Europe/Ljubljana
END:VEVENT
BEGIN:VEVENT
SUMMARY:Rezervacija
DTSTART;TZID=Europe/Ljubljana:20210611T100000
DTEND;TZID=Europe/Ljubljana:20210611T130000
DTSTAMP:20260420T134213Z
UID:fmf-AFLABS-URNIK:rezervacija:6837
CATEGORIES:Reservation
COLOR:royalblue
DESCRIPTION:Predmeti: \nLetniki: \nIzvajalci: Sašo Strle\nProstori: 2.01\
 , 2.05
LOCATION:2.01\, 2.05
ORGANIZER:Sašo Strle
X-WR-TIMEZONE:Europe/Ljubljana
END:VEVENT
BEGIN:VEVENT
SUMMARY:Rezervacija
DTSTART;TZID=Europe/Ljubljana:20210615T130000
DTEND;TZID=Europe/Ljubljana:20210615T190000
DTSTAMP:20260420T134213Z
UID:fmf-AFLABS-URNIK:rezervacija:6898
CATEGORIES:Reservation
COLOR:royalblue
DESCRIPTION:Predmeti: \nLetniki: \nIzvajalci: Sašo Strle\nProstori: 2.04
LOCATION:2.04
ORGANIZER:Sašo Strle
X-WR-TIMEZONE:Europe/Ljubljana
END:VEVENT
BEGIN:VEVENT
SUMMARY:Rezervacija
DTSTART;TZID=Europe/Ljubljana:20210616T090000
DTEND;TZID=Europe/Ljubljana:20210616T120000
DTSTAMP:20260420T134213Z
UID:fmf-AFLABS-URNIK:rezervacija:6905
CATEGORIES:Reservation
COLOR:royalblue
DESCRIPTION:Predmeti: \nLetniki: \nIzvajalci: Sašo Strle\nProstori: 2.04
LOCATION:2.04
ORGANIZER:Sašo Strle
X-WR-TIMEZONE:Europe/Ljubljana
END:VEVENT
BEGIN:VEVENT
SUMMARY:Rezervacija
DTSTART;TZID=Europe/Ljubljana:20210630T090000
DTEND;TZID=Europe/Ljubljana:20210630T110000
DTSTAMP:20260420T134213Z
UID:fmf-AFLABS-URNIK:rezervacija:7131
CATEGORIES:Reservation
COLOR:royalblue
DESCRIPTION:Predmeti: \nLetniki: \nIzvajalci: Sašo Strle\nProstori: 3.05
LOCATION:3.05
ORGANIZER:Sašo Strle
X-WR-TIMEZONE:Europe/Ljubljana
END:VEVENT
BEGIN:VEVENT
SUMMARY:Rezervacija
DTSTART;TZID=Europe/Ljubljana:20210630T120000
DTEND;TZID=Europe/Ljubljana:20210630T140000
DTSTAMP:20260420T134213Z
UID:fmf-AFLABS-URNIK:rezervacija:7152
CATEGORIES:Reservation
COLOR:royalblue
DESCRIPTION:Predmeti: \nLetniki: \nIzvajalci: Sašo Strle\nProstori: 3.05
LOCATION:3.05
ORGANIZER:Sašo Strle
X-WR-TIMEZONE:Europe/Ljubljana
END:VEVENT
BEGIN:VEVENT
SUMMARY:Rezervacija
DTSTART;TZID=Europe/Ljubljana:20210701T110000
DTEND;TZID=Europe/Ljubljana:20210701T140000
DTSTAMP:20260420T134213Z
UID:fmf-AFLABS-URNIK:rezervacija:7187
CATEGORIES:Reservation
COLOR:royalblue
DESCRIPTION:Predmeti: \nLetniki: \nIzvajalci: Sašo Strle\nProstori: 2.04
LOCATION:2.04
ORGANIZER:Sašo Strle
X-WR-TIMEZONE:Europe/Ljubljana
END:VEVENT
BEGIN:VEVENT
SUMMARY:Rezervacija
DTSTART;TZID=Europe/Ljubljana:20210709T110000
DTEND;TZID=Europe/Ljubljana:20210709T140000
DTSTAMP:20260420T134213Z
UID:fmf-AFLABS-URNIK:rezervacija:7288
CATEGORIES:Reservation
COLOR:royalblue
DESCRIPTION:Predmeti: \nLetniki: \nIzvajalci: Sašo Strle\nProstori: 2.04
LOCATION:2.04
ORGANIZER:Sašo Strle
X-WR-TIMEZONE:Europe/Ljubljana
END:VEVENT
BEGIN:VEVENT
SUMMARY:Rezervacija
DTSTART;TZID=Europe/Ljubljana:20210712T110000
DTEND;TZID=Europe/Ljubljana:20210712T130000
DTSTAMP:20260420T134213Z
UID:fmf-AFLABS-URNIK:rezervacija:7300
CATEGORIES:Reservation
COLOR:royalblue
DESCRIPTION:Predmeti: \nLetniki: \nIzvajalci: Sašo Strle\nProstori: 2.04
LOCATION:2.04
ORGANIZER:Sašo Strle
X-WR-TIMEZONE:Europe/Ljubljana
END:VEVENT
BEGIN:VEVENT
SUMMARY:Rezervacija
DTSTART;TZID=Europe/Ljubljana:20210719T100000
DTEND;TZID=Europe/Ljubljana:20210719T140000
DTSTAMP:20260420T134213Z
UID:fmf-AFLABS-URNIK:rezervacija:7327
CATEGORIES:Reservation
COLOR:royalblue
DESCRIPTION:Predmeti: \nLetniki: \nIzvajalci: Sašo Strle\nProstori: P.01
LOCATION:P.01
ORGANIZER:Sašo Strle
X-WR-TIMEZONE:Europe/Ljubljana
END:VEVENT
END:VCALENDAR
