BEGIN:VCALENDAR
VERSION:2.0
PRODID:-//AFLabs urnik izvoz - fmf//aflabs.si//SI
DTSTAMP:20260421T003751Z
NAME:UL FMF urnik
REFRESH-INTERVAL:PT1H
SOURCE:https://urnik.fmf.uni-lj.si/teacher/11?day=2022-07-04&export=1
URL:https://urnik.fmf.uni-lj.si/teacher/11?day=2022-07-04&export=1
X-PUBLISHED-TTL:PT1H
X-WR-CALNAME:UL FMF urnik
X-WR-TIMEZONE:Europe/Ljubljana
BEGIN:VTIMEZONE
TZID:Europe/Ljubljana
BEGIN:DAYLIGHT
DTSTART:20260329T020000
RDATE:20260329T020000
RDATE:20270328T020000
TZNAME:CEST
TZOFFSETFROM:+0100
TZOFFSETTO:+0200
END:DAYLIGHT
BEGIN:STANDARD
DTSTART:20261025T030000
RDATE:20261025T030000
RDATE:20271031T030000
TZNAME:CET
TZOFFSETFROM:+0200
TZOFFSETTO:+0100
END:STANDARD
END:VTIMEZONE
BEGIN:VEVENT
SUMMARY:Topološki seminar (MAT-D)\, Seminar (S)
DTSTART;TZID=Europe/Ljubljana:20220530T120000
DTEND;TZID=Europe/Ljubljana:20220530T140000
DTSTAMP:20260421T003751Z
UID:fmf-AFLABS-URNIK:premaknjeno-srecanje:110629
ATTENDEE:doktorski študij (M)
CATEGORIES:Entry,Standard
COLOR:darkgreen
DESCRIPTION:Predmet: Topološki seminar (MAT-D)\, Seminar (S)\nLetniki: do
 ktorski študij (M)\nIzvajalci: Petar Pavešić\nProstor: 3.06
LOCATION:3.06
ORGANIZER:Petar Pavešić
RELATED-TO:fmf-AFLABS-URNIK:srecanje:7314
X-WR-TIMEZONE:Europe/Ljubljana
END:VEVENT
BEGIN:VEVENT
SUMMARY:Rezervacija
DTSTART;TZID=Europe/Ljubljana:20220610T100000
DTEND;TZID=Europe/Ljubljana:20220610T120000
DTSTAMP:20260421T003751Z
UID:fmf-AFLABS-URNIK:rezervacija:9272
CATEGORIES:Reservation
COLOR:royalblue
DESCRIPTION:Predmeti: \nLetniki: \nIzvajalci: Sašo Strle\nProstori: 2.01
LOCATION:2.01
ORGANIZER:Sašo Strle
X-WR-TIMEZONE:Europe/Ljubljana
END:VEVENT
BEGIN:VEVENT
SUMMARY:Rezervacija
DTSTART;TZID=Europe/Ljubljana:20220614T130000
DTEND;TZID=Europe/Ljubljana:20220614T180000
DTSTAMP:20260421T003751Z
UID:fmf-AFLABS-URNIK:rezervacija:9329
CATEGORIES:Reservation
COLOR:royalblue
DESCRIPTION:Predmeti: \nLetniki: \nIzvajalci: Sašo Strle\nProstori: 3.05
LOCATION:3.05
ORGANIZER:Sašo Strle
X-WR-TIMEZONE:Europe/Ljubljana
END:VEVENT
BEGIN:VEVENT
SUMMARY:Rezervacija
DTSTART;TZID=Europe/Ljubljana:20220615T090000
DTEND;TZID=Europe/Ljubljana:20220615T130000
DTSTAMP:20260421T003751Z
UID:fmf-AFLABS-URNIK:rezervacija:9339
CATEGORIES:Reservation
COLOR:royalblue
DESCRIPTION:Predmeti: \nLetniki: \nIzvajalci: Sašo Strle\nProstori: 3.05
LOCATION:3.05
ORGANIZER:Sašo Strle
X-WR-TIMEZONE:Europe/Ljubljana
END:VEVENT
BEGIN:VEVENT
SUMMARY:Rezervacija
DTSTART;TZID=Europe/Ljubljana:20220615T130000
DTEND;TZID=Europe/Ljubljana:20220615T140000
DTSTAMP:20260421T003751Z
UID:fmf-AFLABS-URNIK:rezervacija:9348
CATEGORIES:Reservation
COLOR:royalblue
DESCRIPTION:Predmeti: \nLetniki: \nIzvajalci: Sašo Strle\nProstori: 3.05
LOCATION:3.05
ORGANIZER:Sašo Strle
X-WR-TIMEZONE:Europe/Ljubljana
END:VEVENT
BEGIN:VEVENT
SUMMARY:Rezervacija
DTSTART;TZID=Europe/Ljubljana:20220620T100000
DTEND;TZID=Europe/Ljubljana:20220620T120000
DTSTAMP:20260421T003751Z
UID:fmf-AFLABS-URNIK:rezervacija:9401
CATEGORIES:Reservation
COLOR:royalblue
DESCRIPTION:Predmeti: \nLetniki: \nIzvajalci: Sašo Strle\nProstori: 2.05
LOCATION:2.05
ORGANIZER:Sašo Strle
X-WR-TIMEZONE:Europe/Ljubljana
END:VEVENT
BEGIN:VEVENT
SUMMARY:Rezervacija
DTSTART;TZID=Europe/Ljubljana:20220707T100000
DTEND;TZID=Europe/Ljubljana:20220707T120000
DTSTAMP:20260421T003751Z
UID:fmf-AFLABS-URNIK:rezervacija:9710
CATEGORIES:Reservation
COLOR:royalblue
DESCRIPTION:Predmeti: \nLetniki: \nIzvajalci: Sašo Strle\nProstori: 2.05
LOCATION:2.05
ORGANIZER:Sašo Strle
X-WR-TIMEZONE:Europe/Ljubljana
END:VEVENT
BEGIN:VEVENT
SUMMARY:Rezervacija
DTSTART;TZID=Europe/Ljubljana:20220708T160000
DTEND;TZID=Europe/Ljubljana:20220708T200000
DTSTAMP:20260421T003751Z
UID:fmf-AFLABS-URNIK:rezervacija:9725
CATEGORIES:Reservation
COLOR:royalblue
DESCRIPTION:Predmeti: \nLetniki: \nIzvajalci: Sašo Strle\nProstori: 3.04
LOCATION:3.04
ORGANIZER:Sašo Strle
X-WR-TIMEZONE:Europe/Ljubljana
END:VEVENT
BEGIN:VEVENT
SUMMARY:Rezervacija
DTSTART;TZID=Europe/Ljubljana:20220711T150000
DTEND;TZID=Europe/Ljubljana:20220711T190000
DTSTAMP:20260421T003751Z
UID:fmf-AFLABS-URNIK:rezervacija:9735
CATEGORIES:Reservation
COLOR:royalblue
DESCRIPTION:Predmeti: \nLetniki: \nIzvajalci: Sašo Strle\nProstori: 2.03
LOCATION:2.03
ORGANIZER:Sašo Strle
X-WR-TIMEZONE:Europe/Ljubljana
END:VEVENT
END:VCALENDAR
