BEGIN:VCALENDAR
VERSION:2.0
PRODID:-//AFLabs urnik izvoz - fmf//aflabs.si//SI
DTSTAMP:20260422T074300Z
NAME:UL FMF urnik
REFRESH-INTERVAL:PT1H
SOURCE:https://urnik.fmf.uni-lj.si/teacher/1206?day=2025-04-21&export=1
URL:https://urnik.fmf.uni-lj.si/teacher/1206?day=2025-04-21&export=1
X-PUBLISHED-TTL:PT1H
X-WR-CALNAME:UL FMF urnik
X-WR-TIMEZONE:Europe/Ljubljana
BEGIN:VTIMEZONE
TZID:Europe/Ljubljana
BEGIN:DAYLIGHT
DTSTART:20260329T020000
RDATE:20260329T020000
RDATE:20270328T020000
TZNAME:CEST
TZOFFSETFROM:+0100
TZOFFSETTO:+0200
END:DAYLIGHT
BEGIN:STANDARD
DTSTART:20261025T030000
RDATE:20261025T030000
RDATE:20271031T030000
TZNAME:CET
TZOFFSETFROM:+0200
TZOFFSETTO:+0100
END:STANDARD
END:VTIMEZONE
BEGIN:VEVENT
SUMMARY:Exam
DTSTART;TZID=Europe/Ljubljana:20250221T150000
DTEND;TZID=Europe/Ljubljana:20250221T170000
DTSTAMP:20260422T074300Z
UID:fmf-AFLABS-URNIK:rezervacija:20849
ATTENDEE:5. letnik (PM)
ATTENDEE:magistrski študij (FM)
ATTENDEE:magistrski študij (IŠRM)
ATTENDEE:magistrski študij (M)
CATEGORIES:Reservation
COLOR:royalblue
DESCRIPTION:Predmeti: Teorija grafov (FM-M\, IŠRM-M\, MAT-M\, PM-5)\nLetn
 iki: magistrski študij (FM)\, magistrski študij (IŠRM)\, magistrski št
 udij (M)\, 5. letnik (PM)\nIzvajalci: Csilla Bujtás\nProstori: 2.05
LOCATION:2.05
ORGANIZER:Csilla Bujtás
X-WR-TIMEZONE:Europe/Ljubljana
END:VEVENT
BEGIN:VEVENT
SUMMARY:Exam
DTSTART;TZID=Europe/Ljubljana:20250226T140000
DTEND;TZID=Europe/Ljubljana:20250226T160000
DTSTAMP:20260422T074300Z
UID:fmf-AFLABS-URNIK:rezervacija:21133
ATTENDEE:5. letnik (PM)
ATTENDEE:magistrski študij (FM)
ATTENDEE:magistrski študij (IŠRM)
ATTENDEE:magistrski študij (M)
CATEGORIES:Reservation
COLOR:royalblue
DESCRIPTION:Predmeti: Teorija grafov (FM-M\, IŠRM-M\, MAT-M\, PM-5)\nLetn
 iki: magistrski študij (FM)\, magistrski študij (IŠRM)\, magistrski št
 udij (M)\, 5. letnik (PM)\nIzvajalci: Csilla Bujtás\nProstori: 1.01
LOCATION:1.01
ORGANIZER:Csilla Bujtás
X-WR-TIMEZONE:Europe/Ljubljana
END:VEVENT
BEGIN:VEVENT
SUMMARY:Oral exam
DTSTART;TZID=Europe/Ljubljana:20250304T110000
DTEND;TZID=Europe/Ljubljana:20250304T120000
DTSTAMP:20260422T074300Z
UID:fmf-AFLABS-URNIK:rezervacija:21364
ATTENDEE:5. letnik (PM)
ATTENDEE:magistrski študij (FM)
ATTENDEE:magistrski študij (IŠRM)
ATTENDEE:magistrski študij (M)
CATEGORIES:Reservation
COLOR:royalblue
DESCRIPTION:Predmeti: Teorija grafov (FM-M\, IŠRM-M\, MAT-M\, PM-5)\nLetn
 iki: magistrski študij (FM)\, magistrski študij (IŠRM)\, magistrski št
 udij (M)\, 5. letnik (PM)\nIzvajalci: Csilla Bujtás\nProstori: 1.02
LOCATION:1.02
ORGANIZER:Csilla Bujtás
X-WR-TIMEZONE:Europe/Ljubljana
END:VEVENT
BEGIN:VEVENT
SUMMARY:Meeting
DTSTART;TZID=Europe/Ljubljana:20250318T130000
DTEND;TZID=Europe/Ljubljana:20250318T150000
DTSTAMP:20260422T074300Z
UID:fmf-AFLABS-URNIK:rezervacija:21761
CATEGORIES:Reservation
COLOR:royalblue
DESCRIPTION:Predmeti: \nLetniki: \nIzvajalci: Csilla Bujtás\nProstori: 1.
 02
LOCATION:1.02
ORGANIZER:Csilla Bujtás
X-WR-TIMEZONE:Europe/Ljubljana
END:VEVENT
END:VCALENDAR
