BEGIN:VCALENDAR
VERSION:2.0
PRODID:-//AFLabs urnik izvoz - fmf//aflabs.si//SI
DTSTAMP:20260424T023545Z
NAME:UL FMF urnik
REFRESH-INTERVAL:PT1H
SOURCE:https://urnik.fmf.uni-lj.si/teacher/121?day=2025-09-29&export=1
URL:https://urnik.fmf.uni-lj.si/teacher/121?day=2025-09-29&export=1
X-PUBLISHED-TTL:PT1H
X-WR-CALNAME:UL FMF urnik
X-WR-TIMEZONE:Europe/Ljubljana
BEGIN:VTIMEZONE
TZID:Europe/Ljubljana
BEGIN:DAYLIGHT
DTSTART:20260329T020000
RDATE:20260329T020000
RDATE:20270328T020000
TZNAME:CEST
TZOFFSETFROM:+0100
TZOFFSETTO:+0200
END:DAYLIGHT
BEGIN:STANDARD
DTSTART:20261025T030000
RDATE:20261025T030000
RDATE:20271031T030000
TZNAME:CET
TZOFFSETFROM:+0200
TZOFFSETTO:+0100
END:STANDARD
END:VTIMEZONE
BEGIN:VEVENT
SUMMARY:Stalno strokovno izpopolnjevanje ()\, Predavanja (P)
DTSTART;TZID=Europe/Ljubljana:20251003T150000
DTEND;TZID=Europe/Ljubljana:20251003T190000
DTSTAMP:20260424T023545Z
UID:fmf-AFLABS-URNIK:premaknjeno-srecanje:234149
CATEGORIES:Entry,Standard
COLOR:darkgreen
DESCRIPTION:Predmet: Stalno strokovno izpopolnjevanje ()\, Predavanja (P)\
 nLetniki: \nIzvajalci: Aleš Mohorič\nProstor: F2
LOCATION:F2
ORGANIZER:Aleš Mohorič
RELATED-TO:fmf-AFLABS-URNIK:srecanje:16324
X-WR-TIMEZONE:Europe/Ljubljana
END:VEVENT
BEGIN:VEVENT
SUMMARY:Stalno strokovno izpopolnjevanje ()\, Predavanja (P)
DTSTART;TZID=Europe/Ljubljana:20251010T150000
DTEND;TZID=Europe/Ljubljana:20251010T190000
DTSTAMP:20260424T023545Z
UID:fmf-AFLABS-URNIK:premaknjeno-srecanje:234150
CATEGORIES:Entry,Standard
COLOR:darkgreen
DESCRIPTION:Predmet: Stalno strokovno izpopolnjevanje ()\, Predavanja (P)\
 nLetniki: \nIzvajalci: Aleš Mohorič\nProstor: F2
LOCATION:F2
ORGANIZER:Aleš Mohorič
RELATED-TO:fmf-AFLABS-URNIK:srecanje:16324
X-WR-TIMEZONE:Europe/Ljubljana
END:VEVENT
BEGIN:VEVENT
SUMMARY:Stalno strokovno izpopolnjevanje ()\, Predavanja (P)
DTSTART;TZID=Europe/Ljubljana:20251017T150000
DTEND;TZID=Europe/Ljubljana:20251017T190000
DTSTAMP:20260424T023545Z
UID:fmf-AFLABS-URNIK:premaknjeno-srecanje:234151
CATEGORIES:Entry,Standard
COLOR:darkgreen
DESCRIPTION:Predmet: Stalno strokovno izpopolnjevanje ()\, Predavanja (P)\
 nLetniki: \nIzvajalci: Aleš Mohorič\nProstor: F2
LOCATION:F2
ORGANIZER:Aleš Mohorič
RELATED-TO:fmf-AFLABS-URNIK:srecanje:16324
X-WR-TIMEZONE:Europe/Ljubljana
END:VEVENT
BEGIN:VEVENT
SUMMARY:Stalno strokovno izpopolnjevanje ()\, Predavanja (P)
DTSTART;TZID=Europe/Ljubljana:20251024T150000
DTEND;TZID=Europe/Ljubljana:20251024T190000
DTSTAMP:20260424T023545Z
UID:fmf-AFLABS-URNIK:premaknjeno-srecanje:234152
CATEGORIES:Entry,Standard
COLOR:darkgreen
DESCRIPTION:Predmet: Stalno strokovno izpopolnjevanje ()\, Predavanja (P)\
 nLetniki: \nIzvajalci: Aleš Mohorič\nProstor: F2
LOCATION:F2
ORGANIZER:Aleš Mohorič
RELATED-TO:fmf-AFLABS-URNIK:srecanje:16324
X-WR-TIMEZONE:Europe/Ljubljana
END:VEVENT
BEGIN:VEVENT
SUMMARY:Fizika I (APF-1)\, Predavanja (P)
DTSTART;TZID=Europe/Ljubljana:20251006T110000
DTEND;TZID=Europe/Ljubljana:20251006T130000
DTSTAMP:20260424T023545Z
UID:fmf-AFLABS-URNIK:premaknjeno-srecanje:217634
ATTENDEE:1. letnik (Aplikativna fizika)
CATEGORIES:Entry,Standard
COLOR:darkgreen
DESCRIPTION:Predmet: Fizika I (APF-1)\, Predavanja (P)\nLetniki: 1. letnik
  (Aplikativna fizika)\nIzvajalci: Aleš Mohorič\nProstor: F6
LOCATION:F6
ORGANIZER:Aleš Mohorič
RELATED-TO:fmf-AFLABS-URNIK:srecanje:15914
X-WR-TIMEZONE:Europe/Ljubljana
END:VEVENT
BEGIN:VEVENT
SUMMARY:Fizika I (APF-1)\, Predavanja (P)
DTSTART;TZID=Europe/Ljubljana:20251013T110000
DTEND;TZID=Europe/Ljubljana:20251013T130000
DTSTAMP:20260424T023545Z
UID:fmf-AFLABS-URNIK:premaknjeno-srecanje:217635
ATTENDEE:1. letnik (Aplikativna fizika)
CATEGORIES:Entry,Standard
COLOR:darkgreen
DESCRIPTION:Predmet: Fizika I (APF-1)\, Predavanja (P)\nLetniki: 1. letnik
  (Aplikativna fizika)\nIzvajalci: Aleš Mohorič\nProstor: F6
LOCATION:F6
ORGANIZER:Aleš Mohorič
RELATED-TO:fmf-AFLABS-URNIK:srecanje:15914
X-WR-TIMEZONE:Europe/Ljubljana
END:VEVENT
BEGIN:VEVENT
SUMMARY:Fizika I (APF-1)\, Predavanja (P)
DTSTART;TZID=Europe/Ljubljana:20251020T110000
DTEND;TZID=Europe/Ljubljana:20251020T130000
DTSTAMP:20260424T023545Z
UID:fmf-AFLABS-URNIK:premaknjeno-srecanje:217636
ATTENDEE:1. letnik (Aplikativna fizika)
CATEGORIES:Entry,Standard
COLOR:darkgreen
DESCRIPTION:Predmet: Fizika I (APF-1)\, Predavanja (P)\nLetniki: 1. letnik
  (Aplikativna fizika)\nIzvajalci: Aleš Mohorič\nProstor: F6
LOCATION:F6
ORGANIZER:Aleš Mohorič
RELATED-TO:fmf-AFLABS-URNIK:srecanje:15914
X-WR-TIMEZONE:Europe/Ljubljana
END:VEVENT
BEGIN:VEVENT
SUMMARY:Fizika I (APF-1)\, Predavanja (P)
DTSTART;TZID=Europe/Ljubljana:20251027T110000
DTEND;TZID=Europe/Ljubljana:20251027T130000
DTSTAMP:20260424T023545Z
UID:fmf-AFLABS-URNIK:premaknjeno-srecanje:217637
ATTENDEE:1. letnik (Aplikativna fizika)
CATEGORIES:Entry,Standard
COLOR:darkgreen
DESCRIPTION:Predmet: Fizika I (APF-1)\, Predavanja (P)\nLetniki: 1. letnik
  (Aplikativna fizika)\nIzvajalci: Aleš Mohorič\nProstor: F6
LOCATION:F6
ORGANIZER:Aleš Mohorič
RELATED-TO:fmf-AFLABS-URNIK:srecanje:15914
X-WR-TIMEZONE:Europe/Ljubljana
END:VEVENT
BEGIN:VEVENT
SUMMARY:Fizika I (APF-1)\, Predavanja (P)
DTSTART;TZID=Europe/Ljubljana:20251103T110000
DTEND;TZID=Europe/Ljubljana:20251103T130000
DTSTAMP:20260424T023545Z
UID:fmf-AFLABS-URNIK:premaknjeno-srecanje:217638
ATTENDEE:1. letnik (Aplikativna fizika)
CATEGORIES:Entry,Standard
COLOR:darkgreen
DESCRIPTION:Predmet: Fizika I (APF-1)\, Predavanja (P)\nLetniki: 1. letnik
  (Aplikativna fizika)\nIzvajalci: Aleš Mohorič\nProstor: F6
LOCATION:F6
ORGANIZER:Aleš Mohorič
RELATED-TO:fmf-AFLABS-URNIK:srecanje:15914
X-WR-TIMEZONE:Europe/Ljubljana
END:VEVENT
BEGIN:VEVENT
SUMMARY:Fizika I (APF-1)\, Predavanja (P)
DTSTART;TZID=Europe/Ljubljana:20251007T090000
DTEND;TZID=Europe/Ljubljana:20251007T110000
DTSTAMP:20260424T023545Z
UID:fmf-AFLABS-URNIK:premaknjeno-srecanje:217649
ATTENDEE:1. letnik (Aplikativna fizika)
CATEGORIES:Entry,Standard
COLOR:darkgreen
DESCRIPTION:Predmet: Fizika I (APF-1)\, Predavanja (P)\nLetniki: 1. letnik
  (Aplikativna fizika)\nIzvajalci: Aleš Mohorič\nProstor: F6
LOCATION:F6
ORGANIZER:Aleš Mohorič
RELATED-TO:fmf-AFLABS-URNIK:srecanje:15915
X-WR-TIMEZONE:Europe/Ljubljana
END:VEVENT
BEGIN:VEVENT
SUMMARY:Fizika I (APF-1)\, Predavanja (P)
DTSTART;TZID=Europe/Ljubljana:20251014T090000
DTEND;TZID=Europe/Ljubljana:20251014T110000
DTSTAMP:20260424T023545Z
UID:fmf-AFLABS-URNIK:premaknjeno-srecanje:217650
ATTENDEE:1. letnik (Aplikativna fizika)
CATEGORIES:Entry,Standard
COLOR:darkgreen
DESCRIPTION:Predmet: Fizika I (APF-1)\, Predavanja (P)\nLetniki: 1. letnik
  (Aplikativna fizika)\nIzvajalci: Aleš Mohorič\nProstor: F6
LOCATION:F6
ORGANIZER:Aleš Mohorič
RELATED-TO:fmf-AFLABS-URNIK:srecanje:15915
X-WR-TIMEZONE:Europe/Ljubljana
END:VEVENT
BEGIN:VEVENT
SUMMARY:Fizika I (APF-1)\, Predavanja (P)
DTSTART;TZID=Europe/Ljubljana:20251021T090000
DTEND;TZID=Europe/Ljubljana:20251021T110000
DTSTAMP:20260424T023545Z
UID:fmf-AFLABS-URNIK:premaknjeno-srecanje:217651
ATTENDEE:1. letnik (Aplikativna fizika)
CATEGORIES:Entry,Standard
COLOR:darkgreen
DESCRIPTION:Predmet: Fizika I (APF-1)\, Predavanja (P)\nLetniki: 1. letnik
  (Aplikativna fizika)\nIzvajalci: Aleš Mohorič\nProstor: F6
LOCATION:F6
ORGANIZER:Aleš Mohorič
RELATED-TO:fmf-AFLABS-URNIK:srecanje:15915
X-WR-TIMEZONE:Europe/Ljubljana
END:VEVENT
BEGIN:VEVENT
SUMMARY:Fizika I (APF-1)\, Predavanja (P)
DTSTART;TZID=Europe/Ljubljana:20251028T090000
DTEND;TZID=Europe/Ljubljana:20251028T110000
DTSTAMP:20260424T023545Z
UID:fmf-AFLABS-URNIK:premaknjeno-srecanje:217652
ATTENDEE:1. letnik (Aplikativna fizika)
CATEGORIES:Entry,Standard
COLOR:darkgreen
DESCRIPTION:Predmet: Fizika I (APF-1)\, Predavanja (P)\nLetniki: 1. letnik
  (Aplikativna fizika)\nIzvajalci: Aleš Mohorič\nProstor: F6
LOCATION:F6
ORGANIZER:Aleš Mohorič
RELATED-TO:fmf-AFLABS-URNIK:srecanje:15915
X-WR-TIMEZONE:Europe/Ljubljana
END:VEVENT
END:VCALENDAR
