BEGIN:VCALENDAR
VERSION:2.0
PRODID:-//AFLabs urnik izvoz - fmf//aflabs.si//SI
DTSTAMP:20260425T114144Z
NAME:UL FMF urnik
REFRESH-INTERVAL:PT1H
SOURCE:https://urnik.fmf.uni-lj.si/teacher/122?day=2021-04-26&export=1
URL:https://urnik.fmf.uni-lj.si/teacher/122?day=2021-04-26&export=1
X-PUBLISHED-TTL:PT1H
X-WR-CALNAME:UL FMF urnik
X-WR-TIMEZONE:Europe/Ljubljana
BEGIN:VTIMEZONE
TZID:Europe/Ljubljana
BEGIN:DAYLIGHT
DTSTART:20260329T020000
RDATE:20260329T020000
RDATE:20270328T020000
TZNAME:CEST
TZOFFSETFROM:+0100
TZOFFSETTO:+0200
END:DAYLIGHT
BEGIN:STANDARD
DTSTART:20261025T030000
RDATE:20261025T030000
RDATE:20271031T030000
TZNAME:CET
TZOFFSETFROM:+0200
TZOFFSETTO:+0100
END:STANDARD
END:VTIMEZONE
BEGIN:VEVENT
SUMMARY:Fizika jedra in osnovnih delcev (FIZ-3\, MEF-1)\, Predavanja (P)
DTSTART;TZID=Europe/Ljubljana:20210216T080000
DTEND;TZID=Europe/Ljubljana:20210216T110000
DTSTAMP:20260425T114144Z
UID:fmf-AFLABS-URNIK:premaknjeno-srecanje:31034
ATTENDEE:1. letnik (Medicinska fizika, 2. stopnja)
ATTENDEE:3. letnik (Fizika, 1. stopnja)
CATEGORIES:Entry,Standard
COLOR:darkgreen
DESCRIPTION:Predmet: Fizika jedra in osnovnih delcev (FIZ-3\, MEF-1)\, Pre
 davanja (P)\nLetniki: 3. letnik (Fizika\, 1. stopnja)\, 1. letnik (Medicin
 ska fizika\, 2. stopnja)\nIzvajalci: Peter Križan\nProstor: F3
LOCATION:F3
ORGANIZER:Peter Križan
RELATED-TO:fmf-AFLABS-URNIK:srecanje:5550
X-WR-TIMEZONE:Europe/Ljubljana
END:VEVENT
BEGIN:VEVENT
SUMMARY:Fizika jedra in osnovnih delcev (FIZ-3\, MEF-1)\, Predavanja (P)
DTSTART;TZID=Europe/Ljubljana:20210223T080000
DTEND;TZID=Europe/Ljubljana:20210223T110000
DTSTAMP:20260425T114144Z
UID:fmf-AFLABS-URNIK:premaknjeno-srecanje:31035
ATTENDEE:1. letnik (Medicinska fizika, 2. stopnja)
ATTENDEE:3. letnik (Fizika, 1. stopnja)
CATEGORIES:Entry,Standard
COLOR:darkgreen
DESCRIPTION:Predmet: Fizika jedra in osnovnih delcev (FIZ-3\, MEF-1)\, Pre
 davanja (P)\nLetniki: 3. letnik (Fizika\, 1. stopnja)\, 1. letnik (Medicin
 ska fizika\, 2. stopnja)\nIzvajalci: Peter Križan\nProstor: F3
LOCATION:F3
ORGANIZER:Peter Križan
RELATED-TO:fmf-AFLABS-URNIK:srecanje:5550
X-WR-TIMEZONE:Europe/Ljubljana
END:VEVENT
BEGIN:VEVENT
SUMMARY:Fizika jedra in osnovnih delcev (FIZ-3\, MEF-1)\, Predavanja (P)
DTSTART;TZID=Europe/Ljubljana:20210302T080000
DTEND;TZID=Europe/Ljubljana:20210302T110000
DTSTAMP:20260425T114144Z
UID:fmf-AFLABS-URNIK:premaknjeno-srecanje:31036
ATTENDEE:1. letnik (Medicinska fizika, 2. stopnja)
ATTENDEE:3. letnik (Fizika, 1. stopnja)
CATEGORIES:Entry,Standard
COLOR:darkgreen
DESCRIPTION:Predmet: Fizika jedra in osnovnih delcev (FIZ-3\, MEF-1)\, Pre
 davanja (P)\nLetniki: 3. letnik (Fizika\, 1. stopnja)\, 1. letnik (Medicin
 ska fizika\, 2. stopnja)\nIzvajalci: Peter Križan\nProstor: F3
LOCATION:F3
ORGANIZER:Peter Križan
RELATED-TO:fmf-AFLABS-URNIK:srecanje:5550
X-WR-TIMEZONE:Europe/Ljubljana
END:VEVENT
BEGIN:VEVENT
SUMMARY:Fizika jedra in osnovnih delcev (FIZ-3\, MEF-1)\, Predavanja (P)
DTSTART;TZID=Europe/Ljubljana:20210309T080000
DTEND;TZID=Europe/Ljubljana:20210309T110000
DTSTAMP:20260425T114144Z
UID:fmf-AFLABS-URNIK:premaknjeno-srecanje:31037
ATTENDEE:1. letnik (Medicinska fizika, 2. stopnja)
ATTENDEE:3. letnik (Fizika, 1. stopnja)
CATEGORIES:Entry,Standard
COLOR:darkgreen
DESCRIPTION:Predmet: Fizika jedra in osnovnih delcev (FIZ-3\, MEF-1)\, Pre
 davanja (P)\nLetniki: 3. letnik (Fizika\, 1. stopnja)\, 1. letnik (Medicin
 ska fizika\, 2. stopnja)\nIzvajalci: Peter Križan\nProstor: F3
LOCATION:F3
ORGANIZER:Peter Križan
RELATED-TO:fmf-AFLABS-URNIK:srecanje:5550
X-WR-TIMEZONE:Europe/Ljubljana
END:VEVENT
BEGIN:VEVENT
SUMMARY:Fizika jedra in osnovnih delcev (FIZ-3\, MEF-1)\, Predavanja (P)
DTSTART;TZID=Europe/Ljubljana:20210316T080000
DTEND;TZID=Europe/Ljubljana:20210316T110000
DTSTAMP:20260425T114144Z
UID:fmf-AFLABS-URNIK:premaknjeno-srecanje:31038
ATTENDEE:1. letnik (Medicinska fizika, 2. stopnja)
ATTENDEE:3. letnik (Fizika, 1. stopnja)
CATEGORIES:Entry,Standard
COLOR:darkgreen
DESCRIPTION:Predmet: Fizika jedra in osnovnih delcev (FIZ-3\, MEF-1)\, Pre
 davanja (P)\nLetniki: 3. letnik (Fizika\, 1. stopnja)\, 1. letnik (Medicin
 ska fizika\, 2. stopnja)\nIzvajalci: Peter Križan\nProstor: F3
LOCATION:F3
ORGANIZER:Peter Križan
RELATED-TO:fmf-AFLABS-URNIK:srecanje:5550
X-WR-TIMEZONE:Europe/Ljubljana
END:VEVENT
BEGIN:VEVENT
SUMMARY:Fizika jedra in osnovnih delcev (FIZ-3\, MEF-1)\, Predavanja (P)
DTSTART;TZID=Europe/Ljubljana:20210323T080000
DTEND;TZID=Europe/Ljubljana:20210323T110000
DTSTAMP:20260425T114144Z
UID:fmf-AFLABS-URNIK:premaknjeno-srecanje:31039
ATTENDEE:1. letnik (Medicinska fizika, 2. stopnja)
ATTENDEE:3. letnik (Fizika, 1. stopnja)
CATEGORIES:Entry,Standard
COLOR:darkgreen
DESCRIPTION:Predmet: Fizika jedra in osnovnih delcev (FIZ-3\, MEF-1)\, Pre
 davanja (P)\nLetniki: 3. letnik (Fizika\, 1. stopnja)\, 1. letnik (Medicin
 ska fizika\, 2. stopnja)\nIzvajalci: Peter Križan\nProstor: F3
LOCATION:F3
ORGANIZER:Peter Križan
RELATED-TO:fmf-AFLABS-URNIK:srecanje:5550
X-WR-TIMEZONE:Europe/Ljubljana
END:VEVENT
BEGIN:VEVENT
SUMMARY:Fizika jedra in osnovnih delcev (FIZ-3\, MEF-1)\, Predavanja (P)
DTSTART;TZID=Europe/Ljubljana:20210330T080000
DTEND;TZID=Europe/Ljubljana:20210330T110000
DTSTAMP:20260425T114144Z
UID:fmf-AFLABS-URNIK:premaknjeno-srecanje:31040
ATTENDEE:1. letnik (Medicinska fizika, 2. stopnja)
ATTENDEE:3. letnik (Fizika, 1. stopnja)
CATEGORIES:Entry,Standard
COLOR:darkgreen
DESCRIPTION:Predmet: Fizika jedra in osnovnih delcev (FIZ-3\, MEF-1)\, Pre
 davanja (P)\nLetniki: 3. letnik (Fizika\, 1. stopnja)\, 1. letnik (Medicin
 ska fizika\, 2. stopnja)\nIzvajalci: Peter Križan\nProstor: F3
LOCATION:F3
ORGANIZER:Peter Križan
RELATED-TO:fmf-AFLABS-URNIK:srecanje:5550
X-WR-TIMEZONE:Europe/Ljubljana
END:VEVENT
BEGIN:VEVENT
SUMMARY:Fizika jedra in osnovnih delcev (FIZ-3\, MEF-1)\, Predavanja (P)
DTSTART;TZID=Europe/Ljubljana:20210406T080000
DTEND;TZID=Europe/Ljubljana:20210406T110000
DTSTAMP:20260425T114144Z
UID:fmf-AFLABS-URNIK:premaknjeno-srecanje:31041
ATTENDEE:1. letnik (Medicinska fizika, 2. stopnja)
ATTENDEE:3. letnik (Fizika, 1. stopnja)
CATEGORIES:Entry,Standard
COLOR:darkgreen
DESCRIPTION:Predmet: Fizika jedra in osnovnih delcev (FIZ-3\, MEF-1)\, Pre
 davanja (P)\nLetniki: 3. letnik (Fizika\, 1. stopnja)\, 1. letnik (Medicin
 ska fizika\, 2. stopnja)\nIzvajalci: Peter Križan\nProstor: F3
LOCATION:F3
ORGANIZER:Peter Križan
RELATED-TO:fmf-AFLABS-URNIK:srecanje:5550
X-WR-TIMEZONE:Europe/Ljubljana
END:VEVENT
BEGIN:VEVENT
SUMMARY:Fizika jedra in osnovnih delcev (FIZ-3\, MEF-1)\, Predavanja (P)
DTSTART;TZID=Europe/Ljubljana:20210413T080000
DTEND;TZID=Europe/Ljubljana:20210413T110000
DTSTAMP:20260425T114144Z
UID:fmf-AFLABS-URNIK:premaknjeno-srecanje:31042
ATTENDEE:1. letnik (Medicinska fizika, 2. stopnja)
ATTENDEE:3. letnik (Fizika, 1. stopnja)
CATEGORIES:Entry,Standard
COLOR:darkgreen
DESCRIPTION:Predmet: Fizika jedra in osnovnih delcev (FIZ-3\, MEF-1)\, Pre
 davanja (P)\nLetniki: 3. letnik (Fizika\, 1. stopnja)\, 1. letnik (Medicin
 ska fizika\, 2. stopnja)\nIzvajalci: Peter Križan\nProstor: F3
LOCATION:F3
ORGANIZER:Peter Križan
RELATED-TO:fmf-AFLABS-URNIK:srecanje:5550
X-WR-TIMEZONE:Europe/Ljubljana
END:VEVENT
BEGIN:VEVENT
SUMMARY:Fizika jedra in osnovnih delcev (FIZ-3\, MEF-1)\, Predavanja (P)
DTSTART;TZID=Europe/Ljubljana:20210420T080000
DTEND;TZID=Europe/Ljubljana:20210420T110000
DTSTAMP:20260425T114144Z
UID:fmf-AFLABS-URNIK:premaknjeno-srecanje:31043
ATTENDEE:1. letnik (Medicinska fizika, 2. stopnja)
ATTENDEE:3. letnik (Fizika, 1. stopnja)
CATEGORIES:Entry,Standard
COLOR:darkgreen
DESCRIPTION:Predmet: Fizika jedra in osnovnih delcev (FIZ-3\, MEF-1)\, Pre
 davanja (P)\nLetniki: 3. letnik (Fizika\, 1. stopnja)\, 1. letnik (Medicin
 ska fizika\, 2. stopnja)\nIzvajalci: Peter Križan\nProstor: F3
LOCATION:F3
ORGANIZER:Peter Križan
RELATED-TO:fmf-AFLABS-URNIK:srecanje:5550
X-WR-TIMEZONE:Europe/Ljubljana
END:VEVENT
BEGIN:VEVENT
SUMMARY:Fizika jedra in osnovnih delcev (FIZ-3\, MEF-1)\, Predavanja (P)
DTSTART;TZID=Europe/Ljubljana:20210427T080000
DTEND;TZID=Europe/Ljubljana:20210427T110000
DTSTAMP:20260425T114144Z
UID:fmf-AFLABS-URNIK:premaknjeno-srecanje:31044
ATTENDEE:1. letnik (Medicinska fizika, 2. stopnja)
ATTENDEE:3. letnik (Fizika, 1. stopnja)
CATEGORIES:Entry,Standard
COLOR:darkgreen
DESCRIPTION:Predmet: Fizika jedra in osnovnih delcev (FIZ-3\, MEF-1)\, Pre
 davanja (P)\nLetniki: 3. letnik (Fizika\, 1. stopnja)\, 1. letnik (Medicin
 ska fizika\, 2. stopnja)\nIzvajalci: Peter Križan\nProstor: F3
LOCATION:F3
ORGANIZER:Peter Križan
RELATED-TO:fmf-AFLABS-URNIK:srecanje:5550
X-WR-TIMEZONE:Europe/Ljubljana
END:VEVENT
BEGIN:VEVENT
SUMMARY:Fizika jedra in osnovnih delcev (FIZ-3\, MEF-1)\, Predavanja (P)
DTSTART;TZID=Europe/Ljubljana:20210504T080000
DTEND;TZID=Europe/Ljubljana:20210504T110000
DTSTAMP:20260425T114144Z
UID:fmf-AFLABS-URNIK:premaknjeno-srecanje:31045
ATTENDEE:1. letnik (Medicinska fizika, 2. stopnja)
ATTENDEE:3. letnik (Fizika, 1. stopnja)
CATEGORIES:Entry,Standard
COLOR:darkgreen
DESCRIPTION:Predmet: Fizika jedra in osnovnih delcev (FIZ-3\, MEF-1)\, Pre
 davanja (P)\nLetniki: 3. letnik (Fizika\, 1. stopnja)\, 1. letnik (Medicin
 ska fizika\, 2. stopnja)\nIzvajalci: Peter Križan\nProstor: F3
LOCATION:F3
ORGANIZER:Peter Križan
RELATED-TO:fmf-AFLABS-URNIK:srecanje:5550
X-WR-TIMEZONE:Europe/Ljubljana
END:VEVENT
BEGIN:VEVENT
SUMMARY:Fizika jedra in osnovnih delcev (FIZ-3\, MEF-1)\, Predavanja (P)
DTSTART;TZID=Europe/Ljubljana:20210511T080000
DTEND;TZID=Europe/Ljubljana:20210511T110000
DTSTAMP:20260425T114144Z
UID:fmf-AFLABS-URNIK:premaknjeno-srecanje:31046
ATTENDEE:1. letnik (Medicinska fizika, 2. stopnja)
ATTENDEE:3. letnik (Fizika, 1. stopnja)
CATEGORIES:Entry,Standard
COLOR:darkgreen
DESCRIPTION:Predmet: Fizika jedra in osnovnih delcev (FIZ-3\, MEF-1)\, Pre
 davanja (P)\nLetniki: 3. letnik (Fizika\, 1. stopnja)\, 1. letnik (Medicin
 ska fizika\, 2. stopnja)\nIzvajalci: Peter Križan\nProstor: F3
LOCATION:F3
ORGANIZER:Peter Križan
RELATED-TO:fmf-AFLABS-URNIK:srecanje:5550
X-WR-TIMEZONE:Europe/Ljubljana
END:VEVENT
BEGIN:VEVENT
SUMMARY:Fizika jedra in osnovnih delcev (FIZ-3\, MEF-1)\, Predavanja (P)
DTSTART;TZID=Europe/Ljubljana:20210518T080000
DTEND;TZID=Europe/Ljubljana:20210518T110000
DTSTAMP:20260425T114144Z
UID:fmf-AFLABS-URNIK:premaknjeno-srecanje:31047
ATTENDEE:1. letnik (Medicinska fizika, 2. stopnja)
ATTENDEE:3. letnik (Fizika, 1. stopnja)
CATEGORIES:Entry,Standard
COLOR:darkgreen
DESCRIPTION:Predmet: Fizika jedra in osnovnih delcev (FIZ-3\, MEF-1)\, Pre
 davanja (P)\nLetniki: 3. letnik (Fizika\, 1. stopnja)\, 1. letnik (Medicin
 ska fizika\, 2. stopnja)\nIzvajalci: Peter Križan\nProstor: F3
LOCATION:F3
ORGANIZER:Peter Križan
RELATED-TO:fmf-AFLABS-URNIK:srecanje:5550
X-WR-TIMEZONE:Europe/Ljubljana
END:VEVENT
BEGIN:VEVENT
SUMMARY:Fizika jedra in osnovnih delcev (FIZ-3\, MEF-1)\, Predavanja (P)
DTSTART;TZID=Europe/Ljubljana:20210525T080000
DTEND;TZID=Europe/Ljubljana:20210525T110000
DTSTAMP:20260425T114144Z
UID:fmf-AFLABS-URNIK:premaknjeno-srecanje:31048
ATTENDEE:1. letnik (Medicinska fizika, 2. stopnja)
ATTENDEE:3. letnik (Fizika, 1. stopnja)
CATEGORIES:Entry,Standard
COLOR:darkgreen
DESCRIPTION:Predmet: Fizika jedra in osnovnih delcev (FIZ-3\, MEF-1)\, Pre
 davanja (P)\nLetniki: 3. letnik (Fizika\, 1. stopnja)\, 1. letnik (Medicin
 ska fizika\, 2. stopnja)\nIzvajalci: Peter Križan\nProstor: F3
LOCATION:F3
ORGANIZER:Peter Križan
RELATED-TO:fmf-AFLABS-URNIK:srecanje:5550
X-WR-TIMEZONE:Europe/Ljubljana
END:VEVENT
BEGIN:VEVENT
SUMMARY:Seminar Holography\, strings and transport ()\, Predavanja (P)
DTSTART;TZID=Europe/Ljubljana:20210216T160000
DTEND;TZID=Europe/Ljubljana:20210216T180000
DTSTAMP:20260425T114144Z
UID:fmf-AFLABS-URNIK:premaknjeno-srecanje:101112
CATEGORIES:Entry,Standard
COLOR:darkgreen
DESCRIPTION:Predmet: Seminar Holography\, strings and transport ()\, Preda
 vanja (P)\nLetniki: \nIzvajalci: Peter Križan\nProstor: Kuščerjev semin
 ar
LOCATION:Kuščerjev seminar
ORGANIZER:Peter Križan
RELATED-TO:fmf-AFLABS-URNIK:srecanje:5815
X-WR-TIMEZONE:Europe/Ljubljana
END:VEVENT
BEGIN:VEVENT
SUMMARY:Seminar Holography\, strings and transport ()\, Predavanja (P)
DTSTART;TZID=Europe/Ljubljana:20210223T160000
DTEND;TZID=Europe/Ljubljana:20210223T180000
DTSTAMP:20260425T114144Z
UID:fmf-AFLABS-URNIK:premaknjeno-srecanje:101113
CATEGORIES:Entry,Standard
COLOR:darkgreen
DESCRIPTION:Predmet: Seminar Holography\, strings and transport ()\, Preda
 vanja (P)\nLetniki: \nIzvajalci: Peter Križan\nProstor: Kuščerjev semin
 ar
LOCATION:Kuščerjev seminar
ORGANIZER:Peter Križan
RELATED-TO:fmf-AFLABS-URNIK:srecanje:5815
X-WR-TIMEZONE:Europe/Ljubljana
END:VEVENT
BEGIN:VEVENT
SUMMARY:Seminar Holography\, strings and transport ()\, Predavanja (P)
DTSTART;TZID=Europe/Ljubljana:20210302T160000
DTEND;TZID=Europe/Ljubljana:20210302T180000
DTSTAMP:20260425T114144Z
UID:fmf-AFLABS-URNIK:premaknjeno-srecanje:101114
CATEGORIES:Entry,Standard
COLOR:darkgreen
DESCRIPTION:Predmet: Seminar Holography\, strings and transport ()\, Preda
 vanja (P)\nLetniki: \nIzvajalci: Peter Križan\nProstor: Kuščerjev semin
 ar
LOCATION:Kuščerjev seminar
ORGANIZER:Peter Križan
RELATED-TO:fmf-AFLABS-URNIK:srecanje:5815
X-WR-TIMEZONE:Europe/Ljubljana
END:VEVENT
BEGIN:VEVENT
SUMMARY:Seminar Holography\, strings and transport ()\, Predavanja (P)
DTSTART;TZID=Europe/Ljubljana:20210309T160000
DTEND;TZID=Europe/Ljubljana:20210309T180000
DTSTAMP:20260425T114144Z
UID:fmf-AFLABS-URNIK:premaknjeno-srecanje:101115
CATEGORIES:Entry,Standard
COLOR:darkgreen
DESCRIPTION:Predmet: Seminar Holography\, strings and transport ()\, Preda
 vanja (P)\nLetniki: \nIzvajalci: Peter Križan\nProstor: Kuščerjev semin
 ar
LOCATION:Kuščerjev seminar
ORGANIZER:Peter Križan
RELATED-TO:fmf-AFLABS-URNIK:srecanje:5815
X-WR-TIMEZONE:Europe/Ljubljana
END:VEVENT
BEGIN:VEVENT
SUMMARY:Seminar Holography\, strings and transport ()\, Predavanja (P)
DTSTART;TZID=Europe/Ljubljana:20210316T160000
DTEND;TZID=Europe/Ljubljana:20210316T180000
DTSTAMP:20260425T114144Z
UID:fmf-AFLABS-URNIK:premaknjeno-srecanje:101116
CATEGORIES:Entry,Standard
COLOR:darkgreen
DESCRIPTION:Predmet: Seminar Holography\, strings and transport ()\, Preda
 vanja (P)\nLetniki: \nIzvajalci: Peter Križan\nProstor: Kuščerjev semin
 ar
LOCATION:Kuščerjev seminar
ORGANIZER:Peter Križan
RELATED-TO:fmf-AFLABS-URNIK:srecanje:5815
X-WR-TIMEZONE:Europe/Ljubljana
END:VEVENT
BEGIN:VEVENT
SUMMARY:Seminar Holography\, strings and transport ()\, Predavanja (P)
DTSTART;TZID=Europe/Ljubljana:20210323T160000
DTEND;TZID=Europe/Ljubljana:20210323T180000
DTSTAMP:20260425T114144Z
UID:fmf-AFLABS-URNIK:premaknjeno-srecanje:101117
CATEGORIES:Entry,Standard
COLOR:darkgreen
DESCRIPTION:Predmet: Seminar Holography\, strings and transport ()\, Preda
 vanja (P)\nLetniki: \nIzvajalci: Peter Križan\nProstor: Kuščerjev semin
 ar
LOCATION:Kuščerjev seminar
ORGANIZER:Peter Križan
RELATED-TO:fmf-AFLABS-URNIK:srecanje:5815
X-WR-TIMEZONE:Europe/Ljubljana
END:VEVENT
BEGIN:VEVENT
SUMMARY:Seminar Holography\, strings and transport ()\, Predavanja (P)
DTSTART;TZID=Europe/Ljubljana:20210330T160000
DTEND;TZID=Europe/Ljubljana:20210330T180000
DTSTAMP:20260425T114144Z
UID:fmf-AFLABS-URNIK:premaknjeno-srecanje:101118
CATEGORIES:Entry,Standard
COLOR:darkgreen
DESCRIPTION:Predmet: Seminar Holography\, strings and transport ()\, Preda
 vanja (P)\nLetniki: \nIzvajalci: Peter Križan\nProstor: Kuščerjev semin
 ar
LOCATION:Kuščerjev seminar
ORGANIZER:Peter Križan
RELATED-TO:fmf-AFLABS-URNIK:srecanje:5815
X-WR-TIMEZONE:Europe/Ljubljana
END:VEVENT
BEGIN:VEVENT
SUMMARY:Seminar Holography\, strings and transport ()\, Predavanja (P)
DTSTART;TZID=Europe/Ljubljana:20210406T160000
DTEND;TZID=Europe/Ljubljana:20210406T180000
DTSTAMP:20260425T114144Z
UID:fmf-AFLABS-URNIK:premaknjeno-srecanje:101119
CATEGORIES:Entry,Standard
COLOR:darkgreen
DESCRIPTION:Predmet: Seminar Holography\, strings and transport ()\, Preda
 vanja (P)\nLetniki: \nIzvajalci: Peter Križan\nProstor: Kuščerjev semin
 ar
LOCATION:Kuščerjev seminar
ORGANIZER:Peter Križan
RELATED-TO:fmf-AFLABS-URNIK:srecanje:5815
X-WR-TIMEZONE:Europe/Ljubljana
END:VEVENT
BEGIN:VEVENT
SUMMARY:Seminar Holography\, strings and transport ()\, Predavanja (P)
DTSTART;TZID=Europe/Ljubljana:20210413T160000
DTEND;TZID=Europe/Ljubljana:20210413T180000
DTSTAMP:20260425T114144Z
UID:fmf-AFLABS-URNIK:premaknjeno-srecanje:101120
CATEGORIES:Entry,Standard
COLOR:darkgreen
DESCRIPTION:Predmet: Seminar Holography\, strings and transport ()\, Preda
 vanja (P)\nLetniki: \nIzvajalci: Peter Križan\nProstor: Kuščerjev semin
 ar
LOCATION:Kuščerjev seminar
ORGANIZER:Peter Križan
RELATED-TO:fmf-AFLABS-URNIK:srecanje:5815
X-WR-TIMEZONE:Europe/Ljubljana
END:VEVENT
BEGIN:VEVENT
SUMMARY:Seminar Holography\, strings and transport ()\, Predavanja (P)
DTSTART;TZID=Europe/Ljubljana:20210420T160000
DTEND;TZID=Europe/Ljubljana:20210420T180000
DTSTAMP:20260425T114144Z
UID:fmf-AFLABS-URNIK:premaknjeno-srecanje:101121
CATEGORIES:Entry,Standard
COLOR:darkgreen
DESCRIPTION:Predmet: Seminar Holography\, strings and transport ()\, Preda
 vanja (P)\nLetniki: \nIzvajalci: Peter Križan\nProstor: Kuščerjev semin
 ar
LOCATION:Kuščerjev seminar
ORGANIZER:Peter Križan
RELATED-TO:fmf-AFLABS-URNIK:srecanje:5815
X-WR-TIMEZONE:Europe/Ljubljana
END:VEVENT
BEGIN:VEVENT
SUMMARY:Seminar Holography\, strings and transport ()\, Predavanja (P)
DTSTART;TZID=Europe/Ljubljana:20210427T160000
DTEND;TZID=Europe/Ljubljana:20210427T180000
DTSTAMP:20260425T114144Z
UID:fmf-AFLABS-URNIK:premaknjeno-srecanje:101122
CATEGORIES:Entry,Standard
COLOR:darkgreen
DESCRIPTION:Predmet: Seminar Holography\, strings and transport ()\, Preda
 vanja (P)\nLetniki: \nIzvajalci: Peter Križan\nProstor: Kuščerjev semin
 ar
LOCATION:Kuščerjev seminar
ORGANIZER:Peter Križan
RELATED-TO:fmf-AFLABS-URNIK:srecanje:5815
X-WR-TIMEZONE:Europe/Ljubljana
END:VEVENT
BEGIN:VEVENT
SUMMARY:Seminar Holography\, strings and transport ()\, Predavanja (P)
DTSTART;TZID=Europe/Ljubljana:20210504T160000
DTEND;TZID=Europe/Ljubljana:20210504T180000
DTSTAMP:20260425T114144Z
UID:fmf-AFLABS-URNIK:premaknjeno-srecanje:101123
CATEGORIES:Entry,Standard
COLOR:darkgreen
DESCRIPTION:Predmet: Seminar Holography\, strings and transport ()\, Preda
 vanja (P)\nLetniki: \nIzvajalci: Peter Križan\nProstor: Kuščerjev semin
 ar
LOCATION:Kuščerjev seminar
ORGANIZER:Peter Križan
RELATED-TO:fmf-AFLABS-URNIK:srecanje:5815
X-WR-TIMEZONE:Europe/Ljubljana
END:VEVENT
BEGIN:VEVENT
SUMMARY:Seminar Holography\, strings and transport ()\, Predavanja (P)
DTSTART;TZID=Europe/Ljubljana:20210511T160000
DTEND;TZID=Europe/Ljubljana:20210511T180000
DTSTAMP:20260425T114144Z
UID:fmf-AFLABS-URNIK:premaknjeno-srecanje:101124
CATEGORIES:Entry,Standard
COLOR:darkgreen
DESCRIPTION:Predmet: Seminar Holography\, strings and transport ()\, Preda
 vanja (P)\nLetniki: \nIzvajalci: Peter Križan\nProstor: Kuščerjev semin
 ar
LOCATION:Kuščerjev seminar
ORGANIZER:Peter Križan
RELATED-TO:fmf-AFLABS-URNIK:srecanje:5815
X-WR-TIMEZONE:Europe/Ljubljana
END:VEVENT
BEGIN:VEVENT
SUMMARY:Seminar Holography\, strings and transport ()\, Predavanja (P)
DTSTART;TZID=Europe/Ljubljana:20210518T160000
DTEND;TZID=Europe/Ljubljana:20210518T180000
DTSTAMP:20260425T114144Z
UID:fmf-AFLABS-URNIK:premaknjeno-srecanje:101125
CATEGORIES:Entry,Standard
COLOR:darkgreen
DESCRIPTION:Predmet: Seminar Holography\, strings and transport ()\, Preda
 vanja (P)\nLetniki: \nIzvajalci: Peter Križan\nProstor: Kuščerjev semin
 ar
LOCATION:Kuščerjev seminar
ORGANIZER:Peter Križan
RELATED-TO:fmf-AFLABS-URNIK:srecanje:5815
X-WR-TIMEZONE:Europe/Ljubljana
END:VEVENT
BEGIN:VEVENT
SUMMARY:Seminar Holography\, strings and transport ()\, Predavanja (P)
DTSTART;TZID=Europe/Ljubljana:20210525T160000
DTEND;TZID=Europe/Ljubljana:20210525T180000
DTSTAMP:20260425T114144Z
UID:fmf-AFLABS-URNIK:premaknjeno-srecanje:101126
CATEGORIES:Entry,Standard
COLOR:darkgreen
DESCRIPTION:Predmet: Seminar Holography\, strings and transport ()\, Preda
 vanja (P)\nLetniki: \nIzvajalci: Peter Križan\nProstor: Kuščerjev semin
 ar
LOCATION:Kuščerjev seminar
ORGANIZER:Peter Križan
RELATED-TO:fmf-AFLABS-URNIK:srecanje:5815
X-WR-TIMEZONE:Europe/Ljubljana
END:VEVENT
END:VCALENDAR
