BEGIN:VCALENDAR
VERSION:2.0
PRODID:-//AFLabs urnik izvoz - fmf//aflabs.si//SI
DTSTAMP:20260423T182713Z
NAME:UL FMF urnik
REFRESH-INTERVAL:PT1H
SOURCE:https://urnik.fmf.uni-lj.si/teacher/122?day=2021-09-27&export=1
URL:https://urnik.fmf.uni-lj.si/teacher/122?day=2021-09-27&export=1
X-PUBLISHED-TTL:PT1H
X-WR-CALNAME:UL FMF urnik
X-WR-TIMEZONE:Europe/Ljubljana
BEGIN:VTIMEZONE
TZID:Europe/Ljubljana
BEGIN:DAYLIGHT
DTSTART:20260329T020000
RDATE:20260329T020000
RDATE:20270328T020000
TZNAME:CEST
TZOFFSETFROM:+0100
TZOFFSETTO:+0200
END:DAYLIGHT
BEGIN:STANDARD
DTSTART:20261025T030000
RDATE:20261025T030000
RDATE:20271031T030000
TZNAME:CET
TZOFFSETFROM:+0200
TZOFFSETTO:+0100
END:STANDARD
END:VTIMEZONE
BEGIN:VEVENT
SUMMARY:Eksperimentalna fizika delcev in jedra (FIZ-M2\, MEF-1\, MEF-2)\, 
 Predavanja (P)
DTSTART;TZID=Europe/Ljubljana:20211005T140000
DTEND;TZID=Europe/Ljubljana:20211005T160000
DTSTAMP:20260423T182713Z
UID:fmf-AFLABS-URNIK:premaknjeno-srecanje:17639
ATTENDEE:1. letnik (Medicinska fizika, 2. stopnja)
ATTENDEE:2. letnik (Fizika, 2. stopnja)
ATTENDEE:2. letnik (Medicinska fizika, 2. stopnja)
CATEGORIES:Entry,Standard
COLOR:darkgreen
DESCRIPTION:Predmet: Eksperimentalna fizika delcev in jedra (FIZ-M2\, MEF-
 1\, MEF-2)\, Predavanja (P)\nLetniki: 2. letnik (Fizika\, 2. stopnja)\, 1.
  letnik (Medicinska fizika\, 2. stopnja)\, 2. letnik (Medicinska fizika\, 
 2. stopnja)\nIzvajalci: Peter Križan\nProstor: F3
LOCATION:F3
ORGANIZER:Peter Križan
RELATED-TO:fmf-AFLABS-URNIK:srecanje:6170
X-WR-TIMEZONE:Europe/Ljubljana
END:VEVENT
BEGIN:VEVENT
SUMMARY:Eksperimentalna fizika delcev in jedra (FIZ-M2\, MEF-1\, MEF-2)\, 
 Predavanja (P)
DTSTART;TZID=Europe/Ljubljana:20211012T140000
DTEND;TZID=Europe/Ljubljana:20211012T160000
DTSTAMP:20260423T182713Z
UID:fmf-AFLABS-URNIK:premaknjeno-srecanje:17640
ATTENDEE:1. letnik (Medicinska fizika, 2. stopnja)
ATTENDEE:2. letnik (Fizika, 2. stopnja)
ATTENDEE:2. letnik (Medicinska fizika, 2. stopnja)
CATEGORIES:Entry,Standard
COLOR:darkgreen
DESCRIPTION:Predmet: Eksperimentalna fizika delcev in jedra (FIZ-M2\, MEF-
 1\, MEF-2)\, Predavanja (P)\nLetniki: 2. letnik (Fizika\, 2. stopnja)\, 1.
  letnik (Medicinska fizika\, 2. stopnja)\, 2. letnik (Medicinska fizika\, 
 2. stopnja)\nIzvajalci: Peter Križan\nProstor: F3
LOCATION:F3
ORGANIZER:Peter Križan
RELATED-TO:fmf-AFLABS-URNIK:srecanje:6170
X-WR-TIMEZONE:Europe/Ljubljana
END:VEVENT
BEGIN:VEVENT
SUMMARY:Eksperimentalna fizika delcev in jedra (FIZ-M2\, MEF-1\, MEF-2)\, 
 Predavanja (P)
DTSTART;TZID=Europe/Ljubljana:20211019T140000
DTEND;TZID=Europe/Ljubljana:20211019T160000
DTSTAMP:20260423T182713Z
UID:fmf-AFLABS-URNIK:premaknjeno-srecanje:17641
ATTENDEE:1. letnik (Medicinska fizika, 2. stopnja)
ATTENDEE:2. letnik (Fizika, 2. stopnja)
ATTENDEE:2. letnik (Medicinska fizika, 2. stopnja)
CATEGORIES:Entry,Standard
COLOR:darkgreen
DESCRIPTION:Predmet: Eksperimentalna fizika delcev in jedra (FIZ-M2\, MEF-
 1\, MEF-2)\, Predavanja (P)\nLetniki: 2. letnik (Fizika\, 2. stopnja)\, 1.
  letnik (Medicinska fizika\, 2. stopnja)\, 2. letnik (Medicinska fizika\, 
 2. stopnja)\nIzvajalci: Peter Križan\nProstor: F3
LOCATION:F3
ORGANIZER:Peter Križan
RELATED-TO:fmf-AFLABS-URNIK:srecanje:6170
X-WR-TIMEZONE:Europe/Ljubljana
END:VEVENT
BEGIN:VEVENT
SUMMARY:Eksperimentalna fizika delcev in jedra (FIZ-M2\, MEF-1\, MEF-2)\, 
 Predavanja (P)
DTSTART;TZID=Europe/Ljubljana:20211026T140000
DTEND;TZID=Europe/Ljubljana:20211026T160000
DTSTAMP:20260423T182713Z
UID:fmf-AFLABS-URNIK:premaknjeno-srecanje:17642
ATTENDEE:1. letnik (Medicinska fizika, 2. stopnja)
ATTENDEE:2. letnik (Fizika, 2. stopnja)
ATTENDEE:2. letnik (Medicinska fizika, 2. stopnja)
CATEGORIES:Entry,Standard
COLOR:darkgreen
DESCRIPTION:Predmet: Eksperimentalna fizika delcev in jedra (FIZ-M2\, MEF-
 1\, MEF-2)\, Predavanja (P)\nLetniki: 2. letnik (Fizika\, 2. stopnja)\, 1.
  letnik (Medicinska fizika\, 2. stopnja)\, 2. letnik (Medicinska fizika\, 
 2. stopnja)\nIzvajalci: Peter Križan\nProstor: F3
LOCATION:F3
ORGANIZER:Peter Križan
RELATED-TO:fmf-AFLABS-URNIK:srecanje:6170
X-WR-TIMEZONE:Europe/Ljubljana
END:VEVENT
BEGIN:VEVENT
SUMMARY:Podiplomski seminar (FIZ-D)\, Seminar (S)
DTSTART;TZID=Europe/Ljubljana:20211005T160000
DTEND;TZID=Europe/Ljubljana:20211005T180000
DTSTAMP:20260423T182713Z
UID:fmf-AFLABS-URNIK:premaknjeno-srecanje:83350
ATTENDEE:doktorski študij (Fizika, 3. stopnja)
CATEGORIES:Entry,Standard
COLOR:darkgreen
DESCRIPTION:Predmet: Podiplomski seminar (FIZ-D)\, Seminar (S)\nLetniki: d
 oktorski študij (Fizika\, 3. stopnja)\nIzvajalci: Peter Križan\nProstor:
  Kuščerjev seminar
LOCATION:Kuščerjev seminar
ORGANIZER:Peter Križan
RELATED-TO:fmf-AFLABS-URNIK:srecanje:6489
X-WR-TIMEZONE:Europe/Ljubljana
END:VEVENT
BEGIN:VEVENT
SUMMARY:Podiplomski seminar (FIZ-D)\, Seminar (S)
DTSTART;TZID=Europe/Ljubljana:20211012T160000
DTEND;TZID=Europe/Ljubljana:20211012T180000
DTSTAMP:20260423T182713Z
UID:fmf-AFLABS-URNIK:premaknjeno-srecanje:83351
ATTENDEE:doktorski študij (Fizika, 3. stopnja)
CATEGORIES:Entry,Standard
COLOR:darkgreen
DESCRIPTION:Predmet: Podiplomski seminar (FIZ-D)\, Seminar (S)\nLetniki: d
 oktorski študij (Fizika\, 3. stopnja)\nIzvajalci: Peter Križan\nProstor:
  Kuščerjev seminar
LOCATION:Kuščerjev seminar
ORGANIZER:Peter Križan
RELATED-TO:fmf-AFLABS-URNIK:srecanje:6489
X-WR-TIMEZONE:Europe/Ljubljana
END:VEVENT
BEGIN:VEVENT
SUMMARY:Podiplomski seminar (FIZ-D)\, Seminar (S)
DTSTART;TZID=Europe/Ljubljana:20211019T160000
DTEND;TZID=Europe/Ljubljana:20211019T180000
DTSTAMP:20260423T182713Z
UID:fmf-AFLABS-URNIK:premaknjeno-srecanje:83352
ATTENDEE:doktorski študij (Fizika, 3. stopnja)
CATEGORIES:Entry,Standard
COLOR:darkgreen
DESCRIPTION:Predmet: Podiplomski seminar (FIZ-D)\, Seminar (S)\nLetniki: d
 oktorski študij (Fizika\, 3. stopnja)\nIzvajalci: Peter Križan\nProstor:
  Kuščerjev seminar
LOCATION:Kuščerjev seminar
ORGANIZER:Peter Križan
RELATED-TO:fmf-AFLABS-URNIK:srecanje:6489
X-WR-TIMEZONE:Europe/Ljubljana
END:VEVENT
BEGIN:VEVENT
SUMMARY:Podiplomski seminar (FIZ-D)\, Seminar (S)
DTSTART;TZID=Europe/Ljubljana:20211026T160000
DTEND;TZID=Europe/Ljubljana:20211026T180000
DTSTAMP:20260423T182713Z
UID:fmf-AFLABS-URNIK:premaknjeno-srecanje:83353
ATTENDEE:doktorski študij (Fizika, 3. stopnja)
CATEGORIES:Entry,Standard
COLOR:darkgreen
DESCRIPTION:Predmet: Podiplomski seminar (FIZ-D)\, Seminar (S)\nLetniki: d
 oktorski študij (Fizika\, 3. stopnja)\nIzvajalci: Peter Križan\nProstor:
  Kuščerjev seminar
LOCATION:Kuščerjev seminar
ORGANIZER:Peter Križan
RELATED-TO:fmf-AFLABS-URNIK:srecanje:6489
X-WR-TIMEZONE:Europe/Ljubljana
END:VEVENT
BEGIN:VEVENT
SUMMARY:Podiplomski seminar (FIZ-D)\, Seminar (S)
DTSTART;TZID=Europe/Ljubljana:20211007T090000
DTEND;TZID=Europe/Ljubljana:20211007T120000
DTSTAMP:20260423T182713Z
UID:fmf-AFLABS-URNIK:premaknjeno-srecanje:83397
ATTENDEE:doktorski študij (Fizika, 3. stopnja)
CATEGORIES:Entry,Standard
COLOR:darkgreen
DESCRIPTION:Predmet: Podiplomski seminar (FIZ-D)\, Seminar (S)\nLetniki: d
 oktorski študij (Fizika\, 3. stopnja)\nIzvajalci: Peter Križan\nProstor:
  Kuščerjev seminar
LOCATION:Kuščerjev seminar
ORGANIZER:Peter Križan
RELATED-TO:fmf-AFLABS-URNIK:srecanje:6490
X-WR-TIMEZONE:Europe/Ljubljana
END:VEVENT
BEGIN:VEVENT
SUMMARY:Podiplomski seminar (FIZ-D)\, Seminar (S)
DTSTART;TZID=Europe/Ljubljana:20211014T090000
DTEND;TZID=Europe/Ljubljana:20211014T120000
DTSTAMP:20260423T182713Z
UID:fmf-AFLABS-URNIK:premaknjeno-srecanje:83398
ATTENDEE:doktorski študij (Fizika, 3. stopnja)
CATEGORIES:Entry,Standard
COLOR:darkgreen
DESCRIPTION:Predmet: Podiplomski seminar (FIZ-D)\, Seminar (S)\nLetniki: d
 oktorski študij (Fizika\, 3. stopnja)\nIzvajalci: Peter Križan\nProstor:
  Kuščerjev seminar
LOCATION:Kuščerjev seminar
ORGANIZER:Peter Križan
RELATED-TO:fmf-AFLABS-URNIK:srecanje:6490
X-WR-TIMEZONE:Europe/Ljubljana
END:VEVENT
BEGIN:VEVENT
SUMMARY:Podiplomski seminar (FIZ-D)\, Seminar (S)
DTSTART;TZID=Europe/Ljubljana:20211021T090000
DTEND;TZID=Europe/Ljubljana:20211021T120000
DTSTAMP:20260423T182713Z
UID:fmf-AFLABS-URNIK:premaknjeno-srecanje:83399
ATTENDEE:doktorski študij (Fizika, 3. stopnja)
CATEGORIES:Entry,Standard
COLOR:darkgreen
DESCRIPTION:Predmet: Podiplomski seminar (FIZ-D)\, Seminar (S)\nLetniki: d
 oktorski študij (Fizika\, 3. stopnja)\nIzvajalci: Peter Križan\nProstor:
  Kuščerjev seminar
LOCATION:Kuščerjev seminar
ORGANIZER:Peter Križan
RELATED-TO:fmf-AFLABS-URNIK:srecanje:6490
X-WR-TIMEZONE:Europe/Ljubljana
END:VEVENT
BEGIN:VEVENT
SUMMARY:Podiplomski seminar (FIZ-D)\, Seminar (S)
DTSTART;TZID=Europe/Ljubljana:20211028T090000
DTEND;TZID=Europe/Ljubljana:20211028T120000
DTSTAMP:20260423T182713Z
UID:fmf-AFLABS-URNIK:premaknjeno-srecanje:83400
ATTENDEE:doktorski študij (Fizika, 3. stopnja)
CATEGORIES:Entry,Standard
COLOR:darkgreen
DESCRIPTION:Predmet: Podiplomski seminar (FIZ-D)\, Seminar (S)\nLetniki: d
 oktorski študij (Fizika\, 3. stopnja)\nIzvajalci: Peter Križan\nProstor:
  Kuščerjev seminar
LOCATION:Kuščerjev seminar
ORGANIZER:Peter Križan
RELATED-TO:fmf-AFLABS-URNIK:srecanje:6490
X-WR-TIMEZONE:Europe/Ljubljana
END:VEVENT
BEGIN:VEVENT
SUMMARY:Rezervacija
DTSTART;TZID=Europe/Ljubljana:20210902T110000
DTEND;TZID=Europe/Ljubljana:20210902T130000
DTSTAMP:20260423T182713Z
UID:fmf-AFLABS-URNIK:rezervacija:7638
CATEGORIES:Reservation
COLOR:royalblue
DESCRIPTION:Predmeti: \nLetniki: \nIzvajalci: Peter Križan\nProstori: F7
LOCATION:F7
ORGANIZER:Peter Križan
X-WR-TIMEZONE:Europe/Ljubljana
END:VEVENT
END:VCALENDAR
