BEGIN:VCALENDAR
VERSION:2.0
PRODID:-//AFLabs urnik izvoz - fmf//aflabs.si//SI
DTSTAMP:20260421T195425Z
NAME:UL FMF urnik
REFRESH-INTERVAL:PT1H
SOURCE:https://urnik.fmf.uni-lj.si/teacher/122?day=2023-05-29&export=1
URL:https://urnik.fmf.uni-lj.si/teacher/122?day=2023-05-29&export=1
X-PUBLISHED-TTL:PT1H
X-WR-CALNAME:UL FMF urnik
X-WR-TIMEZONE:Europe/Ljubljana
BEGIN:VTIMEZONE
TZID:Europe/Ljubljana
BEGIN:DAYLIGHT
DTSTART:20260329T020000
RDATE:20260329T020000
RDATE:20270328T020000
TZNAME:CEST
TZOFFSETFROM:+0100
TZOFFSETTO:+0200
END:DAYLIGHT
BEGIN:STANDARD
DTSTART:20261025T030000
RDATE:20261025T030000
RDATE:20271031T030000
TZNAME:CET
TZOFFSETFROM:+0200
TZOFFSETTO:+0100
END:STANDARD
END:VTIMEZONE
BEGIN:VEVENT
SUMMARY:Podiplomski seminar (FIZ-D)\, Seminar (S)
DTSTART;TZID=Europe/Ljubljana:20230214T150000
DTEND;TZID=Europe/Ljubljana:20230214T180000
DTSTAMP:20260421T195425Z
UID:fmf-AFLABS-URNIK:premaknjeno-srecanje:83334
ATTENDEE:doktorski študij (Fizika, 3. stopnja)
CATEGORIES:Entry,Standard
COLOR:darkgreen
DESCRIPTION:Predmet: Podiplomski seminar (FIZ-D)\, Seminar (S)\nLetniki: d
 oktorski študij (Fizika\, 3. stopnja)\nIzvajalci: Peter Križan\nProstor:
  F1
LOCATION:F1
ORGANIZER:Peter Križan
RELATED-TO:fmf-AFLABS-URNIK:srecanje:8430
X-WR-TIMEZONE:Europe/Ljubljana
END:VEVENT
BEGIN:VEVENT
SUMMARY:Podiplomski seminar (FIZ-D)\, Seminar (S)
DTSTART;TZID=Europe/Ljubljana:20230221T150000
DTEND;TZID=Europe/Ljubljana:20230221T180000
DTSTAMP:20260421T195425Z
UID:fmf-AFLABS-URNIK:premaknjeno-srecanje:83335
ATTENDEE:doktorski študij (Fizika, 3. stopnja)
CATEGORIES:Entry,Standard
COLOR:darkgreen
DESCRIPTION:Predmet: Podiplomski seminar (FIZ-D)\, Seminar (S)\nLetniki: d
 oktorski študij (Fizika\, 3. stopnja)\nIzvajalci: Peter Križan\nProstor:
  F1
LOCATION:F1
ORGANIZER:Peter Križan
RELATED-TO:fmf-AFLABS-URNIK:srecanje:8430
X-WR-TIMEZONE:Europe/Ljubljana
END:VEVENT
BEGIN:VEVENT
SUMMARY:Podiplomski seminar (FIZ-D)\, Seminar (S)
DTSTART;TZID=Europe/Ljubljana:20230228T150000
DTEND;TZID=Europe/Ljubljana:20230228T180000
DTSTAMP:20260421T195425Z
UID:fmf-AFLABS-URNIK:premaknjeno-srecanje:83336
ATTENDEE:doktorski študij (Fizika, 3. stopnja)
CATEGORIES:Entry,Standard
COLOR:darkgreen
DESCRIPTION:Predmet: Podiplomski seminar (FIZ-D)\, Seminar (S)\nLetniki: d
 oktorski študij (Fizika\, 3. stopnja)\nIzvajalci: Peter Križan\nProstor:
  F1
LOCATION:F1
ORGANIZER:Peter Križan
RELATED-TO:fmf-AFLABS-URNIK:srecanje:8430
X-WR-TIMEZONE:Europe/Ljubljana
END:VEVENT
BEGIN:VEVENT
SUMMARY:Podiplomski seminar (FIZ-D)\, Seminar (S)
DTSTART;TZID=Europe/Ljubljana:20230307T150000
DTEND;TZID=Europe/Ljubljana:20230307T180000
DTSTAMP:20260421T195425Z
UID:fmf-AFLABS-URNIK:premaknjeno-srecanje:83337
ATTENDEE:doktorski študij (Fizika, 3. stopnja)
CATEGORIES:Entry,Standard
COLOR:darkgreen
DESCRIPTION:Predmet: Podiplomski seminar (FIZ-D)\, Seminar (S)\nLetniki: d
 oktorski študij (Fizika\, 3. stopnja)\nIzvajalci: Peter Križan\nProstor:
  F1
LOCATION:F1
ORGANIZER:Peter Križan
RELATED-TO:fmf-AFLABS-URNIK:srecanje:8430
X-WR-TIMEZONE:Europe/Ljubljana
END:VEVENT
BEGIN:VEVENT
SUMMARY:Podiplomski seminar (FIZ-D)\, Seminar (S)
DTSTART;TZID=Europe/Ljubljana:20230314T150000
DTEND;TZID=Europe/Ljubljana:20230314T180000
DTSTAMP:20260421T195425Z
UID:fmf-AFLABS-URNIK:premaknjeno-srecanje:83338
ATTENDEE:doktorski študij (Fizika, 3. stopnja)
CATEGORIES:Entry,Standard
COLOR:darkgreen
DESCRIPTION:Predmet: Podiplomski seminar (FIZ-D)\, Seminar (S)\nLetniki: d
 oktorski študij (Fizika\, 3. stopnja)\nIzvajalci: Peter Križan\nProstor:
  F1
LOCATION:F1
ORGANIZER:Peter Križan
RELATED-TO:fmf-AFLABS-URNIK:srecanje:8430
X-WR-TIMEZONE:Europe/Ljubljana
END:VEVENT
BEGIN:VEVENT
SUMMARY:Podiplomski seminar (FIZ-D)\, Seminar (S)
DTSTART;TZID=Europe/Ljubljana:20230321T150000
DTEND;TZID=Europe/Ljubljana:20230321T180000
DTSTAMP:20260421T195425Z
UID:fmf-AFLABS-URNIK:premaknjeno-srecanje:83339
ATTENDEE:doktorski študij (Fizika, 3. stopnja)
CATEGORIES:Entry,Standard
COLOR:darkgreen
DESCRIPTION:Predmet: Podiplomski seminar (FIZ-D)\, Seminar (S)\nLetniki: d
 oktorski študij (Fizika\, 3. stopnja)\nIzvajalci: Peter Križan\nProstor:
  F1
LOCATION:F1
ORGANIZER:Peter Križan
RELATED-TO:fmf-AFLABS-URNIK:srecanje:8430
X-WR-TIMEZONE:Europe/Ljubljana
END:VEVENT
BEGIN:VEVENT
SUMMARY:Podiplomski seminar (FIZ-D)\, Seminar (S)
DTSTART;TZID=Europe/Ljubljana:20230328T150000
DTEND;TZID=Europe/Ljubljana:20230328T180000
DTSTAMP:20260421T195425Z
UID:fmf-AFLABS-URNIK:premaknjeno-srecanje:83340
ATTENDEE:doktorski študij (Fizika, 3. stopnja)
CATEGORIES:Entry,Standard
COLOR:darkgreen
DESCRIPTION:Predmet: Podiplomski seminar (FIZ-D)\, Seminar (S)\nLetniki: d
 oktorski študij (Fizika\, 3. stopnja)\nIzvajalci: Peter Križan\nProstor:
  F1
LOCATION:F1
ORGANIZER:Peter Križan
RELATED-TO:fmf-AFLABS-URNIK:srecanje:8430
X-WR-TIMEZONE:Europe/Ljubljana
END:VEVENT
BEGIN:VEVENT
SUMMARY:Podiplomski seminar (FIZ-D)\, Seminar (S)
DTSTART;TZID=Europe/Ljubljana:20230404T150000
DTEND;TZID=Europe/Ljubljana:20230404T180000
DTSTAMP:20260421T195425Z
UID:fmf-AFLABS-URNIK:premaknjeno-srecanje:83341
ATTENDEE:doktorski študij (Fizika, 3. stopnja)
CATEGORIES:Entry,Standard
COLOR:darkgreen
DESCRIPTION:Predmet: Podiplomski seminar (FIZ-D)\, Seminar (S)\nLetniki: d
 oktorski študij (Fizika\, 3. stopnja)\nIzvajalci: Peter Križan\nProstor:
  F1
LOCATION:F1
ORGANIZER:Peter Križan
RELATED-TO:fmf-AFLABS-URNIK:srecanje:8430
X-WR-TIMEZONE:Europe/Ljubljana
END:VEVENT
BEGIN:VEVENT
SUMMARY:Podiplomski seminar (FIZ-D)\, Seminar (S)
DTSTART;TZID=Europe/Ljubljana:20230411T150000
DTEND;TZID=Europe/Ljubljana:20230411T180000
DTSTAMP:20260421T195425Z
UID:fmf-AFLABS-URNIK:premaknjeno-srecanje:83342
ATTENDEE:doktorski študij (Fizika, 3. stopnja)
CATEGORIES:Entry,Standard
COLOR:darkgreen
DESCRIPTION:Predmet: Podiplomski seminar (FIZ-D)\, Seminar (S)\nLetniki: d
 oktorski študij (Fizika\, 3. stopnja)\nIzvajalci: Peter Križan\nProstor:
  F1
LOCATION:F1
ORGANIZER:Peter Križan
RELATED-TO:fmf-AFLABS-URNIK:srecanje:8430
X-WR-TIMEZONE:Europe/Ljubljana
END:VEVENT
BEGIN:VEVENT
SUMMARY:Podiplomski seminar (FIZ-D)\, Seminar (S)
DTSTART;TZID=Europe/Ljubljana:20230418T150000
DTEND;TZID=Europe/Ljubljana:20230418T180000
DTSTAMP:20260421T195425Z
UID:fmf-AFLABS-URNIK:premaknjeno-srecanje:83343
ATTENDEE:doktorski študij (Fizika, 3. stopnja)
CATEGORIES:Entry,Standard
COLOR:darkgreen
DESCRIPTION:Predmet: Podiplomski seminar (FIZ-D)\, Seminar (S)\nLetniki: d
 oktorski študij (Fizika\, 3. stopnja)\nIzvajalci: Peter Križan\nProstor:
  F1
LOCATION:F1
ORGANIZER:Peter Križan
RELATED-TO:fmf-AFLABS-URNIK:srecanje:8430
X-WR-TIMEZONE:Europe/Ljubljana
END:VEVENT
BEGIN:VEVENT
SUMMARY:Podiplomski seminar (FIZ-D)\, Seminar (S)
DTSTART;TZID=Europe/Ljubljana:20230425T150000
DTEND;TZID=Europe/Ljubljana:20230425T180000
DTSTAMP:20260421T195425Z
UID:fmf-AFLABS-URNIK:premaknjeno-srecanje:83344
ATTENDEE:doktorski študij (Fizika, 3. stopnja)
CATEGORIES:Entry,Standard
COLOR:darkgreen
DESCRIPTION:Predmet: Podiplomski seminar (FIZ-D)\, Seminar (S)\nLetniki: d
 oktorski študij (Fizika\, 3. stopnja)\nIzvajalci: Peter Križan\nProstor:
  F1
LOCATION:F1
ORGANIZER:Peter Križan
RELATED-TO:fmf-AFLABS-URNIK:srecanje:8430
X-WR-TIMEZONE:Europe/Ljubljana
END:VEVENT
BEGIN:VEVENT
SUMMARY:Podiplomski seminar (FIZ-D)\, Seminar (S)
DTSTART;TZID=Europe/Ljubljana:20230502T150000
DTEND;TZID=Europe/Ljubljana:20230502T180000
DTSTAMP:20260421T195425Z
UID:fmf-AFLABS-URNIK:premaknjeno-srecanje:83345
ATTENDEE:doktorski študij (Fizika, 3. stopnja)
CATEGORIES:Entry,Standard
COLOR:darkgreen
DESCRIPTION:Predmet: Podiplomski seminar (FIZ-D)\, Seminar (S)\nLetniki: d
 oktorski študij (Fizika\, 3. stopnja)\nIzvajalci: Peter Križan\nProstor:
  F1
LOCATION:F1
ORGANIZER:Peter Križan
RELATED-TO:fmf-AFLABS-URNIK:srecanje:8430
X-WR-TIMEZONE:Europe/Ljubljana
END:VEVENT
BEGIN:VEVENT
SUMMARY:Podiplomski seminar (FIZ-D)\, Seminar (S)
DTSTART;TZID=Europe/Ljubljana:20230509T150000
DTEND;TZID=Europe/Ljubljana:20230509T180000
DTSTAMP:20260421T195425Z
UID:fmf-AFLABS-URNIK:premaknjeno-srecanje:83346
ATTENDEE:doktorski študij (Fizika, 3. stopnja)
CATEGORIES:Entry,Standard
COLOR:darkgreen
DESCRIPTION:Predmet: Podiplomski seminar (FIZ-D)\, Seminar (S)\nLetniki: d
 oktorski študij (Fizika\, 3. stopnja)\nIzvajalci: Peter Križan\nProstor:
  F1
LOCATION:F1
ORGANIZER:Peter Križan
RELATED-TO:fmf-AFLABS-URNIK:srecanje:8430
X-WR-TIMEZONE:Europe/Ljubljana
END:VEVENT
BEGIN:VEVENT
SUMMARY:Podiplomski seminar (FIZ-D)\, Seminar (S)
DTSTART;TZID=Europe/Ljubljana:20230516T150000
DTEND;TZID=Europe/Ljubljana:20230516T180000
DTSTAMP:20260421T195425Z
UID:fmf-AFLABS-URNIK:premaknjeno-srecanje:83347
ATTENDEE:doktorski študij (Fizika, 3. stopnja)
CATEGORIES:Entry,Standard
COLOR:darkgreen
DESCRIPTION:Predmet: Podiplomski seminar (FIZ-D)\, Seminar (S)\nLetniki: d
 oktorski študij (Fizika\, 3. stopnja)\nIzvajalci: Peter Križan\nProstor:
  F1
LOCATION:F1
ORGANIZER:Peter Križan
RELATED-TO:fmf-AFLABS-URNIK:srecanje:8430
X-WR-TIMEZONE:Europe/Ljubljana
END:VEVENT
BEGIN:VEVENT
SUMMARY:Podiplomski seminar (FIZ-D)\, Seminar (S)
DTSTART;TZID=Europe/Ljubljana:20230523T150000
DTEND;TZID=Europe/Ljubljana:20230523T180000
DTSTAMP:20260421T195425Z
UID:fmf-AFLABS-URNIK:premaknjeno-srecanje:83348
ATTENDEE:doktorski študij (Fizika, 3. stopnja)
CATEGORIES:Entry,Standard
COLOR:darkgreen
DESCRIPTION:Predmet: Podiplomski seminar (FIZ-D)\, Seminar (S)\nLetniki: d
 oktorski študij (Fizika\, 3. stopnja)\nIzvajalci: Peter Križan\nProstor:
  F1
LOCATION:F1
ORGANIZER:Peter Križan
RELATED-TO:fmf-AFLABS-URNIK:srecanje:8430
X-WR-TIMEZONE:Europe/Ljubljana
END:VEVENT
BEGIN:VEVENT
SUMMARY:Podiplomski seminar (FIZ-D)\, Seminar (S)
DTSTART;TZID=Europe/Ljubljana:20230530T150000
DTEND;TZID=Europe/Ljubljana:20230530T180000
DTSTAMP:20260421T195425Z
UID:fmf-AFLABS-URNIK:premaknjeno-srecanje:83349
ATTENDEE:doktorski študij (Fizika, 3. stopnja)
CATEGORIES:Entry,Standard
COLOR:darkgreen
DESCRIPTION:Predmet: Podiplomski seminar (FIZ-D)\, Seminar (S)\nLetniki: d
 oktorski študij (Fizika\, 3. stopnja)\nIzvajalci: Peter Križan\nProstor:
  F1
LOCATION:F1
ORGANIZER:Peter Križan
RELATED-TO:fmf-AFLABS-URNIK:srecanje:8430
X-WR-TIMEZONE:Europe/Ljubljana
END:VEVENT
BEGIN:VEVENT
SUMMARY:Podiplomski seminar (FIZ-D)\, Seminar (S)
DTSTART;TZID=Europe/Ljubljana:20230216T160000
DTEND;TZID=Europe/Ljubljana:20230216T180000
DTSTAMP:20260421T195425Z
UID:fmf-AFLABS-URNIK:premaknjeno-srecanje:83428
ATTENDEE:doktorski študij (Fizika, 3. stopnja)
CATEGORIES:Entry,Standard
COLOR:darkgreen
DESCRIPTION:Predmet: Podiplomski seminar (FIZ-D)\, Seminar (S)\nLetniki: d
 oktorski študij (Fizika\, 3. stopnja)\nIzvajalci: Peter Križan\nProstor:
  Kuščerjev seminar
LOCATION:Kuščerjev seminar
ORGANIZER:Peter Križan
RELATED-TO:fmf-AFLABS-URNIK:srecanje:8885
X-WR-TIMEZONE:Europe/Ljubljana
END:VEVENT
BEGIN:VEVENT
SUMMARY:Podiplomski seminar (FIZ-D)\, Seminar (S)
DTSTART;TZID=Europe/Ljubljana:20230223T160000
DTEND;TZID=Europe/Ljubljana:20230223T180000
DTSTAMP:20260421T195425Z
UID:fmf-AFLABS-URNIK:premaknjeno-srecanje:83429
ATTENDEE:doktorski študij (Fizika, 3. stopnja)
CATEGORIES:Entry,Standard
COLOR:darkgreen
DESCRIPTION:Predmet: Podiplomski seminar (FIZ-D)\, Seminar (S)\nLetniki: d
 oktorski študij (Fizika\, 3. stopnja)\nIzvajalci: Peter Križan\nProstor:
  Kuščerjev seminar
LOCATION:Kuščerjev seminar
ORGANIZER:Peter Križan
RELATED-TO:fmf-AFLABS-URNIK:srecanje:8885
X-WR-TIMEZONE:Europe/Ljubljana
END:VEVENT
BEGIN:VEVENT
SUMMARY:Podiplomski seminar (FIZ-D)\, Seminar (S)
DTSTART;TZID=Europe/Ljubljana:20230302T160000
DTEND;TZID=Europe/Ljubljana:20230302T180000
DTSTAMP:20260421T195425Z
UID:fmf-AFLABS-URNIK:premaknjeno-srecanje:83430
ATTENDEE:doktorski študij (Fizika, 3. stopnja)
CATEGORIES:Entry,Standard
COLOR:darkgreen
DESCRIPTION:Predmet: Podiplomski seminar (FIZ-D)\, Seminar (S)\nLetniki: d
 oktorski študij (Fizika\, 3. stopnja)\nIzvajalci: Peter Križan\nProstor:
  Kuščerjev seminar
LOCATION:Kuščerjev seminar
ORGANIZER:Peter Križan
RELATED-TO:fmf-AFLABS-URNIK:srecanje:8885
X-WR-TIMEZONE:Europe/Ljubljana
END:VEVENT
BEGIN:VEVENT
SUMMARY:Podiplomski seminar (FIZ-D)\, Seminar (S)
DTSTART;TZID=Europe/Ljubljana:20230309T160000
DTEND;TZID=Europe/Ljubljana:20230309T180000
DTSTAMP:20260421T195425Z
UID:fmf-AFLABS-URNIK:premaknjeno-srecanje:83431
ATTENDEE:doktorski študij (Fizika, 3. stopnja)
CATEGORIES:Entry,Standard
COLOR:darkgreen
DESCRIPTION:Predmet: Podiplomski seminar (FIZ-D)\, Seminar (S)\nLetniki: d
 oktorski študij (Fizika\, 3. stopnja)\nIzvajalci: Peter Križan\nProstor:
  Kuščerjev seminar
LOCATION:Kuščerjev seminar
ORGANIZER:Peter Križan
RELATED-TO:fmf-AFLABS-URNIK:srecanje:8885
X-WR-TIMEZONE:Europe/Ljubljana
END:VEVENT
BEGIN:VEVENT
SUMMARY:Podiplomski seminar (FIZ-D)\, Seminar (S)
DTSTART;TZID=Europe/Ljubljana:20230316T160000
DTEND;TZID=Europe/Ljubljana:20230316T180000
DTSTAMP:20260421T195425Z
UID:fmf-AFLABS-URNIK:premaknjeno-srecanje:83432
ATTENDEE:doktorski študij (Fizika, 3. stopnja)
CATEGORIES:Entry,Standard
COLOR:darkgreen
DESCRIPTION:Predmet: Podiplomski seminar (FIZ-D)\, Seminar (S)\nLetniki: d
 oktorski študij (Fizika\, 3. stopnja)\nIzvajalci: Peter Križan\nProstor:
  Kuščerjev seminar
LOCATION:Kuščerjev seminar
ORGANIZER:Peter Križan
RELATED-TO:fmf-AFLABS-URNIK:srecanje:8885
X-WR-TIMEZONE:Europe/Ljubljana
END:VEVENT
BEGIN:VEVENT
SUMMARY:Podiplomski seminar (FIZ-D)\, Seminar (S)
DTSTART;TZID=Europe/Ljubljana:20230323T160000
DTEND;TZID=Europe/Ljubljana:20230323T180000
DTSTAMP:20260421T195425Z
UID:fmf-AFLABS-URNIK:premaknjeno-srecanje:83433
ATTENDEE:doktorski študij (Fizika, 3. stopnja)
CATEGORIES:Entry,Standard
COLOR:darkgreen
DESCRIPTION:Predmet: Podiplomski seminar (FIZ-D)\, Seminar (S)\nLetniki: d
 oktorski študij (Fizika\, 3. stopnja)\nIzvajalci: Peter Križan\nProstor:
  Kuščerjev seminar
LOCATION:Kuščerjev seminar
ORGANIZER:Peter Križan
RELATED-TO:fmf-AFLABS-URNIK:srecanje:8885
X-WR-TIMEZONE:Europe/Ljubljana
END:VEVENT
BEGIN:VEVENT
SUMMARY:Podiplomski seminar (FIZ-D)\, Seminar (S)
DTSTART;TZID=Europe/Ljubljana:20230330T160000
DTEND;TZID=Europe/Ljubljana:20230330T180000
DTSTAMP:20260421T195425Z
UID:fmf-AFLABS-URNIK:premaknjeno-srecanje:83434
ATTENDEE:doktorski študij (Fizika, 3. stopnja)
CATEGORIES:Entry,Standard
COLOR:darkgreen
DESCRIPTION:Predmet: Podiplomski seminar (FIZ-D)\, Seminar (S)\nLetniki: d
 oktorski študij (Fizika\, 3. stopnja)\nIzvajalci: Peter Križan\nProstor:
  Kuščerjev seminar
LOCATION:Kuščerjev seminar
ORGANIZER:Peter Križan
RELATED-TO:fmf-AFLABS-URNIK:srecanje:8885
X-WR-TIMEZONE:Europe/Ljubljana
END:VEVENT
BEGIN:VEVENT
SUMMARY:Podiplomski seminar (FIZ-D)\, Seminar (S)
DTSTART;TZID=Europe/Ljubljana:20230406T160000
DTEND;TZID=Europe/Ljubljana:20230406T180000
DTSTAMP:20260421T195425Z
UID:fmf-AFLABS-URNIK:premaknjeno-srecanje:83435
ATTENDEE:doktorski študij (Fizika, 3. stopnja)
CATEGORIES:Entry,Standard
COLOR:darkgreen
DESCRIPTION:Predmet: Podiplomski seminar (FIZ-D)\, Seminar (S)\nLetniki: d
 oktorski študij (Fizika\, 3. stopnja)\nIzvajalci: Peter Križan\nProstor:
  Kuščerjev seminar
LOCATION:Kuščerjev seminar
ORGANIZER:Peter Križan
RELATED-TO:fmf-AFLABS-URNIK:srecanje:8885
X-WR-TIMEZONE:Europe/Ljubljana
END:VEVENT
BEGIN:VEVENT
SUMMARY:Podiplomski seminar (FIZ-D)\, Seminar (S)
DTSTART;TZID=Europe/Ljubljana:20230413T160000
DTEND;TZID=Europe/Ljubljana:20230413T180000
DTSTAMP:20260421T195425Z
UID:fmf-AFLABS-URNIK:premaknjeno-srecanje:83436
ATTENDEE:doktorski študij (Fizika, 3. stopnja)
CATEGORIES:Entry,Standard
COLOR:darkgreen
DESCRIPTION:Predmet: Podiplomski seminar (FIZ-D)\, Seminar (S)\nLetniki: d
 oktorski študij (Fizika\, 3. stopnja)\nIzvajalci: Peter Križan\nProstor:
  Kuščerjev seminar
LOCATION:Kuščerjev seminar
ORGANIZER:Peter Križan
RELATED-TO:fmf-AFLABS-URNIK:srecanje:8885
X-WR-TIMEZONE:Europe/Ljubljana
END:VEVENT
BEGIN:VEVENT
SUMMARY:Podiplomski seminar (FIZ-D)\, Seminar (S)
DTSTART;TZID=Europe/Ljubljana:20230420T160000
DTEND;TZID=Europe/Ljubljana:20230420T180000
DTSTAMP:20260421T195425Z
UID:fmf-AFLABS-URNIK:premaknjeno-srecanje:83437
ATTENDEE:doktorski študij (Fizika, 3. stopnja)
CATEGORIES:Entry,Standard
COLOR:darkgreen
DESCRIPTION:Predmet: Podiplomski seminar (FIZ-D)\, Seminar (S)\nLetniki: d
 oktorski študij (Fizika\, 3. stopnja)\nIzvajalci: Peter Križan\nProstor:
  Kuščerjev seminar
LOCATION:Kuščerjev seminar
ORGANIZER:Peter Križan
RELATED-TO:fmf-AFLABS-URNIK:srecanje:8885
X-WR-TIMEZONE:Europe/Ljubljana
END:VEVENT
BEGIN:VEVENT
SUMMARY:Podiplomski seminar (FIZ-D)\, Seminar (S)
DTSTART;TZID=Europe/Ljubljana:20230427T160000
DTEND;TZID=Europe/Ljubljana:20230427T180000
DTSTAMP:20260421T195425Z
UID:fmf-AFLABS-URNIK:premaknjeno-srecanje:83438
ATTENDEE:doktorski študij (Fizika, 3. stopnja)
CATEGORIES:Entry,Standard
COLOR:darkgreen
DESCRIPTION:Predmet: Podiplomski seminar (FIZ-D)\, Seminar (S)\nLetniki: d
 oktorski študij (Fizika\, 3. stopnja)\nIzvajalci: Peter Križan\nProstor:
  Kuščerjev seminar
LOCATION:Kuščerjev seminar
ORGANIZER:Peter Križan
RELATED-TO:fmf-AFLABS-URNIK:srecanje:8885
X-WR-TIMEZONE:Europe/Ljubljana
END:VEVENT
BEGIN:VEVENT
SUMMARY:Podiplomski seminar (FIZ-D)\, Seminar (S)
DTSTART;TZID=Europe/Ljubljana:20230504T160000
DTEND;TZID=Europe/Ljubljana:20230504T180000
DTSTAMP:20260421T195425Z
UID:fmf-AFLABS-URNIK:premaknjeno-srecanje:83439
ATTENDEE:doktorski študij (Fizika, 3. stopnja)
CATEGORIES:Entry,Standard
COLOR:darkgreen
DESCRIPTION:Predmet: Podiplomski seminar (FIZ-D)\, Seminar (S)\nLetniki: d
 oktorski študij (Fizika\, 3. stopnja)\nIzvajalci: Peter Križan\nProstor:
  Kuščerjev seminar
LOCATION:Kuščerjev seminar
ORGANIZER:Peter Križan
RELATED-TO:fmf-AFLABS-URNIK:srecanje:8885
X-WR-TIMEZONE:Europe/Ljubljana
END:VEVENT
BEGIN:VEVENT
SUMMARY:Podiplomski seminar (FIZ-D)\, Seminar (S)
DTSTART;TZID=Europe/Ljubljana:20230511T160000
DTEND;TZID=Europe/Ljubljana:20230511T180000
DTSTAMP:20260421T195425Z
UID:fmf-AFLABS-URNIK:premaknjeno-srecanje:83440
ATTENDEE:doktorski študij (Fizika, 3. stopnja)
CATEGORIES:Entry,Standard
COLOR:darkgreen
DESCRIPTION:Predmet: Podiplomski seminar (FIZ-D)\, Seminar (S)\nLetniki: d
 oktorski študij (Fizika\, 3. stopnja)\nIzvajalci: Peter Križan\nProstor:
  Kuščerjev seminar
LOCATION:Kuščerjev seminar
ORGANIZER:Peter Križan
RELATED-TO:fmf-AFLABS-URNIK:srecanje:8885
X-WR-TIMEZONE:Europe/Ljubljana
END:VEVENT
BEGIN:VEVENT
SUMMARY:Podiplomski seminar (FIZ-D)\, Seminar (S)
DTSTART;TZID=Europe/Ljubljana:20230518T160000
DTEND;TZID=Europe/Ljubljana:20230518T180000
DTSTAMP:20260421T195425Z
UID:fmf-AFLABS-URNIK:premaknjeno-srecanje:83441
ATTENDEE:doktorski študij (Fizika, 3. stopnja)
CATEGORIES:Entry,Standard
COLOR:darkgreen
DESCRIPTION:Predmet: Podiplomski seminar (FIZ-D)\, Seminar (S)\nLetniki: d
 oktorski študij (Fizika\, 3. stopnja)\nIzvajalci: Peter Križan\nProstor:
  Kuščerjev seminar
LOCATION:Kuščerjev seminar
ORGANIZER:Peter Križan
RELATED-TO:fmf-AFLABS-URNIK:srecanje:8885
X-WR-TIMEZONE:Europe/Ljubljana
END:VEVENT
BEGIN:VEVENT
SUMMARY:Podiplomski seminar (FIZ-D)\, Seminar (S)
DTSTART;TZID=Europe/Ljubljana:20230525T160000
DTEND;TZID=Europe/Ljubljana:20230525T180000
DTSTAMP:20260421T195425Z
UID:fmf-AFLABS-URNIK:premaknjeno-srecanje:83442
ATTENDEE:doktorski študij (Fizika, 3. stopnja)
CATEGORIES:Entry,Standard
COLOR:darkgreen
DESCRIPTION:Predmet: Podiplomski seminar (FIZ-D)\, Seminar (S)\nLetniki: d
 oktorski študij (Fizika\, 3. stopnja)\nIzvajalci: Peter Križan\nProstor:
  Kuščerjev seminar
LOCATION:Kuščerjev seminar
ORGANIZER:Peter Križan
RELATED-TO:fmf-AFLABS-URNIK:srecanje:8885
X-WR-TIMEZONE:Europe/Ljubljana
END:VEVENT
BEGIN:VEVENT
SUMMARY:Podiplomski seminar (FIZ-D)\, Seminar (S)
DTSTART;TZID=Europe/Ljubljana:20230601T160000
DTEND;TZID=Europe/Ljubljana:20230601T180000
DTSTAMP:20260421T195425Z
UID:fmf-AFLABS-URNIK:premaknjeno-srecanje:83443
ATTENDEE:doktorski študij (Fizika, 3. stopnja)
CATEGORIES:Entry,Standard
COLOR:darkgreen
DESCRIPTION:Predmet: Podiplomski seminar (FIZ-D)\, Seminar (S)\nLetniki: d
 oktorski študij (Fizika\, 3. stopnja)\nIzvajalci: Peter Križan\nProstor:
  Kuščerjev seminar
LOCATION:Kuščerjev seminar
ORGANIZER:Peter Križan
RELATED-TO:fmf-AFLABS-URNIK:srecanje:8885
X-WR-TIMEZONE:Europe/Ljubljana
END:VEVENT
BEGIN:VEVENT
SUMMARY:Rezervacija
DTSTART;TZID=Europe/Ljubljana:20230314T080000
DTEND;TZID=Europe/Ljubljana:20230314T180000
DTSTAMP:20260421T195425Z
UID:fmf-AFLABS-URNIK:rezervacija:11427
CATEGORIES:Reservation
COLOR:royalblue
DESCRIPTION:Predmeti: \nLetniki: \nIzvajalci: Peter Križan\nProstori: F8
LOCATION:F8
ORGANIZER:Peter Križan
X-WR-TIMEZONE:Europe/Ljubljana
END:VEVENT
BEGIN:VEVENT
SUMMARY:Rezervacija
DTSTART;TZID=Europe/Ljubljana:20230321T080000
DTEND;TZID=Europe/Ljubljana:20230321T180000
DTSTAMP:20260421T195425Z
UID:fmf-AFLABS-URNIK:rezervacija:11480
CATEGORIES:Reservation
COLOR:royalblue
DESCRIPTION:Predmeti: \nLetniki: \nIzvajalci: Peter Križan\nProstori: F8
LOCATION:F8
ORGANIZER:Peter Križan
X-WR-TIMEZONE:Europe/Ljubljana
END:VEVENT
BEGIN:VEVENT
SUMMARY:Rezervacija
DTSTART;TZID=Europe/Ljubljana:20230404T080000
DTEND;TZID=Europe/Ljubljana:20230404T180000
DTSTAMP:20260421T195425Z
UID:fmf-AFLABS-URNIK:rezervacija:11554
CATEGORIES:Reservation
COLOR:royalblue
DESCRIPTION:Predmeti: \nLetniki: \nIzvajalci: Peter Križan\nProstori: F8
LOCATION:F8
ORGANIZER:Peter Križan
X-WR-TIMEZONE:Europe/Ljubljana
END:VEVENT
BEGIN:VEVENT
SUMMARY:Rezervacija
DTSTART;TZID=Europe/Ljubljana:20230406T100000
DTEND;TZID=Europe/Ljubljana:20230406T130000
DTSTAMP:20260421T195425Z
UID:fmf-AFLABS-URNIK:rezervacija:11576
CATEGORIES:Reservation
COLOR:royalblue
DESCRIPTION:Predmeti: \nLetniki: \nIzvajalci: Peter Križan\nProstori: F8
LOCATION:F8
ORGANIZER:Peter Križan
X-WR-TIMEZONE:Europe/Ljubljana
END:VEVENT
BEGIN:VEVENT
SUMMARY:Rezervacija
DTSTART;TZID=Europe/Ljubljana:20230411T110000
DTEND;TZID=Europe/Ljubljana:20230411T130000
DTSTAMP:20260421T195425Z
UID:fmf-AFLABS-URNIK:rezervacija:11601
CATEGORIES:Reservation
COLOR:royalblue
DESCRIPTION:Predmeti: \nLetniki: \nIzvajalci: Peter Križan\nProstori: F6
LOCATION:F6
ORGANIZER:Peter Križan
X-WR-TIMEZONE:Europe/Ljubljana
END:VEVENT
BEGIN:VEVENT
SUMMARY:Rezervacija
DTSTART;TZID=Europe/Ljubljana:20230418T090000
DTEND;TZID=Europe/Ljubljana:20230418T150000
DTSTAMP:20260421T195425Z
UID:fmf-AFLABS-URNIK:rezervacija:11653
CATEGORIES:Reservation
COLOR:royalblue
DESCRIPTION:Predmeti: \nLetniki: \nIzvajalci: Peter Križan\nProstori: F8
LOCATION:F8
ORGANIZER:Peter Križan
X-WR-TIMEZONE:Europe/Ljubljana
END:VEVENT
BEGIN:VEVENT
SUMMARY:Rezervacija
DTSTART;TZID=Europe/Ljubljana:20230419T150000
DTEND;TZID=Europe/Ljubljana:20230419T180000
DTSTAMP:20260421T195425Z
UID:fmf-AFLABS-URNIK:rezervacija:11672
CATEGORIES:Reservation
COLOR:royalblue
DESCRIPTION:Predmeti: \nLetniki: \nIzvajalci: Peter Križan\nProstori: F4
LOCATION:F4
ORGANIZER:Peter Križan
X-WR-TIMEZONE:Europe/Ljubljana
END:VEVENT
BEGIN:VEVENT
SUMMARY:Rezervacija
DTSTART;TZID=Europe/Ljubljana:20230630T100000
DTEND;TZID=Europe/Ljubljana:20230630T120000
DTSTAMP:20260421T195425Z
UID:fmf-AFLABS-URNIK:rezervacija:12594
ATTENDEE:1. letnik (Fizika, 2. stopnja)
CATEGORIES:Reservation
COLOR:royalblue
DESCRIPTION:Predmeti: Jedra\, kvarki in leptoni (FIZ-M1)\nLetniki: 1. letn
 ik (Fizika\, 2. stopnja)\nIzvajalci: Peter Križan\nProstori: F5
LOCATION:F5
ORGANIZER:Peter Križan
X-WR-TIMEZONE:Europe/Ljubljana
END:VEVENT
END:VCALENDAR
