BEGIN:VCALENDAR
VERSION:2.0
PRODID:-//AFLabs urnik izvoz - fmf//aflabs.si//SI
DTSTAMP:20260425T135240Z
NAME:UL FMF urnik
REFRESH-INTERVAL:PT1H
SOURCE:https://urnik.fmf.uni-lj.si/teacher/1268?day=2024-10-07&export=1
URL:https://urnik.fmf.uni-lj.si/teacher/1268?day=2024-10-07&export=1
X-PUBLISHED-TTL:PT1H
X-WR-CALNAME:UL FMF urnik
X-WR-TIMEZONE:Europe/Ljubljana
BEGIN:VTIMEZONE
TZID:Europe/Ljubljana
BEGIN:DAYLIGHT
DTSTART:20260329T020000
RDATE:20260329T020000
RDATE:20270328T020000
TZNAME:CEST
TZOFFSETFROM:+0100
TZOFFSETTO:+0200
END:DAYLIGHT
BEGIN:STANDARD
DTSTART:20261025T030000
RDATE:20261025T030000
RDATE:20271031T030000
TZNAME:CET
TZOFFSETFROM:+0200
TZOFFSETTO:+0100
END:STANDARD
END:VTIMEZONE
BEGIN:VEVENT
SUMMARY:Računalniški praktikum FIZ UNI (FIZ-1)\, Vaje (V)\, [3]
DTSTART;TZID=Europe/Ljubljana:20241001T170000
DTEND;TZID=Europe/Ljubljana:20241001T190000
DTSTAMP:20260425T135240Z
UID:fmf-AFLABS-URNIK:premaknjeno-srecanje:197704
ATTENDEE:1. letnik (Fizika, 1. stopnja)
CATEGORIES:Entry,Standard
COLOR:darkgreen
DESCRIPTION:Predmet: Računalniški praktikum FIZ UNI (FIZ-1)\, Vaje (V)\,
  [3]\nLetniki: 1. letnik (Fizika\, 1. stopnja)\nIzvajalci: Matej Rojec\, M
 atej Rojec\nProstor: 3.10
LOCATION:3.10
ORGANIZER:Matej Rojec, Matej Rojec
RELATED-TO:fmf-AFLABS-URNIK:srecanje:14199
X-WR-TIMEZONE:Europe/Ljubljana
END:VEVENT
BEGIN:VEVENT
SUMMARY:Računalniški praktikum FIZ UNI (FIZ-1)\, Vaje (V)\, [3]
DTSTART;TZID=Europe/Ljubljana:20241008T170000
DTEND;TZID=Europe/Ljubljana:20241008T190000
DTSTAMP:20260425T135240Z
UID:fmf-AFLABS-URNIK:premaknjeno-srecanje:197705
ATTENDEE:1. letnik (Fizika, 1. stopnja)
CATEGORIES:Entry,Standard
COLOR:darkgreen
DESCRIPTION:Predmet: Računalniški praktikum FIZ UNI (FIZ-1)\, Vaje (V)\,
  [3]\nLetniki: 1. letnik (Fizika\, 1. stopnja)\nIzvajalci: Matej Rojec\, M
 atej Rojec\nProstor: 3.10
LOCATION:3.10
ORGANIZER:Matej Rojec, Matej Rojec
RELATED-TO:fmf-AFLABS-URNIK:srecanje:14199
X-WR-TIMEZONE:Europe/Ljubljana
END:VEVENT
BEGIN:VEVENT
SUMMARY:Računalniški praktikum FIZ UNI (FIZ-1)\, Vaje (V)\, [3]
DTSTART;TZID=Europe/Ljubljana:20241015T170000
DTEND;TZID=Europe/Ljubljana:20241015T190000
DTSTAMP:20260425T135240Z
UID:fmf-AFLABS-URNIK:premaknjeno-srecanje:197706
ATTENDEE:1. letnik (Fizika, 1. stopnja)
CATEGORIES:Entry,Standard
COLOR:darkgreen
DESCRIPTION:Predmet: Računalniški praktikum FIZ UNI (FIZ-1)\, Vaje (V)\,
  [3]\nLetniki: 1. letnik (Fizika\, 1. stopnja)\nIzvajalci: Matej Rojec\, M
 atej Rojec\nProstor: 3.10
LOCATION:3.10
ORGANIZER:Matej Rojec, Matej Rojec
RELATED-TO:fmf-AFLABS-URNIK:srecanje:14199
X-WR-TIMEZONE:Europe/Ljubljana
END:VEVENT
BEGIN:VEVENT
SUMMARY:Računalniški praktikum FIZ UNI (FIZ-1)\, Vaje (V)\, [3]
DTSTART;TZID=Europe/Ljubljana:20241022T170000
DTEND;TZID=Europe/Ljubljana:20241022T190000
DTSTAMP:20260425T135240Z
UID:fmf-AFLABS-URNIK:premaknjeno-srecanje:197707
ATTENDEE:1. letnik (Fizika, 1. stopnja)
CATEGORIES:Entry,Standard
COLOR:darkgreen
DESCRIPTION:Predmet: Računalniški praktikum FIZ UNI (FIZ-1)\, Vaje (V)\,
  [3]\nLetniki: 1. letnik (Fizika\, 1. stopnja)\nIzvajalci: Matej Rojec\, M
 atej Rojec\nProstor: 3.10
LOCATION:3.10
ORGANIZER:Matej Rojec, Matej Rojec
RELATED-TO:fmf-AFLABS-URNIK:srecanje:14199
X-WR-TIMEZONE:Europe/Ljubljana
END:VEVENT
BEGIN:VEVENT
SUMMARY:Računalniški praktikum FIZ UNI (FIZ-1)\, Vaje (V)\, [3]
DTSTART;TZID=Europe/Ljubljana:20241029T170000
DTEND;TZID=Europe/Ljubljana:20241029T190000
DTSTAMP:20260425T135240Z
UID:fmf-AFLABS-URNIK:premaknjeno-srecanje:197708
ATTENDEE:1. letnik (Fizika, 1. stopnja)
CATEGORIES:Entry,Standard
COLOR:darkgreen
DESCRIPTION:Predmet: Računalniški praktikum FIZ UNI (FIZ-1)\, Vaje (V)\,
  [3]\nLetniki: 1. letnik (Fizika\, 1. stopnja)\nIzvajalci: Matej Rojec\, M
 atej Rojec\nProstor: 3.10
LOCATION:3.10
ORGANIZER:Matej Rojec, Matej Rojec
RELATED-TO:fmf-AFLABS-URNIK:srecanje:14199
X-WR-TIMEZONE:Europe/Ljubljana
END:VEVENT
BEGIN:VEVENT
SUMMARY:Računalniški praktikum FIZ UNI (FIZ-1)\, Vaje (V)\, [3]
DTSTART;TZID=Europe/Ljubljana:20241105T170000
DTEND;TZID=Europe/Ljubljana:20241105T190000
DTSTAMP:20260425T135240Z
UID:fmf-AFLABS-URNIK:premaknjeno-srecanje:197709
ATTENDEE:1. letnik (Fizika, 1. stopnja)
CATEGORIES:Entry,Standard
COLOR:darkgreen
DESCRIPTION:Predmet: Računalniški praktikum FIZ UNI (FIZ-1)\, Vaje (V)\,
  [3]\nLetniki: 1. letnik (Fizika\, 1. stopnja)\nIzvajalci: Matej Rojec\, M
 atej Rojec\nProstor: 3.10
LOCATION:3.10
ORGANIZER:Matej Rojec, Matej Rojec
RELATED-TO:fmf-AFLABS-URNIK:srecanje:14199
X-WR-TIMEZONE:Europe/Ljubljana
END:VEVENT
BEGIN:VEVENT
SUMMARY:Računalniški praktikum FIZ UNI (FIZ-1)\, Vaje (V)\, [3]
DTSTART;TZID=Europe/Ljubljana:20241112T170000
DTEND;TZID=Europe/Ljubljana:20241112T190000
DTSTAMP:20260425T135240Z
UID:fmf-AFLABS-URNIK:premaknjeno-srecanje:197710
ATTENDEE:1. letnik (Fizika, 1. stopnja)
CATEGORIES:Entry,Standard
COLOR:darkgreen
DESCRIPTION:Predmet: Računalniški praktikum FIZ UNI (FIZ-1)\, Vaje (V)\,
  [3]\nLetniki: 1. letnik (Fizika\, 1. stopnja)\nIzvajalci: Matej Rojec\, M
 atej Rojec\nProstor: 3.10
LOCATION:3.10
ORGANIZER:Matej Rojec, Matej Rojec
RELATED-TO:fmf-AFLABS-URNIK:srecanje:14199
X-WR-TIMEZONE:Europe/Ljubljana
END:VEVENT
BEGIN:VEVENT
SUMMARY:Računalniški praktikum FIZ UNI (FIZ-1)\, Vaje (V)\, [3]
DTSTART;TZID=Europe/Ljubljana:20241119T170000
DTEND;TZID=Europe/Ljubljana:20241119T190000
DTSTAMP:20260425T135240Z
UID:fmf-AFLABS-URNIK:premaknjeno-srecanje:197711
ATTENDEE:1. letnik (Fizika, 1. stopnja)
CATEGORIES:Entry,Standard
COLOR:darkgreen
DESCRIPTION:Predmet: Računalniški praktikum FIZ UNI (FIZ-1)\, Vaje (V)\,
  [3]\nLetniki: 1. letnik (Fizika\, 1. stopnja)\nIzvajalci: Matej Rojec\, M
 atej Rojec\nProstor: 3.10
LOCATION:3.10
ORGANIZER:Matej Rojec, Matej Rojec
RELATED-TO:fmf-AFLABS-URNIK:srecanje:14199
X-WR-TIMEZONE:Europe/Ljubljana
END:VEVENT
BEGIN:VEVENT
SUMMARY:Računalniški praktikum FIZ UNI (FIZ-1)\, Vaje (V)\, [3]
DTSTART;TZID=Europe/Ljubljana:20241126T170000
DTEND;TZID=Europe/Ljubljana:20241126T190000
DTSTAMP:20260425T135240Z
UID:fmf-AFLABS-URNIK:premaknjeno-srecanje:197712
ATTENDEE:1. letnik (Fizika, 1. stopnja)
CATEGORIES:Entry,Standard
COLOR:darkgreen
DESCRIPTION:Predmet: Računalniški praktikum FIZ UNI (FIZ-1)\, Vaje (V)\,
  [3]\nLetniki: 1. letnik (Fizika\, 1. stopnja)\nIzvajalci: Matej Rojec\, M
 atej Rojec\nProstor: 3.10
LOCATION:3.10
ORGANIZER:Matej Rojec, Matej Rojec
RELATED-TO:fmf-AFLABS-URNIK:srecanje:14199
X-WR-TIMEZONE:Europe/Ljubljana
END:VEVENT
BEGIN:VEVENT
SUMMARY:Računalniški praktikum FIZ UNI (FIZ-1)\, Vaje (V)\, [3]
DTSTART;TZID=Europe/Ljubljana:20241203T170000
DTEND;TZID=Europe/Ljubljana:20241203T190000
DTSTAMP:20260425T135240Z
UID:fmf-AFLABS-URNIK:premaknjeno-srecanje:197713
ATTENDEE:1. letnik (Fizika, 1. stopnja)
CATEGORIES:Entry,Standard
COLOR:darkgreen
DESCRIPTION:Predmet: Računalniški praktikum FIZ UNI (FIZ-1)\, Vaje (V)\,
  [3]\nLetniki: 1. letnik (Fizika\, 1. stopnja)\nIzvajalci: Matej Rojec\, M
 atej Rojec\nProstor: 3.10
LOCATION:3.10
ORGANIZER:Matej Rojec, Matej Rojec
RELATED-TO:fmf-AFLABS-URNIK:srecanje:14199
X-WR-TIMEZONE:Europe/Ljubljana
END:VEVENT
BEGIN:VEVENT
SUMMARY:Računalniški praktikum FIZ UNI (FIZ-1)\, Vaje (V)\, [3]
DTSTART;TZID=Europe/Ljubljana:20241210T170000
DTEND;TZID=Europe/Ljubljana:20241210T190000
DTSTAMP:20260425T135240Z
UID:fmf-AFLABS-URNIK:premaknjeno-srecanje:197714
ATTENDEE:1. letnik (Fizika, 1. stopnja)
CATEGORIES:Entry,Standard
COLOR:darkgreen
DESCRIPTION:Predmet: Računalniški praktikum FIZ UNI (FIZ-1)\, Vaje (V)\,
  [3]\nLetniki: 1. letnik (Fizika\, 1. stopnja)\nIzvajalci: Matej Rojec\, M
 atej Rojec\nProstor: 3.10
LOCATION:3.10
ORGANIZER:Matej Rojec, Matej Rojec
RELATED-TO:fmf-AFLABS-URNIK:srecanje:14199
X-WR-TIMEZONE:Europe/Ljubljana
END:VEVENT
BEGIN:VEVENT
SUMMARY:Računalniški praktikum FIZ UNI (FIZ-1)\, Vaje (V)\, [3]
DTSTART;TZID=Europe/Ljubljana:20241217T170000
DTEND;TZID=Europe/Ljubljana:20241217T190000
DTSTAMP:20260425T135240Z
UID:fmf-AFLABS-URNIK:premaknjeno-srecanje:197715
ATTENDEE:1. letnik (Fizika, 1. stopnja)
CATEGORIES:Entry,Standard
COLOR:darkgreen
DESCRIPTION:Predmet: Računalniški praktikum FIZ UNI (FIZ-1)\, Vaje (V)\,
  [3]\nLetniki: 1. letnik (Fizika\, 1. stopnja)\nIzvajalci: Matej Rojec\, M
 atej Rojec\nProstor: 3.10
LOCATION:3.10
ORGANIZER:Matej Rojec, Matej Rojec
RELATED-TO:fmf-AFLABS-URNIK:srecanje:14199
X-WR-TIMEZONE:Europe/Ljubljana
END:VEVENT
BEGIN:VEVENT
SUMMARY:Računalniški praktikum FIZ UNI (FIZ-1)\, Vaje (V)\, [3]
DTSTART;TZID=Europe/Ljubljana:20241224T170000
DTEND;TZID=Europe/Ljubljana:20241224T190000
DTSTAMP:20260425T135240Z
UID:fmf-AFLABS-URNIK:premaknjeno-srecanje:197716
ATTENDEE:1. letnik (Fizika, 1. stopnja)
CATEGORIES:Entry,Standard
COLOR:darkgreen
DESCRIPTION:Predmet: Računalniški praktikum FIZ UNI (FIZ-1)\, Vaje (V)\,
  [3]\nLetniki: 1. letnik (Fizika\, 1. stopnja)\nIzvajalci: Matej Rojec\, M
 atej Rojec\nProstor: 3.10
LOCATION:3.10
ORGANIZER:Matej Rojec, Matej Rojec
RELATED-TO:fmf-AFLABS-URNIK:srecanje:14199
X-WR-TIMEZONE:Europe/Ljubljana
END:VEVENT
BEGIN:VEVENT
SUMMARY:Računalniški praktikum FIZ UNI (FIZ-1)\, Vaje (V)\, [3]
DTSTART;TZID=Europe/Ljubljana:20241231T170000
DTEND;TZID=Europe/Ljubljana:20241231T190000
DTSTAMP:20260425T135240Z
UID:fmf-AFLABS-URNIK:premaknjeno-srecanje:197717
ATTENDEE:1. letnik (Fizika, 1. stopnja)
CATEGORIES:Entry,Standard
COLOR:darkgreen
DESCRIPTION:Predmet: Računalniški praktikum FIZ UNI (FIZ-1)\, Vaje (V)\,
  [3]\nLetniki: 1. letnik (Fizika\, 1. stopnja)\nIzvajalci: Matej Rojec\, M
 atej Rojec\nProstor: 3.10
LOCATION:3.10
ORGANIZER:Matej Rojec, Matej Rojec
RELATED-TO:fmf-AFLABS-URNIK:srecanje:14199
X-WR-TIMEZONE:Europe/Ljubljana
END:VEVENT
BEGIN:VEVENT
SUMMARY:Računalniški praktikum FIZ UNI (FIZ-1)\, Vaje (V)\, [3]
DTSTART;TZID=Europe/Ljubljana:20250107T170000
DTEND;TZID=Europe/Ljubljana:20250107T190000
DTSTAMP:20260425T135240Z
UID:fmf-AFLABS-URNIK:premaknjeno-srecanje:197718
ATTENDEE:1. letnik (Fizika, 1. stopnja)
CATEGORIES:Entry,Standard
COLOR:darkgreen
DESCRIPTION:Predmet: Računalniški praktikum FIZ UNI (FIZ-1)\, Vaje (V)\,
  [3]\nLetniki: 1. letnik (Fizika\, 1. stopnja)\nIzvajalci: Matej Rojec\, M
 atej Rojec\nProstor: 3.10
LOCATION:3.10
ORGANIZER:Matej Rojec, Matej Rojec
RELATED-TO:fmf-AFLABS-URNIK:srecanje:14199
X-WR-TIMEZONE:Europe/Ljubljana
END:VEVENT
BEGIN:VEVENT
SUMMARY:Računalniški praktikum FIZ UNI (FIZ-1)\, Vaje (V)\, [3]
DTSTART;TZID=Europe/Ljubljana:20250114T170000
DTEND;TZID=Europe/Ljubljana:20250114T190000
DTSTAMP:20260425T135240Z
UID:fmf-AFLABS-URNIK:premaknjeno-srecanje:197719
ATTENDEE:1. letnik (Fizika, 1. stopnja)
CATEGORIES:Entry,Standard
COLOR:darkgreen
DESCRIPTION:Predmet: Računalniški praktikum FIZ UNI (FIZ-1)\, Vaje (V)\,
  [3]\nLetniki: 1. letnik (Fizika\, 1. stopnja)\nIzvajalci: Matej Rojec\, M
 atej Rojec\nProstor: 3.10
LOCATION:3.10
ORGANIZER:Matej Rojec, Matej Rojec
RELATED-TO:fmf-AFLABS-URNIK:srecanje:14199
X-WR-TIMEZONE:Europe/Ljubljana
END:VEVENT
END:VCALENDAR
