BEGIN:VCALENDAR
VERSION:2.0
PRODID:-//AFLabs urnik izvoz - fmf//aflabs.si//SI
DTSTAMP:20260424T113208Z
NAME:UL FMF urnik
REFRESH-INTERVAL:PT1H
SOURCE:https://urnik.fmf.uni-lj.si/teacher/126?day=2025-02-10&export=1
URL:https://urnik.fmf.uni-lj.si/teacher/126?day=2025-02-10&export=1
X-PUBLISHED-TTL:PT1H
X-WR-CALNAME:UL FMF urnik
X-WR-TIMEZONE:Europe/Ljubljana
BEGIN:VTIMEZONE
TZID:Europe/Ljubljana
BEGIN:DAYLIGHT
DTSTART:20260329T020000
RDATE:20260329T020000
RDATE:20270328T020000
TZNAME:CEST
TZOFFSETFROM:+0100
TZOFFSETTO:+0200
END:DAYLIGHT
BEGIN:STANDARD
DTSTART:20261025T030000
RDATE:20261025T030000
RDATE:20271031T030000
TZNAME:CET
TZOFFSETFROM:+0200
TZOFFSETTO:+0100
END:STANDARD
END:VTIMEZONE
BEGIN:VEVENT
SUMMARY:Fizika trdne snovi (FIZ-3)\, Predavanja (P)
DTSTART;TZID=Europe/Ljubljana:20250219T100000
DTEND;TZID=Europe/Ljubljana:20250219T120000
DTSTAMP:20260424T113208Z
UID:fmf-AFLABS-URNIK:premaknjeno-srecanje:213165
ATTENDEE:3. letnik (Fizika, 1. stopnja)
CATEGORIES:Entry,Standard
COLOR:darkgreen
DESCRIPTION:Predmet: Fizika trdne snovi (FIZ-3)\, Predavanja (P)\nLetniki:
  3. letnik (Fizika\, 1. stopnja)\nIzvajalci: Janez Bonča\nProstor: F2
LOCATION:F2
ORGANIZER:Janez Bonča
RELATED-TO:fmf-AFLABS-URNIK:srecanje:15750
X-WR-TIMEZONE:Europe/Ljubljana
END:VEVENT
BEGIN:VEVENT
SUMMARY:Fizika trdne snovi (FIZ-3)\, Predavanja (P)
DTSTART;TZID=Europe/Ljubljana:20250226T100000
DTEND;TZID=Europe/Ljubljana:20250226T120000
DTSTAMP:20260424T113208Z
UID:fmf-AFLABS-URNIK:premaknjeno-srecanje:213166
ATTENDEE:3. letnik (Fizika, 1. stopnja)
CATEGORIES:Entry,Standard
COLOR:darkgreen
DESCRIPTION:Predmet: Fizika trdne snovi (FIZ-3)\, Predavanja (P)\nLetniki:
  3. letnik (Fizika\, 1. stopnja)\nIzvajalci: Janez Bonča\nProstor: F2
LOCATION:F2
ORGANIZER:Janez Bonča
RELATED-TO:fmf-AFLABS-URNIK:srecanje:15750
X-WR-TIMEZONE:Europe/Ljubljana
END:VEVENT
BEGIN:VEVENT
SUMMARY:Fizika trdne snovi (FIZ-3)\, Predavanja (P)
DTSTART;TZID=Europe/Ljubljana:20250305T100000
DTEND;TZID=Europe/Ljubljana:20250305T120000
DTSTAMP:20260424T113208Z
UID:fmf-AFLABS-URNIK:premaknjeno-srecanje:213167
ATTENDEE:3. letnik (Fizika, 1. stopnja)
CATEGORIES:Entry,Standard
COLOR:darkgreen
DESCRIPTION:Predmet: Fizika trdne snovi (FIZ-3)\, Predavanja (P)\nLetniki:
  3. letnik (Fizika\, 1. stopnja)\nIzvajalci: Janez Bonča\nProstor: F2
LOCATION:F2
ORGANIZER:Janez Bonča
RELATED-TO:fmf-AFLABS-URNIK:srecanje:15750
X-WR-TIMEZONE:Europe/Ljubljana
END:VEVENT
BEGIN:VEVENT
SUMMARY:Fizika trdne snovi (FIZ-3)\, Predavanja (P)
DTSTART;TZID=Europe/Ljubljana:20250312T100000
DTEND;TZID=Europe/Ljubljana:20250312T120000
DTSTAMP:20260424T113208Z
UID:fmf-AFLABS-URNIK:premaknjeno-srecanje:213168
ATTENDEE:3. letnik (Fizika, 1. stopnja)
CATEGORIES:Entry,Standard
COLOR:darkgreen
DESCRIPTION:Predmet: Fizika trdne snovi (FIZ-3)\, Predavanja (P)\nLetniki:
  3. letnik (Fizika\, 1. stopnja)\nIzvajalci: Janez Bonča\nProstor: F2
LOCATION:F2
ORGANIZER:Janez Bonča
RELATED-TO:fmf-AFLABS-URNIK:srecanje:15750
X-WR-TIMEZONE:Europe/Ljubljana
END:VEVENT
BEGIN:VEVENT
SUMMARY:Fizika trdne snovi (FIZ-3)\, Predavanja (P)
DTSTART;TZID=Europe/Ljubljana:20250220T080000
DTEND;TZID=Europe/Ljubljana:20250220T090000
DTSTAMP:20260424T113208Z
UID:fmf-AFLABS-URNIK:premaknjeno-srecanje:200440
ATTENDEE:3. letnik (Fizika, 1. stopnja)
CATEGORIES:Entry,Standard
COLOR:darkgreen
DESCRIPTION:Predmet: Fizika trdne snovi (FIZ-3)\, Predavanja (P)\nLetniki:
  3. letnik (Fizika\, 1. stopnja)\nIzvajalci: Janez Bonča\nProstor: F1
LOCATION:F1
ORGANIZER:Janez Bonča
RELATED-TO:fmf-AFLABS-URNIK:srecanje:14840
X-WR-TIMEZONE:Europe/Ljubljana
END:VEVENT
BEGIN:VEVENT
SUMMARY:Fizika trdne snovi (FIZ-3)\, Predavanja (P)
DTSTART;TZID=Europe/Ljubljana:20250227T080000
DTEND;TZID=Europe/Ljubljana:20250227T090000
DTSTAMP:20260424T113208Z
UID:fmf-AFLABS-URNIK:premaknjeno-srecanje:200441
ATTENDEE:3. letnik (Fizika, 1. stopnja)
CATEGORIES:Entry,Standard
COLOR:darkgreen
DESCRIPTION:Predmet: Fizika trdne snovi (FIZ-3)\, Predavanja (P)\nLetniki:
  3. letnik (Fizika\, 1. stopnja)\nIzvajalci: Janez Bonča\nProstor: F1
LOCATION:F1
ORGANIZER:Janez Bonča
RELATED-TO:fmf-AFLABS-URNIK:srecanje:14840
X-WR-TIMEZONE:Europe/Ljubljana
END:VEVENT
BEGIN:VEVENT
SUMMARY:Fizika trdne snovi (FIZ-3)\, Predavanja (P)
DTSTART;TZID=Europe/Ljubljana:20250306T080000
DTEND;TZID=Europe/Ljubljana:20250306T090000
DTSTAMP:20260424T113208Z
UID:fmf-AFLABS-URNIK:premaknjeno-srecanje:200442
ATTENDEE:3. letnik (Fizika, 1. stopnja)
CATEGORIES:Entry,Standard
COLOR:darkgreen
DESCRIPTION:Predmet: Fizika trdne snovi (FIZ-3)\, Predavanja (P)\nLetniki:
  3. letnik (Fizika\, 1. stopnja)\nIzvajalci: Janez Bonča\nProstor: F1
LOCATION:F1
ORGANIZER:Janez Bonča
RELATED-TO:fmf-AFLABS-URNIK:srecanje:14840
X-WR-TIMEZONE:Europe/Ljubljana
END:VEVENT
BEGIN:VEVENT
SUMMARY:Fizika trdne snovi (FIZ-3)\, Predavanja (P)
DTSTART;TZID=Europe/Ljubljana:20250313T080000
DTEND;TZID=Europe/Ljubljana:20250313T090000
DTSTAMP:20260424T113208Z
UID:fmf-AFLABS-URNIK:premaknjeno-srecanje:200443
ATTENDEE:3. letnik (Fizika, 1. stopnja)
CATEGORIES:Entry,Standard
COLOR:darkgreen
DESCRIPTION:Predmet: Fizika trdne snovi (FIZ-3)\, Predavanja (P)\nLetniki:
  3. letnik (Fizika\, 1. stopnja)\nIzvajalci: Janez Bonča\nProstor: F1
LOCATION:F1
ORGANIZER:Janez Bonča
RELATED-TO:fmf-AFLABS-URNIK:srecanje:14840
X-WR-TIMEZONE:Europe/Ljubljana
END:VEVENT
BEGIN:VEVENT
SUMMARY:Izpiti Farmacija
DTSTART;TZID=Europe/Ljubljana:20250122T120000
DTEND;TZID=Europe/Ljubljana:20250122T133000
DTSTAMP:20260424T113208Z
UID:fmf-AFLABS-URNIK:rezervacija:18728
CATEGORIES:Reservation
COLOR:royalblue
DESCRIPTION:Predmeti: Fizika (FFA - EM Farmacija) ()\nLetniki: \nIzvajalci
 : Janez Bonča\nProstori: VFP
LOCATION:VFP
ORGANIZER:Janez Bonča
X-WR-TIMEZONE:Europe/Ljubljana
END:VEVENT
BEGIN:VEVENT
SUMMARY:Izpiti
DTSTART;TZID=Europe/Ljubljana:20250207T070000
DTEND;TZID=Europe/Ljubljana:20250207T090000
DTSTAMP:20260424T113208Z
UID:fmf-AFLABS-URNIK:rezervacija:18734
CATEGORIES:Reservation
COLOR:royalblue
DESCRIPTION:Predmeti: Fizika (FFA - EM Farmacija) ()\nLetniki: \nIzvajalci
 : Janez Bonča\nProstori: VFP
LOCATION:VFP
ORGANIZER:Janez Bonča
X-WR-TIMEZONE:Europe/Ljubljana
END:VEVENT
BEGIN:VEVENT
SUMMARY:Izpiti
DTSTART;TZID=Europe/Ljubljana:20250207T070000
DTEND;TZID=Europe/Ljubljana:20250207T090000
DTSTAMP:20260424T113208Z
UID:fmf-AFLABS-URNIK:rezervacija:18735
CATEGORIES:Reservation
COLOR:royalblue
DESCRIPTION:Predmeti: Fizika (FFA - EM Farmacija) ()\nLetniki: \nIzvajalci
 : Janez Bonča\nProstori: MFP
LOCATION:MFP
ORGANIZER:Janez Bonča
X-WR-TIMEZONE:Europe/Ljubljana
END:VEVENT
BEGIN:VEVENT
SUMMARY:Izpiti Farmacija
DTSTART;TZID=Europe/Ljubljana:20250122T120000
DTEND;TZID=Europe/Ljubljana:20250122T140000
DTSTAMP:20260424T113208Z
UID:fmf-AFLABS-URNIK:rezervacija:19852
CATEGORIES:Reservation
COLOR:royalblue
DESCRIPTION:Predmeti: Fizika (FFA - EM Farmacija) ()\nLetniki: \nIzvajalci
 : Janez Bonča\nProstori: MFP
LOCATION:MFP
ORGANIZER:Janez Bonča
X-WR-TIMEZONE:Europe/Ljubljana
END:VEVENT
END:VCALENDAR
