BEGIN:VCALENDAR
VERSION:2.0
PRODID:-//AFLabs urnik izvoz - fmf//aflabs.si//SI
DTSTAMP:20260425T160046Z
NAME:UL FMF urnik
REFRESH-INTERVAL:PT1H
SOURCE:https://urnik.fmf.uni-lj.si/teacher/128?day=2022-11-28&export=1
URL:https://urnik.fmf.uni-lj.si/teacher/128?day=2022-11-28&export=1
X-PUBLISHED-TTL:PT1H
X-WR-CALNAME:UL FMF urnik
X-WR-TIMEZONE:Europe/Ljubljana
BEGIN:VTIMEZONE
TZID:Europe/Ljubljana
BEGIN:DAYLIGHT
DTSTART:20260329T020000
RDATE:20260329T020000
RDATE:20270328T020000
TZNAME:CEST
TZOFFSETFROM:+0100
TZOFFSETTO:+0200
END:DAYLIGHT
BEGIN:STANDARD
DTSTART:20261025T030000
RDATE:20261025T030000
RDATE:20271031T030000
TZNAME:CET
TZOFFSETFROM:+0200
TZOFFSETTO:+0100
END:STANDARD
END:VTIMEZONE
BEGIN:VEVENT
SUMMARY:Elektromagnetno polje (FIZ-3)\, Vaje (V)\, [1]
DTSTART;TZID=Europe/Ljubljana:20221004T100000
DTEND;TZID=Europe/Ljubljana:20221004T120000
DTSTAMP:20260425T160046Z
UID:fmf-AFLABS-URNIK:premaknjeno-srecanje:18377
ATTENDEE:3. letnik (Fizika, 1. stopnja)
CATEGORIES:Entry,Standard
COLOR:darkgreen
DESCRIPTION:Predmet: Elektromagnetno polje (FIZ-3)\, Vaje (V)\, [1]\nLetni
 ki: 3. letnik (Fizika\, 1. stopnja)\nIzvajalci: Martin Klanjšek\nProstor:
  F2
LOCATION:F2
ORGANIZER:Martin Klanjšek
RELATED-TO:fmf-AFLABS-URNIK:srecanje:7533
X-WR-TIMEZONE:Europe/Ljubljana
END:VEVENT
BEGIN:VEVENT
SUMMARY:Elektromagnetno polje (FIZ-3)\, Vaje (V)\, [1]
DTSTART;TZID=Europe/Ljubljana:20221011T100000
DTEND;TZID=Europe/Ljubljana:20221011T120000
DTSTAMP:20260425T160046Z
UID:fmf-AFLABS-URNIK:premaknjeno-srecanje:18378
ATTENDEE:3. letnik (Fizika, 1. stopnja)
CATEGORIES:Entry,Standard
COLOR:darkgreen
DESCRIPTION:Predmet: Elektromagnetno polje (FIZ-3)\, Vaje (V)\, [1]\nLetni
 ki: 3. letnik (Fizika\, 1. stopnja)\nIzvajalci: Martin Klanjšek\nProstor:
  F2
LOCATION:F2
ORGANIZER:Martin Klanjšek
RELATED-TO:fmf-AFLABS-URNIK:srecanje:7533
X-WR-TIMEZONE:Europe/Ljubljana
END:VEVENT
BEGIN:VEVENT
SUMMARY:Elektromagnetno polje (FIZ-3)\, Vaje (V)\, [1]
DTSTART;TZID=Europe/Ljubljana:20221018T100000
DTEND;TZID=Europe/Ljubljana:20221018T120000
DTSTAMP:20260425T160046Z
UID:fmf-AFLABS-URNIK:premaknjeno-srecanje:18379
ATTENDEE:3. letnik (Fizika, 1. stopnja)
CATEGORIES:Entry,Standard
COLOR:darkgreen
DESCRIPTION:Predmet: Elektromagnetno polje (FIZ-3)\, Vaje (V)\, [1]\nLetni
 ki: 3. letnik (Fizika\, 1. stopnja)\nIzvajalci: Martin Klanjšek\nProstor:
  F2
LOCATION:F2
ORGANIZER:Martin Klanjšek
RELATED-TO:fmf-AFLABS-URNIK:srecanje:7533
X-WR-TIMEZONE:Europe/Ljubljana
END:VEVENT
BEGIN:VEVENT
SUMMARY:Elektromagnetno polje (FIZ-3)\, Vaje (V)\, [1]
DTSTART;TZID=Europe/Ljubljana:20221025T100000
DTEND;TZID=Europe/Ljubljana:20221025T120000
DTSTAMP:20260425T160046Z
UID:fmf-AFLABS-URNIK:premaknjeno-srecanje:18380
ATTENDEE:3. letnik (Fizika, 1. stopnja)
CATEGORIES:Entry,Standard
COLOR:darkgreen
DESCRIPTION:Predmet: Elektromagnetno polje (FIZ-3)\, Vaje (V)\, [1]\nLetni
 ki: 3. letnik (Fizika\, 1. stopnja)\nIzvajalci: Martin Klanjšek\nProstor:
  F2
LOCATION:F2
ORGANIZER:Martin Klanjšek
RELATED-TO:fmf-AFLABS-URNIK:srecanje:7533
X-WR-TIMEZONE:Europe/Ljubljana
END:VEVENT
BEGIN:VEVENT
SUMMARY:Elektromagnetno polje (FIZ-3)\, Vaje (V)\, [1]
DTSTART;TZID=Europe/Ljubljana:20221101T100000
DTEND;TZID=Europe/Ljubljana:20221101T120000
DTSTAMP:20260425T160046Z
UID:fmf-AFLABS-URNIK:premaknjeno-srecanje:18381
ATTENDEE:3. letnik (Fizika, 1. stopnja)
CATEGORIES:Entry,Standard
COLOR:darkgreen
DESCRIPTION:Predmet: Elektromagnetno polje (FIZ-3)\, Vaje (V)\, [1]\nLetni
 ki: 3. letnik (Fizika\, 1. stopnja)\nIzvajalci: Martin Klanjšek\nProstor:
  F2
LOCATION:F2
ORGANIZER:Martin Klanjšek
RELATED-TO:fmf-AFLABS-URNIK:srecanje:7533
X-WR-TIMEZONE:Europe/Ljubljana
END:VEVENT
BEGIN:VEVENT
SUMMARY:Elektromagnetno polje (FIZ-3)\, Vaje (V)\, [1]
DTSTART;TZID=Europe/Ljubljana:20221108T100000
DTEND;TZID=Europe/Ljubljana:20221108T120000
DTSTAMP:20260425T160046Z
UID:fmf-AFLABS-URNIK:premaknjeno-srecanje:18382
ATTENDEE:3. letnik (Fizika, 1. stopnja)
CATEGORIES:Entry,Standard
COLOR:darkgreen
DESCRIPTION:Predmet: Elektromagnetno polje (FIZ-3)\, Vaje (V)\, [1]\nLetni
 ki: 3. letnik (Fizika\, 1. stopnja)\nIzvajalci: Martin Klanjšek\nProstor:
  F2
LOCATION:F2
ORGANIZER:Martin Klanjšek
RELATED-TO:fmf-AFLABS-URNIK:srecanje:7533
X-WR-TIMEZONE:Europe/Ljubljana
END:VEVENT
BEGIN:VEVENT
SUMMARY:Elektromagnetno polje (FIZ-3)\, Vaje (V)\, [1]
DTSTART;TZID=Europe/Ljubljana:20221115T100000
DTEND;TZID=Europe/Ljubljana:20221115T120000
DTSTAMP:20260425T160046Z
UID:fmf-AFLABS-URNIK:premaknjeno-srecanje:18383
ATTENDEE:3. letnik (Fizika, 1. stopnja)
CATEGORIES:Entry,Standard
COLOR:darkgreen
DESCRIPTION:Predmet: Elektromagnetno polje (FIZ-3)\, Vaje (V)\, [1]\nLetni
 ki: 3. letnik (Fizika\, 1. stopnja)\nIzvajalci: Martin Klanjšek\nProstor:
  F2
LOCATION:F2
ORGANIZER:Martin Klanjšek
RELATED-TO:fmf-AFLABS-URNIK:srecanje:7533
X-WR-TIMEZONE:Europe/Ljubljana
END:VEVENT
BEGIN:VEVENT
SUMMARY:Elektromagnetno polje (FIZ-3)\, Vaje (V)\, [1]
DTSTART;TZID=Europe/Ljubljana:20221122T100000
DTEND;TZID=Europe/Ljubljana:20221122T120000
DTSTAMP:20260425T160046Z
UID:fmf-AFLABS-URNIK:premaknjeno-srecanje:18384
ATTENDEE:3. letnik (Fizika, 1. stopnja)
CATEGORIES:Entry,Standard
COLOR:darkgreen
DESCRIPTION:Predmet: Elektromagnetno polje (FIZ-3)\, Vaje (V)\, [1]\nLetni
 ki: 3. letnik (Fizika\, 1. stopnja)\nIzvajalci: Martin Klanjšek\nProstor:
  F2
LOCATION:F2
ORGANIZER:Martin Klanjšek
RELATED-TO:fmf-AFLABS-URNIK:srecanje:7533
X-WR-TIMEZONE:Europe/Ljubljana
END:VEVENT
BEGIN:VEVENT
SUMMARY:Elektromagnetno polje (FIZ-3)\, Vaje (V)\, [1]
DTSTART;TZID=Europe/Ljubljana:20221129T100000
DTEND;TZID=Europe/Ljubljana:20221129T120000
DTSTAMP:20260425T160046Z
UID:fmf-AFLABS-URNIK:premaknjeno-srecanje:18385
ATTENDEE:3. letnik (Fizika, 1. stopnja)
CATEGORIES:Entry,Standard
COLOR:darkgreen
DESCRIPTION:Predmet: Elektromagnetno polje (FIZ-3)\, Vaje (V)\, [1]\nLetni
 ki: 3. letnik (Fizika\, 1. stopnja)\nIzvajalci: Martin Klanjšek\nProstor:
  F2
LOCATION:F2
ORGANIZER:Martin Klanjšek
RELATED-TO:fmf-AFLABS-URNIK:srecanje:7533
X-WR-TIMEZONE:Europe/Ljubljana
END:VEVENT
BEGIN:VEVENT
SUMMARY:Elektromagnetno polje (FIZ-3)\, Vaje (V)\, [1]
DTSTART;TZID=Europe/Ljubljana:20221206T100000
DTEND;TZID=Europe/Ljubljana:20221206T120000
DTSTAMP:20260425T160046Z
UID:fmf-AFLABS-URNIK:premaknjeno-srecanje:18386
ATTENDEE:3. letnik (Fizika, 1. stopnja)
CATEGORIES:Entry,Standard
COLOR:darkgreen
DESCRIPTION:Predmet: Elektromagnetno polje (FIZ-3)\, Vaje (V)\, [1]\nLetni
 ki: 3. letnik (Fizika\, 1. stopnja)\nIzvajalci: Martin Klanjšek\nProstor:
  F2
LOCATION:F2
ORGANIZER:Martin Klanjšek
RELATED-TO:fmf-AFLABS-URNIK:srecanje:7533
X-WR-TIMEZONE:Europe/Ljubljana
END:VEVENT
BEGIN:VEVENT
SUMMARY:Elektromagnetno polje (FIZ-3)\, Vaje (V)\, [1]
DTSTART;TZID=Europe/Ljubljana:20221213T100000
DTEND;TZID=Europe/Ljubljana:20221213T120000
DTSTAMP:20260425T160046Z
UID:fmf-AFLABS-URNIK:premaknjeno-srecanje:18387
ATTENDEE:3. letnik (Fizika, 1. stopnja)
CATEGORIES:Entry,Standard
COLOR:darkgreen
DESCRIPTION:Predmet: Elektromagnetno polje (FIZ-3)\, Vaje (V)\, [1]\nLetni
 ki: 3. letnik (Fizika\, 1. stopnja)\nIzvajalci: Martin Klanjšek\nProstor:
  F2
LOCATION:F2
ORGANIZER:Martin Klanjšek
RELATED-TO:fmf-AFLABS-URNIK:srecanje:7533
X-WR-TIMEZONE:Europe/Ljubljana
END:VEVENT
BEGIN:VEVENT
SUMMARY:Elektromagnetno polje (FIZ-3)\, Vaje (V)\, [1]
DTSTART;TZID=Europe/Ljubljana:20221220T100000
DTEND;TZID=Europe/Ljubljana:20221220T120000
DTSTAMP:20260425T160046Z
UID:fmf-AFLABS-URNIK:premaknjeno-srecanje:18388
ATTENDEE:3. letnik (Fizika, 1. stopnja)
CATEGORIES:Entry,Standard
COLOR:darkgreen
DESCRIPTION:Predmet: Elektromagnetno polje (FIZ-3)\, Vaje (V)\, [1]\nLetni
 ki: 3. letnik (Fizika\, 1. stopnja)\nIzvajalci: Martin Klanjšek\nProstor:
  F2
LOCATION:F2
ORGANIZER:Martin Klanjšek
RELATED-TO:fmf-AFLABS-URNIK:srecanje:7533
X-WR-TIMEZONE:Europe/Ljubljana
END:VEVENT
BEGIN:VEVENT
SUMMARY:Elektromagnetno polje (FIZ-3)\, Vaje (V)\, [1]
DTSTART;TZID=Europe/Ljubljana:20221227T100000
DTEND;TZID=Europe/Ljubljana:20221227T120000
DTSTAMP:20260425T160046Z
UID:fmf-AFLABS-URNIK:premaknjeno-srecanje:18389
ATTENDEE:3. letnik (Fizika, 1. stopnja)
CATEGORIES:Entry,Standard
COLOR:darkgreen
DESCRIPTION:Predmet: Elektromagnetno polje (FIZ-3)\, Vaje (V)\, [1]\nLetni
 ki: 3. letnik (Fizika\, 1. stopnja)\nIzvajalci: Martin Klanjšek\nProstor:
  F2
LOCATION:F2
ORGANIZER:Martin Klanjšek
RELATED-TO:fmf-AFLABS-URNIK:srecanje:7533
X-WR-TIMEZONE:Europe/Ljubljana
END:VEVENT
BEGIN:VEVENT
SUMMARY:Elektromagnetno polje (FIZ-3)\, Vaje (V)\, [1]
DTSTART;TZID=Europe/Ljubljana:20230103T100000
DTEND;TZID=Europe/Ljubljana:20230103T120000
DTSTAMP:20260425T160046Z
UID:fmf-AFLABS-URNIK:premaknjeno-srecanje:18390
ATTENDEE:3. letnik (Fizika, 1. stopnja)
CATEGORIES:Entry,Standard
COLOR:darkgreen
DESCRIPTION:Predmet: Elektromagnetno polje (FIZ-3)\, Vaje (V)\, [1]\nLetni
 ki: 3. letnik (Fizika\, 1. stopnja)\nIzvajalci: Martin Klanjšek\nProstor:
  F2
LOCATION:F2
ORGANIZER:Martin Klanjšek
RELATED-TO:fmf-AFLABS-URNIK:srecanje:7533
X-WR-TIMEZONE:Europe/Ljubljana
END:VEVENT
BEGIN:VEVENT
SUMMARY:Elektromagnetno polje (FIZ-3)\, Vaje (V)\, [1]
DTSTART;TZID=Europe/Ljubljana:20230110T100000
DTEND;TZID=Europe/Ljubljana:20230110T120000
DTSTAMP:20260425T160046Z
UID:fmf-AFLABS-URNIK:premaknjeno-srecanje:18391
ATTENDEE:3. letnik (Fizika, 1. stopnja)
CATEGORIES:Entry,Standard
COLOR:darkgreen
DESCRIPTION:Predmet: Elektromagnetno polje (FIZ-3)\, Vaje (V)\, [1]\nLetni
 ki: 3. letnik (Fizika\, 1. stopnja)\nIzvajalci: Martin Klanjšek\nProstor:
  F2
LOCATION:F2
ORGANIZER:Martin Klanjšek
RELATED-TO:fmf-AFLABS-URNIK:srecanje:7533
X-WR-TIMEZONE:Europe/Ljubljana
END:VEVENT
BEGIN:VEVENT
SUMMARY:Elektromagnetno polje (FIZ-3)\, Vaje (V)\, [2]
DTSTART;TZID=Europe/Ljubljana:20221006T100000
DTEND;TZID=Europe/Ljubljana:20221006T120000
DTSTAMP:20260425T160046Z
UID:fmf-AFLABS-URNIK:premaknjeno-srecanje:18487
ATTENDEE:3. letnik (Fizika, 1. stopnja)
CATEGORIES:Entry,Standard
COLOR:darkgreen
DESCRIPTION:Predmet: Elektromagnetno polje (FIZ-3)\, Vaje (V)\, [2]\nLetni
 ki: 3. letnik (Fizika\, 1. stopnja)\nIzvajalci: Martin Klanjšek\nProstor:
  F4
LOCATION:F4
ORGANIZER:Martin Klanjšek
RELATED-TO:fmf-AFLABS-URNIK:srecanje:7534
X-WR-TIMEZONE:Europe/Ljubljana
END:VEVENT
BEGIN:VEVENT
SUMMARY:Elektromagnetno polje (FIZ-3)\, Vaje (V)\, [2]
DTSTART;TZID=Europe/Ljubljana:20221013T100000
DTEND;TZID=Europe/Ljubljana:20221013T120000
DTSTAMP:20260425T160046Z
UID:fmf-AFLABS-URNIK:premaknjeno-srecanje:18488
ATTENDEE:3. letnik (Fizika, 1. stopnja)
CATEGORIES:Entry,Standard
COLOR:darkgreen
DESCRIPTION:Predmet: Elektromagnetno polje (FIZ-3)\, Vaje (V)\, [2]\nLetni
 ki: 3. letnik (Fizika\, 1. stopnja)\nIzvajalci: Martin Klanjšek\nProstor:
  F4
LOCATION:F4
ORGANIZER:Martin Klanjšek
RELATED-TO:fmf-AFLABS-URNIK:srecanje:7534
X-WR-TIMEZONE:Europe/Ljubljana
END:VEVENT
BEGIN:VEVENT
SUMMARY:Elektromagnetno polje (FIZ-3)\, Vaje (V)\, [2]
DTSTART;TZID=Europe/Ljubljana:20221020T100000
DTEND;TZID=Europe/Ljubljana:20221020T120000
DTSTAMP:20260425T160046Z
UID:fmf-AFLABS-URNIK:premaknjeno-srecanje:18489
ATTENDEE:3. letnik (Fizika, 1. stopnja)
CATEGORIES:Entry,Standard
COLOR:darkgreen
DESCRIPTION:Predmet: Elektromagnetno polje (FIZ-3)\, Vaje (V)\, [2]\nLetni
 ki: 3. letnik (Fizika\, 1. stopnja)\nIzvajalci: Martin Klanjšek\nProstor:
  F4
LOCATION:F4
ORGANIZER:Martin Klanjšek
RELATED-TO:fmf-AFLABS-URNIK:srecanje:7534
X-WR-TIMEZONE:Europe/Ljubljana
END:VEVENT
BEGIN:VEVENT
SUMMARY:Elektromagnetno polje (FIZ-3)\, Vaje (V)\, [2]
DTSTART;TZID=Europe/Ljubljana:20221027T100000
DTEND;TZID=Europe/Ljubljana:20221027T120000
DTSTAMP:20260425T160046Z
UID:fmf-AFLABS-URNIK:premaknjeno-srecanje:18490
ATTENDEE:3. letnik (Fizika, 1. stopnja)
CATEGORIES:Entry,Standard
COLOR:darkgreen
DESCRIPTION:Predmet: Elektromagnetno polje (FIZ-3)\, Vaje (V)\, [2]\nLetni
 ki: 3. letnik (Fizika\, 1. stopnja)\nIzvajalci: Martin Klanjšek\nProstor:
  F4
LOCATION:F4
ORGANIZER:Martin Klanjšek
RELATED-TO:fmf-AFLABS-URNIK:srecanje:7534
X-WR-TIMEZONE:Europe/Ljubljana
END:VEVENT
BEGIN:VEVENT
SUMMARY:Elektromagnetno polje (FIZ-3)\, Vaje (V)\, [2]
DTSTART;TZID=Europe/Ljubljana:20221103T100000
DTEND;TZID=Europe/Ljubljana:20221103T120000
DTSTAMP:20260425T160046Z
UID:fmf-AFLABS-URNIK:premaknjeno-srecanje:18491
ATTENDEE:3. letnik (Fizika, 1. stopnja)
CATEGORIES:Entry,Standard
COLOR:darkgreen
DESCRIPTION:Predmet: Elektromagnetno polje (FIZ-3)\, Vaje (V)\, [2]\nLetni
 ki: 3. letnik (Fizika\, 1. stopnja)\nIzvajalci: Martin Klanjšek\nProstor:
  F4
LOCATION:F4
ORGANIZER:Martin Klanjšek
RELATED-TO:fmf-AFLABS-URNIK:srecanje:7534
X-WR-TIMEZONE:Europe/Ljubljana
END:VEVENT
BEGIN:VEVENT
SUMMARY:Elektromagnetno polje (FIZ-3)\, Vaje (V)\, [2]
DTSTART;TZID=Europe/Ljubljana:20221110T100000
DTEND;TZID=Europe/Ljubljana:20221110T120000
DTSTAMP:20260425T160046Z
UID:fmf-AFLABS-URNIK:premaknjeno-srecanje:18492
ATTENDEE:3. letnik (Fizika, 1. stopnja)
CATEGORIES:Entry,Standard
COLOR:darkgreen
DESCRIPTION:Predmet: Elektromagnetno polje (FIZ-3)\, Vaje (V)\, [2]\nLetni
 ki: 3. letnik (Fizika\, 1. stopnja)\nIzvajalci: Martin Klanjšek\nProstor:
  F4
LOCATION:F4
ORGANIZER:Martin Klanjšek
RELATED-TO:fmf-AFLABS-URNIK:srecanje:7534
X-WR-TIMEZONE:Europe/Ljubljana
END:VEVENT
BEGIN:VEVENT
SUMMARY:Elektromagnetno polje (FIZ-3)\, Vaje (V)\, [2]
DTSTART;TZID=Europe/Ljubljana:20221117T100000
DTEND;TZID=Europe/Ljubljana:20221117T120000
DTSTAMP:20260425T160046Z
UID:fmf-AFLABS-URNIK:premaknjeno-srecanje:18493
ATTENDEE:3. letnik (Fizika, 1. stopnja)
CATEGORIES:Entry,Standard
COLOR:darkgreen
DESCRIPTION:Predmet: Elektromagnetno polje (FIZ-3)\, Vaje (V)\, [2]\nLetni
 ki: 3. letnik (Fizika\, 1. stopnja)\nIzvajalci: Martin Klanjšek\nProstor:
  F4
LOCATION:F4
ORGANIZER:Martin Klanjšek
RELATED-TO:fmf-AFLABS-URNIK:srecanje:7534
X-WR-TIMEZONE:Europe/Ljubljana
END:VEVENT
BEGIN:VEVENT
SUMMARY:Elektromagnetno polje (FIZ-3)\, Vaje (V)\, [2]
DTSTART;TZID=Europe/Ljubljana:20221124T100000
DTEND;TZID=Europe/Ljubljana:20221124T120000
DTSTAMP:20260425T160046Z
UID:fmf-AFLABS-URNIK:premaknjeno-srecanje:18494
ATTENDEE:3. letnik (Fizika, 1. stopnja)
CATEGORIES:Entry,Standard
COLOR:darkgreen
DESCRIPTION:Predmet: Elektromagnetno polje (FIZ-3)\, Vaje (V)\, [2]\nLetni
 ki: 3. letnik (Fizika\, 1. stopnja)\nIzvajalci: Martin Klanjšek\nProstor:
  F4
LOCATION:F4
ORGANIZER:Martin Klanjšek
RELATED-TO:fmf-AFLABS-URNIK:srecanje:7534
X-WR-TIMEZONE:Europe/Ljubljana
END:VEVENT
BEGIN:VEVENT
SUMMARY:Elektromagnetno polje (FIZ-3)\, Vaje (V)\, [2]
DTSTART;TZID=Europe/Ljubljana:20221201T100000
DTEND;TZID=Europe/Ljubljana:20221201T120000
DTSTAMP:20260425T160046Z
UID:fmf-AFLABS-URNIK:premaknjeno-srecanje:18495
ATTENDEE:3. letnik (Fizika, 1. stopnja)
CATEGORIES:Entry,Standard
COLOR:darkgreen
DESCRIPTION:Predmet: Elektromagnetno polje (FIZ-3)\, Vaje (V)\, [2]\nLetni
 ki: 3. letnik (Fizika\, 1. stopnja)\nIzvajalci: Martin Klanjšek\nProstor:
  F4
LOCATION:F4
ORGANIZER:Martin Klanjšek
RELATED-TO:fmf-AFLABS-URNIK:srecanje:7534
X-WR-TIMEZONE:Europe/Ljubljana
END:VEVENT
BEGIN:VEVENT
SUMMARY:Elektromagnetno polje (FIZ-3)\, Vaje (V)\, [2]
DTSTART;TZID=Europe/Ljubljana:20221208T100000
DTEND;TZID=Europe/Ljubljana:20221208T120000
DTSTAMP:20260425T160046Z
UID:fmf-AFLABS-URNIK:premaknjeno-srecanje:18496
ATTENDEE:3. letnik (Fizika, 1. stopnja)
CATEGORIES:Entry,Standard
COLOR:darkgreen
DESCRIPTION:Predmet: Elektromagnetno polje (FIZ-3)\, Vaje (V)\, [2]\nLetni
 ki: 3. letnik (Fizika\, 1. stopnja)\nIzvajalci: Martin Klanjšek\nProstor:
  F4
LOCATION:F4
ORGANIZER:Martin Klanjšek
RELATED-TO:fmf-AFLABS-URNIK:srecanje:7534
X-WR-TIMEZONE:Europe/Ljubljana
END:VEVENT
BEGIN:VEVENT
SUMMARY:Elektromagnetno polje (FIZ-3)\, Vaje (V)\, [2]
DTSTART;TZID=Europe/Ljubljana:20221215T100000
DTEND;TZID=Europe/Ljubljana:20221215T120000
DTSTAMP:20260425T160046Z
UID:fmf-AFLABS-URNIK:premaknjeno-srecanje:18497
ATTENDEE:3. letnik (Fizika, 1. stopnja)
CATEGORIES:Entry,Standard
COLOR:darkgreen
DESCRIPTION:Predmet: Elektromagnetno polje (FIZ-3)\, Vaje (V)\, [2]\nLetni
 ki: 3. letnik (Fizika\, 1. stopnja)\nIzvajalci: Martin Klanjšek\nProstor:
  F4
LOCATION:F4
ORGANIZER:Martin Klanjšek
RELATED-TO:fmf-AFLABS-URNIK:srecanje:7534
X-WR-TIMEZONE:Europe/Ljubljana
END:VEVENT
BEGIN:VEVENT
SUMMARY:Elektromagnetno polje (FIZ-3)\, Vaje (V)\, [2]
DTSTART;TZID=Europe/Ljubljana:20221222T100000
DTEND;TZID=Europe/Ljubljana:20221222T120000
DTSTAMP:20260425T160046Z
UID:fmf-AFLABS-URNIK:premaknjeno-srecanje:18498
ATTENDEE:3. letnik (Fizika, 1. stopnja)
CATEGORIES:Entry,Standard
COLOR:darkgreen
DESCRIPTION:Predmet: Elektromagnetno polje (FIZ-3)\, Vaje (V)\, [2]\nLetni
 ki: 3. letnik (Fizika\, 1. stopnja)\nIzvajalci: Martin Klanjšek\nProstor:
  F4
LOCATION:F4
ORGANIZER:Martin Klanjšek
RELATED-TO:fmf-AFLABS-URNIK:srecanje:7534
X-WR-TIMEZONE:Europe/Ljubljana
END:VEVENT
BEGIN:VEVENT
SUMMARY:Elektromagnetno polje (FIZ-3)\, Vaje (V)\, [2]
DTSTART;TZID=Europe/Ljubljana:20221229T100000
DTEND;TZID=Europe/Ljubljana:20221229T120000
DTSTAMP:20260425T160046Z
UID:fmf-AFLABS-URNIK:premaknjeno-srecanje:18499
ATTENDEE:3. letnik (Fizika, 1. stopnja)
CATEGORIES:Entry,Standard
COLOR:darkgreen
DESCRIPTION:Predmet: Elektromagnetno polje (FIZ-3)\, Vaje (V)\, [2]\nLetni
 ki: 3. letnik (Fizika\, 1. stopnja)\nIzvajalci: Martin Klanjšek\nProstor:
  F4
LOCATION:F4
ORGANIZER:Martin Klanjšek
RELATED-TO:fmf-AFLABS-URNIK:srecanje:7534
X-WR-TIMEZONE:Europe/Ljubljana
END:VEVENT
BEGIN:VEVENT
SUMMARY:Elektromagnetno polje (FIZ-3)\, Vaje (V)\, [2]
DTSTART;TZID=Europe/Ljubljana:20230105T100000
DTEND;TZID=Europe/Ljubljana:20230105T120000
DTSTAMP:20260425T160046Z
UID:fmf-AFLABS-URNIK:premaknjeno-srecanje:18500
ATTENDEE:3. letnik (Fizika, 1. stopnja)
CATEGORIES:Entry,Standard
COLOR:darkgreen
DESCRIPTION:Predmet: Elektromagnetno polje (FIZ-3)\, Vaje (V)\, [2]\nLetni
 ki: 3. letnik (Fizika\, 1. stopnja)\nIzvajalci: Martin Klanjšek\nProstor:
  F4
LOCATION:F4
ORGANIZER:Martin Klanjšek
RELATED-TO:fmf-AFLABS-URNIK:srecanje:7534
X-WR-TIMEZONE:Europe/Ljubljana
END:VEVENT
BEGIN:VEVENT
SUMMARY:Elektromagnetno polje (FIZ-3)\, Vaje (V)\, [2]
DTSTART;TZID=Europe/Ljubljana:20230112T100000
DTEND;TZID=Europe/Ljubljana:20230112T120000
DTSTAMP:20260425T160046Z
UID:fmf-AFLABS-URNIK:premaknjeno-srecanje:18501
ATTENDEE:3. letnik (Fizika, 1. stopnja)
CATEGORIES:Entry,Standard
COLOR:darkgreen
DESCRIPTION:Predmet: Elektromagnetno polje (FIZ-3)\, Vaje (V)\, [2]\nLetni
 ki: 3. letnik (Fizika\, 1. stopnja)\nIzvajalci: Martin Klanjšek\nProstor:
  F4
LOCATION:F4
ORGANIZER:Martin Klanjšek
RELATED-TO:fmf-AFLABS-URNIK:srecanje:7534
X-WR-TIMEZONE:Europe/Ljubljana
END:VEVENT
END:VCALENDAR
