BEGIN:VCALENDAR
VERSION:2.0
PRODID:-//AFLabs urnik izvoz - fmf//aflabs.si//SI
DTSTAMP:20260426T004819Z
NAME:UL FMF urnik
REFRESH-INTERVAL:PT1H
SOURCE:https://urnik.fmf.uni-lj.si/teacher/128?day=2025-10-20&export=1
URL:https://urnik.fmf.uni-lj.si/teacher/128?day=2025-10-20&export=1
X-PUBLISHED-TTL:PT1H
X-WR-CALNAME:UL FMF urnik
X-WR-TIMEZONE:Europe/Ljubljana
BEGIN:VTIMEZONE
TZID:Europe/Ljubljana
BEGIN:DAYLIGHT
DTSTART:20260329T020000
RDATE:20260329T020000
RDATE:20270328T020000
TZNAME:CEST
TZOFFSETFROM:+0100
TZOFFSETTO:+0200
END:DAYLIGHT
BEGIN:STANDARD
DTSTART:20261025T030000
RDATE:20261025T030000
RDATE:20271031T030000
TZNAME:CET
TZOFFSETFROM:+0200
TZOFFSETTO:+0100
END:STANDARD
END:VTIMEZONE
BEGIN:VEVENT
SUMMARY:Elektromagnetno polje (FIZ-3)\, Vaje (V)\, [2]
DTSTART;TZID=Europe/Ljubljana:20251002T130000
DTEND;TZID=Europe/Ljubljana:20251002T150000
DTSTAMP:20260426T004819Z
UID:fmf-AFLABS-URNIK:premaknjeno-srecanje:230735
ATTENDEE:3. letnik (Fizika, 1. stopnja)
CATEGORIES:Entry,Standard
COLOR:darkgreen
DESCRIPTION:Predmet: Elektromagnetno polje (FIZ-3)\, Vaje (V)\, [2]\nLetni
 ki: 3. letnik (Fizika\, 1. stopnja)\nIzvajalci: Martin Klanjšek\nProstor:
  F4
LOCATION:F4
ORGANIZER:Martin Klanjšek
RELATED-TO:fmf-AFLABS-URNIK:srecanje:15855
X-WR-TIMEZONE:Europe/Ljubljana
END:VEVENT
BEGIN:VEVENT
SUMMARY:Elektromagnetno polje (FIZ-3)\, Vaje (V)\, [2]
DTSTART;TZID=Europe/Ljubljana:20251009T130000
DTEND;TZID=Europe/Ljubljana:20251009T150000
DTSTAMP:20260426T004819Z
UID:fmf-AFLABS-URNIK:premaknjeno-srecanje:230736
ATTENDEE:3. letnik (Fizika, 1. stopnja)
CATEGORIES:Entry,Standard
COLOR:darkgreen
DESCRIPTION:Predmet: Elektromagnetno polje (FIZ-3)\, Vaje (V)\, [2]\nLetni
 ki: 3. letnik (Fizika\, 1. stopnja)\nIzvajalci: Martin Klanjšek\nProstor:
  F4
LOCATION:F4
ORGANIZER:Martin Klanjšek
RELATED-TO:fmf-AFLABS-URNIK:srecanje:15855
X-WR-TIMEZONE:Europe/Ljubljana
END:VEVENT
BEGIN:VEVENT
SUMMARY:Elektromagnetno polje (FIZ-3)\, Vaje (V)\, [2]
DTSTART;TZID=Europe/Ljubljana:20251016T130000
DTEND;TZID=Europe/Ljubljana:20251016T150000
DTSTAMP:20260426T004819Z
UID:fmf-AFLABS-URNIK:premaknjeno-srecanje:230737
ATTENDEE:3. letnik (Fizika, 1. stopnja)
CATEGORIES:Entry,Standard
COLOR:darkgreen
DESCRIPTION:Predmet: Elektromagnetno polje (FIZ-3)\, Vaje (V)\, [2]\nLetni
 ki: 3. letnik (Fizika\, 1. stopnja)\nIzvajalci: Martin Klanjšek\nProstor:
  F4
LOCATION:F4
ORGANIZER:Martin Klanjšek
RELATED-TO:fmf-AFLABS-URNIK:srecanje:15855
X-WR-TIMEZONE:Europe/Ljubljana
END:VEVENT
BEGIN:VEVENT
SUMMARY:Elektromagnetno polje (FIZ-3)\, Vaje (V)\, [2]
DTSTART;TZID=Europe/Ljubljana:20251023T130000
DTEND;TZID=Europe/Ljubljana:20251023T150000
DTSTAMP:20260426T004819Z
UID:fmf-AFLABS-URNIK:premaknjeno-srecanje:230738
ATTENDEE:3. letnik (Fizika, 1. stopnja)
CATEGORIES:Entry,Standard
COLOR:darkgreen
DESCRIPTION:Predmet: Elektromagnetno polje (FIZ-3)\, Vaje (V)\, [2]\nLetni
 ki: 3. letnik (Fizika\, 1. stopnja)\nIzvajalci: Martin Klanjšek\nProstor:
  F4
LOCATION:F4
ORGANIZER:Martin Klanjšek
RELATED-TO:fmf-AFLABS-URNIK:srecanje:15855
X-WR-TIMEZONE:Europe/Ljubljana
END:VEVENT
BEGIN:VEVENT
SUMMARY:Elektromagnetno polje (FIZ-3)\, Vaje (V)\, [2]
DTSTART;TZID=Europe/Ljubljana:20251030T130000
DTEND;TZID=Europe/Ljubljana:20251030T150000
DTSTAMP:20260426T004819Z
UID:fmf-AFLABS-URNIK:premaknjeno-srecanje:230739
ATTENDEE:3. letnik (Fizika, 1. stopnja)
CATEGORIES:Entry,Standard
COLOR:darkgreen
DESCRIPTION:Predmet: Elektromagnetno polje (FIZ-3)\, Vaje (V)\, [2]\nLetni
 ki: 3. letnik (Fizika\, 1. stopnja)\nIzvajalci: Martin Klanjšek\nProstor:
  F4
LOCATION:F4
ORGANIZER:Martin Klanjšek
RELATED-TO:fmf-AFLABS-URNIK:srecanje:15855
X-WR-TIMEZONE:Europe/Ljubljana
END:VEVENT
BEGIN:VEVENT
SUMMARY:Elektromagnetno polje (FIZ-3)\, Vaje (V)\, [2]
DTSTART;TZID=Europe/Ljubljana:20251106T130000
DTEND;TZID=Europe/Ljubljana:20251106T150000
DTSTAMP:20260426T004819Z
UID:fmf-AFLABS-URNIK:premaknjeno-srecanje:230740
ATTENDEE:3. letnik (Fizika, 1. stopnja)
CATEGORIES:Entry,Standard
COLOR:darkgreen
DESCRIPTION:Predmet: Elektromagnetno polje (FIZ-3)\, Vaje (V)\, [2]\nLetni
 ki: 3. letnik (Fizika\, 1. stopnja)\nIzvajalci: Martin Klanjšek\nProstor:
  F4
LOCATION:F4
ORGANIZER:Martin Klanjšek
RELATED-TO:fmf-AFLABS-URNIK:srecanje:15855
X-WR-TIMEZONE:Europe/Ljubljana
END:VEVENT
BEGIN:VEVENT
SUMMARY:Elektromagnetno polje (FIZ-3)\, Vaje (V)\, [2]
DTSTART;TZID=Europe/Ljubljana:20251113T130000
DTEND;TZID=Europe/Ljubljana:20251113T150000
DTSTAMP:20260426T004819Z
UID:fmf-AFLABS-URNIK:premaknjeno-srecanje:230741
ATTENDEE:3. letnik (Fizika, 1. stopnja)
CATEGORIES:Entry,Standard
COLOR:darkgreen
DESCRIPTION:Predmet: Elektromagnetno polje (FIZ-3)\, Vaje (V)\, [2]\nLetni
 ki: 3. letnik (Fizika\, 1. stopnja)\nIzvajalci: Martin Klanjšek\nProstor:
  F4
LOCATION:F4
ORGANIZER:Martin Klanjšek
RELATED-TO:fmf-AFLABS-URNIK:srecanje:15855
X-WR-TIMEZONE:Europe/Ljubljana
END:VEVENT
BEGIN:VEVENT
SUMMARY:Elektromagnetno polje (FIZ-3)\, Vaje (V)\, [2]
DTSTART;TZID=Europe/Ljubljana:20251120T130000
DTEND;TZID=Europe/Ljubljana:20251120T150000
DTSTAMP:20260426T004819Z
UID:fmf-AFLABS-URNIK:premaknjeno-srecanje:230742
ATTENDEE:3. letnik (Fizika, 1. stopnja)
CATEGORIES:Entry,Standard
COLOR:darkgreen
DESCRIPTION:Predmet: Elektromagnetno polje (FIZ-3)\, Vaje (V)\, [2]\nLetni
 ki: 3. letnik (Fizika\, 1. stopnja)\nIzvajalci: Martin Klanjšek\nProstor:
  F4
LOCATION:F4
ORGANIZER:Martin Klanjšek
RELATED-TO:fmf-AFLABS-URNIK:srecanje:15855
X-WR-TIMEZONE:Europe/Ljubljana
END:VEVENT
BEGIN:VEVENT
SUMMARY:Elektromagnetno polje (FIZ-3)\, Vaje (V)\, [2]
DTSTART;TZID=Europe/Ljubljana:20251127T130000
DTEND;TZID=Europe/Ljubljana:20251127T150000
DTSTAMP:20260426T004819Z
UID:fmf-AFLABS-URNIK:premaknjeno-srecanje:230743
ATTENDEE:3. letnik (Fizika, 1. stopnja)
CATEGORIES:Entry,Standard
COLOR:darkgreen
DESCRIPTION:Predmet: Elektromagnetno polje (FIZ-3)\, Vaje (V)\, [2]\nLetni
 ki: 3. letnik (Fizika\, 1. stopnja)\nIzvajalci: Martin Klanjšek\nProstor:
  F4
LOCATION:F4
ORGANIZER:Martin Klanjšek
RELATED-TO:fmf-AFLABS-URNIK:srecanje:15855
X-WR-TIMEZONE:Europe/Ljubljana
END:VEVENT
BEGIN:VEVENT
SUMMARY:Elektromagnetno polje (FIZ-3)\, Vaje (V)\, [2]
DTSTART;TZID=Europe/Ljubljana:20251204T130000
DTEND;TZID=Europe/Ljubljana:20251204T150000
DTSTAMP:20260426T004819Z
UID:fmf-AFLABS-URNIK:premaknjeno-srecanje:230744
ATTENDEE:3. letnik (Fizika, 1. stopnja)
CATEGORIES:Entry,Standard
COLOR:darkgreen
DESCRIPTION:Predmet: Elektromagnetno polje (FIZ-3)\, Vaje (V)\, [2]\nLetni
 ki: 3. letnik (Fizika\, 1. stopnja)\nIzvajalci: Martin Klanjšek\nProstor:
  F4
LOCATION:F4
ORGANIZER:Martin Klanjšek
RELATED-TO:fmf-AFLABS-URNIK:srecanje:15855
X-WR-TIMEZONE:Europe/Ljubljana
END:VEVENT
BEGIN:VEVENT
SUMMARY:Elektromagnetno polje (FIZ-3)\, Vaje (V)\, [2]
DTSTART;TZID=Europe/Ljubljana:20251211T130000
DTEND;TZID=Europe/Ljubljana:20251211T150000
DTSTAMP:20260426T004819Z
UID:fmf-AFLABS-URNIK:premaknjeno-srecanje:230745
ATTENDEE:3. letnik (Fizika, 1. stopnja)
CATEGORIES:Entry,Standard
COLOR:darkgreen
DESCRIPTION:Predmet: Elektromagnetno polje (FIZ-3)\, Vaje (V)\, [2]\nLetni
 ki: 3. letnik (Fizika\, 1. stopnja)\nIzvajalci: Martin Klanjšek\nProstor:
  F4
LOCATION:F4
ORGANIZER:Martin Klanjšek
RELATED-TO:fmf-AFLABS-URNIK:srecanje:15855
X-WR-TIMEZONE:Europe/Ljubljana
END:VEVENT
BEGIN:VEVENT
SUMMARY:Elektromagnetno polje (FIZ-3)\, Vaje (V)\, [2]
DTSTART;TZID=Europe/Ljubljana:20251218T130000
DTEND;TZID=Europe/Ljubljana:20251218T150000
DTSTAMP:20260426T004819Z
UID:fmf-AFLABS-URNIK:premaknjeno-srecanje:230746
ATTENDEE:3. letnik (Fizika, 1. stopnja)
CATEGORIES:Entry,Standard
COLOR:darkgreen
DESCRIPTION:Predmet: Elektromagnetno polje (FIZ-3)\, Vaje (V)\, [2]\nLetni
 ki: 3. letnik (Fizika\, 1. stopnja)\nIzvajalci: Martin Klanjšek\nProstor:
  F4
LOCATION:F4
ORGANIZER:Martin Klanjšek
RELATED-TO:fmf-AFLABS-URNIK:srecanje:15855
X-WR-TIMEZONE:Europe/Ljubljana
END:VEVENT
BEGIN:VEVENT
SUMMARY:Elektromagnetno polje (FIZ-3)\, Vaje (V)\, [2]
DTSTART;TZID=Europe/Ljubljana:20260108T130000
DTEND;TZID=Europe/Ljubljana:20260108T150000
DTSTAMP:20260426T004819Z
UID:fmf-AFLABS-URNIK:premaknjeno-srecanje:230747
ATTENDEE:3. letnik (Fizika, 1. stopnja)
CATEGORIES:Entry,Standard
COLOR:darkgreen
DESCRIPTION:Predmet: Elektromagnetno polje (FIZ-3)\, Vaje (V)\, [2]\nLetni
 ki: 3. letnik (Fizika\, 1. stopnja)\nIzvajalci: Martin Klanjšek\nProstor:
  F4
LOCATION:F4
ORGANIZER:Martin Klanjšek
RELATED-TO:fmf-AFLABS-URNIK:srecanje:15855
X-WR-TIMEZONE:Europe/Ljubljana
END:VEVENT
BEGIN:VEVENT
SUMMARY:Elektromagnetno polje (FIZ-3)\, Vaje (V)\, [2]
DTSTART;TZID=Europe/Ljubljana:20260115T130000
DTEND;TZID=Europe/Ljubljana:20260115T150000
DTSTAMP:20260426T004819Z
UID:fmf-AFLABS-URNIK:premaknjeno-srecanje:230748
ATTENDEE:3. letnik (Fizika, 1. stopnja)
CATEGORIES:Entry,Standard
COLOR:darkgreen
DESCRIPTION:Predmet: Elektromagnetno polje (FIZ-3)\, Vaje (V)\, [2]\nLetni
 ki: 3. letnik (Fizika\, 1. stopnja)\nIzvajalci: Martin Klanjšek\nProstor:
  F4
LOCATION:F4
ORGANIZER:Martin Klanjšek
RELATED-TO:fmf-AFLABS-URNIK:srecanje:15855
X-WR-TIMEZONE:Europe/Ljubljana
END:VEVENT
BEGIN:VEVENT
SUMMARY:Elektromagnetno polje (FIZ-3)\, Vaje (V)\, [1]
DTSTART;TZID=Europe/Ljubljana:20251007T100000
DTEND;TZID=Europe/Ljubljana:20251007T120000
DTSTAMP:20260426T004819Z
UID:fmf-AFLABS-URNIK:premaknjeno-srecanje:216702
ATTENDEE:3. letnik (Fizika, 1. stopnja)
CATEGORIES:Entry,Standard
COLOR:darkgreen
DESCRIPTION:Predmet: Elektromagnetno polje (FIZ-3)\, Vaje (V)\, [1]\nLetni
 ki: 3. letnik (Fizika\, 1. stopnja)\nIzvajalci: Martin Klanjšek\nProstor:
  F2
LOCATION:F2
ORGANIZER:Martin Klanjšek
RELATED-TO:fmf-AFLABS-URNIK:srecanje:15854
X-WR-TIMEZONE:Europe/Ljubljana
END:VEVENT
BEGIN:VEVENT
SUMMARY:Elektromagnetno polje (FIZ-3)\, Vaje (V)\, [1]
DTSTART;TZID=Europe/Ljubljana:20251014T100000
DTEND;TZID=Europe/Ljubljana:20251014T120000
DTSTAMP:20260426T004819Z
UID:fmf-AFLABS-URNIK:premaknjeno-srecanje:216703
ATTENDEE:3. letnik (Fizika, 1. stopnja)
CATEGORIES:Entry,Standard
COLOR:darkgreen
DESCRIPTION:Predmet: Elektromagnetno polje (FIZ-3)\, Vaje (V)\, [1]\nLetni
 ki: 3. letnik (Fizika\, 1. stopnja)\nIzvajalci: Martin Klanjšek\nProstor:
  F2
LOCATION:F2
ORGANIZER:Martin Klanjšek
RELATED-TO:fmf-AFLABS-URNIK:srecanje:15854
X-WR-TIMEZONE:Europe/Ljubljana
END:VEVENT
BEGIN:VEVENT
SUMMARY:Elektromagnetno polje (FIZ-3)\, Vaje (V)\, [1]
DTSTART;TZID=Europe/Ljubljana:20251021T100000
DTEND;TZID=Europe/Ljubljana:20251021T120000
DTSTAMP:20260426T004819Z
UID:fmf-AFLABS-URNIK:premaknjeno-srecanje:216704
ATTENDEE:3. letnik (Fizika, 1. stopnja)
CATEGORIES:Entry,Standard
COLOR:darkgreen
DESCRIPTION:Predmet: Elektromagnetno polje (FIZ-3)\, Vaje (V)\, [1]\nLetni
 ki: 3. letnik (Fizika\, 1. stopnja)\nIzvajalci: Martin Klanjšek\nProstor:
  F2
LOCATION:F2
ORGANIZER:Martin Klanjšek
RELATED-TO:fmf-AFLABS-URNIK:srecanje:15854
X-WR-TIMEZONE:Europe/Ljubljana
END:VEVENT
BEGIN:VEVENT
SUMMARY:Elektromagnetno polje (FIZ-3)\, Vaje (V)\, [1]
DTSTART;TZID=Europe/Ljubljana:20251028T100000
DTEND;TZID=Europe/Ljubljana:20251028T120000
DTSTAMP:20260426T004819Z
UID:fmf-AFLABS-URNIK:premaknjeno-srecanje:216705
ATTENDEE:3. letnik (Fizika, 1. stopnja)
CATEGORIES:Entry,Standard
COLOR:darkgreen
DESCRIPTION:Predmet: Elektromagnetno polje (FIZ-3)\, Vaje (V)\, [1]\nLetni
 ki: 3. letnik (Fizika\, 1. stopnja)\nIzvajalci: Martin Klanjšek\nProstor:
  F2
LOCATION:F2
ORGANIZER:Martin Klanjšek
RELATED-TO:fmf-AFLABS-URNIK:srecanje:15854
X-WR-TIMEZONE:Europe/Ljubljana
END:VEVENT
BEGIN:VEVENT
SUMMARY:Elektromagnetno polje (FIZ-3)\, Vaje (V)\, [1]
DTSTART;TZID=Europe/Ljubljana:20251104T100000
DTEND;TZID=Europe/Ljubljana:20251104T120000
DTSTAMP:20260426T004819Z
UID:fmf-AFLABS-URNIK:premaknjeno-srecanje:216706
ATTENDEE:3. letnik (Fizika, 1. stopnja)
CATEGORIES:Entry,Standard
COLOR:darkgreen
DESCRIPTION:Predmet: Elektromagnetno polje (FIZ-3)\, Vaje (V)\, [1]\nLetni
 ki: 3. letnik (Fizika\, 1. stopnja)\nIzvajalci: Martin Klanjšek\nProstor:
  F2
LOCATION:F2
ORGANIZER:Martin Klanjšek
RELATED-TO:fmf-AFLABS-URNIK:srecanje:15854
X-WR-TIMEZONE:Europe/Ljubljana
END:VEVENT
BEGIN:VEVENT
SUMMARY:Elektromagnetno polje (FIZ-3)\, Vaje (V)\, [1]
DTSTART;TZID=Europe/Ljubljana:20251111T100000
DTEND;TZID=Europe/Ljubljana:20251111T120000
DTSTAMP:20260426T004819Z
UID:fmf-AFLABS-URNIK:premaknjeno-srecanje:216707
ATTENDEE:3. letnik (Fizika, 1. stopnja)
CATEGORIES:Entry,Standard
COLOR:darkgreen
DESCRIPTION:Predmet: Elektromagnetno polje (FIZ-3)\, Vaje (V)\, [1]\nLetni
 ki: 3. letnik (Fizika\, 1. stopnja)\nIzvajalci: Martin Klanjšek\nProstor:
  F2
LOCATION:F2
ORGANIZER:Martin Klanjšek
RELATED-TO:fmf-AFLABS-URNIK:srecanje:15854
X-WR-TIMEZONE:Europe/Ljubljana
END:VEVENT
BEGIN:VEVENT
SUMMARY:Elektromagnetno polje (FIZ-3)\, Vaje (V)\, [1]
DTSTART;TZID=Europe/Ljubljana:20251118T100000
DTEND;TZID=Europe/Ljubljana:20251118T120000
DTSTAMP:20260426T004819Z
UID:fmf-AFLABS-URNIK:premaknjeno-srecanje:216708
ATTENDEE:3. letnik (Fizika, 1. stopnja)
CATEGORIES:Entry,Standard
COLOR:darkgreen
DESCRIPTION:Predmet: Elektromagnetno polje (FIZ-3)\, Vaje (V)\, [1]\nLetni
 ki: 3. letnik (Fizika\, 1. stopnja)\nIzvajalci: Martin Klanjšek\nProstor:
  F2
LOCATION:F2
ORGANIZER:Martin Klanjšek
RELATED-TO:fmf-AFLABS-URNIK:srecanje:15854
X-WR-TIMEZONE:Europe/Ljubljana
END:VEVENT
BEGIN:VEVENT
SUMMARY:Elektromagnetno polje (FIZ-3)\, Vaje (V)\, [1]
DTSTART;TZID=Europe/Ljubljana:20251125T100000
DTEND;TZID=Europe/Ljubljana:20251125T120000
DTSTAMP:20260426T004819Z
UID:fmf-AFLABS-URNIK:premaknjeno-srecanje:216709
ATTENDEE:3. letnik (Fizika, 1. stopnja)
CATEGORIES:Entry,Standard
COLOR:darkgreen
DESCRIPTION:Predmet: Elektromagnetno polje (FIZ-3)\, Vaje (V)\, [1]\nLetni
 ki: 3. letnik (Fizika\, 1. stopnja)\nIzvajalci: Martin Klanjšek\nProstor:
  F2
LOCATION:F2
ORGANIZER:Martin Klanjšek
RELATED-TO:fmf-AFLABS-URNIK:srecanje:15854
X-WR-TIMEZONE:Europe/Ljubljana
END:VEVENT
BEGIN:VEVENT
SUMMARY:Elektromagnetno polje (FIZ-3)\, Vaje (V)\, [1]
DTSTART;TZID=Europe/Ljubljana:20251202T100000
DTEND;TZID=Europe/Ljubljana:20251202T120000
DTSTAMP:20260426T004819Z
UID:fmf-AFLABS-URNIK:premaknjeno-srecanje:216710
ATTENDEE:3. letnik (Fizika, 1. stopnja)
CATEGORIES:Entry,Standard
COLOR:darkgreen
DESCRIPTION:Predmet: Elektromagnetno polje (FIZ-3)\, Vaje (V)\, [1]\nLetni
 ki: 3. letnik (Fizika\, 1. stopnja)\nIzvajalci: Martin Klanjšek\nProstor:
  F2
LOCATION:F2
ORGANIZER:Martin Klanjšek
RELATED-TO:fmf-AFLABS-URNIK:srecanje:15854
X-WR-TIMEZONE:Europe/Ljubljana
END:VEVENT
BEGIN:VEVENT
SUMMARY:Elektromagnetno polje (FIZ-3)\, Vaje (V)\, [1]
DTSTART;TZID=Europe/Ljubljana:20251209T100000
DTEND;TZID=Europe/Ljubljana:20251209T120000
DTSTAMP:20260426T004819Z
UID:fmf-AFLABS-URNIK:premaknjeno-srecanje:216711
ATTENDEE:3. letnik (Fizika, 1. stopnja)
CATEGORIES:Entry,Standard
COLOR:darkgreen
DESCRIPTION:Predmet: Elektromagnetno polje (FIZ-3)\, Vaje (V)\, [1]\nLetni
 ki: 3. letnik (Fizika\, 1. stopnja)\nIzvajalci: Martin Klanjšek\nProstor:
  F2
LOCATION:F2
ORGANIZER:Martin Klanjšek
RELATED-TO:fmf-AFLABS-URNIK:srecanje:15854
X-WR-TIMEZONE:Europe/Ljubljana
END:VEVENT
BEGIN:VEVENT
SUMMARY:Elektromagnetno polje (FIZ-3)\, Vaje (V)\, [1]
DTSTART;TZID=Europe/Ljubljana:20251216T100000
DTEND;TZID=Europe/Ljubljana:20251216T120000
DTSTAMP:20260426T004819Z
UID:fmf-AFLABS-URNIK:premaknjeno-srecanje:216712
ATTENDEE:3. letnik (Fizika, 1. stopnja)
CATEGORIES:Entry,Standard
COLOR:darkgreen
DESCRIPTION:Predmet: Elektromagnetno polje (FIZ-3)\, Vaje (V)\, [1]\nLetni
 ki: 3. letnik (Fizika\, 1. stopnja)\nIzvajalci: Martin Klanjšek\nProstor:
  F2
LOCATION:F2
ORGANIZER:Martin Klanjšek
RELATED-TO:fmf-AFLABS-URNIK:srecanje:15854
X-WR-TIMEZONE:Europe/Ljubljana
END:VEVENT
BEGIN:VEVENT
SUMMARY:Elektromagnetno polje (FIZ-3)\, Vaje (V)\, [1]
DTSTART;TZID=Europe/Ljubljana:20251223T100000
DTEND;TZID=Europe/Ljubljana:20251223T120000
DTSTAMP:20260426T004819Z
UID:fmf-AFLABS-URNIK:premaknjeno-srecanje:216713
ATTENDEE:3. letnik (Fizika, 1. stopnja)
CATEGORIES:Entry,Standard
COLOR:darkgreen
DESCRIPTION:Predmet: Elektromagnetno polje (FIZ-3)\, Vaje (V)\, [1]\nLetni
 ki: 3. letnik (Fizika\, 1. stopnja)\nIzvajalci: Martin Klanjšek\nProstor:
  F2
LOCATION:F2
ORGANIZER:Martin Klanjšek
RELATED-TO:fmf-AFLABS-URNIK:srecanje:15854
X-WR-TIMEZONE:Europe/Ljubljana
END:VEVENT
BEGIN:VEVENT
SUMMARY:Elektromagnetno polje (FIZ-3)\, Vaje (V)\, [1]
DTSTART;TZID=Europe/Ljubljana:20251230T100000
DTEND;TZID=Europe/Ljubljana:20251230T120000
DTSTAMP:20260426T004819Z
UID:fmf-AFLABS-URNIK:premaknjeno-srecanje:216714
ATTENDEE:3. letnik (Fizika, 1. stopnja)
CATEGORIES:Entry,Standard
COLOR:darkgreen
DESCRIPTION:Predmet: Elektromagnetno polje (FIZ-3)\, Vaje (V)\, [1]\nLetni
 ki: 3. letnik (Fizika\, 1. stopnja)\nIzvajalci: Martin Klanjšek\nProstor:
  F2
LOCATION:F2
ORGANIZER:Martin Klanjšek
RELATED-TO:fmf-AFLABS-URNIK:srecanje:15854
X-WR-TIMEZONE:Europe/Ljubljana
END:VEVENT
BEGIN:VEVENT
SUMMARY:Elektromagnetno polje (FIZ-3)\, Vaje (V)\, [1]
DTSTART;TZID=Europe/Ljubljana:20260106T100000
DTEND;TZID=Europe/Ljubljana:20260106T120000
DTSTAMP:20260426T004819Z
UID:fmf-AFLABS-URNIK:premaknjeno-srecanje:216715
ATTENDEE:3. letnik (Fizika, 1. stopnja)
CATEGORIES:Entry,Standard
COLOR:darkgreen
DESCRIPTION:Predmet: Elektromagnetno polje (FIZ-3)\, Vaje (V)\, [1]\nLetni
 ki: 3. letnik (Fizika\, 1. stopnja)\nIzvajalci: Martin Klanjšek\nProstor:
  F2
LOCATION:F2
ORGANIZER:Martin Klanjšek
RELATED-TO:fmf-AFLABS-URNIK:srecanje:15854
X-WR-TIMEZONE:Europe/Ljubljana
END:VEVENT
BEGIN:VEVENT
SUMMARY:Elektromagnetno polje (FIZ-3)\, Vaje (V)\, [1]
DTSTART;TZID=Europe/Ljubljana:20260113T100000
DTEND;TZID=Europe/Ljubljana:20260113T120000
DTSTAMP:20260426T004819Z
UID:fmf-AFLABS-URNIK:premaknjeno-srecanje:216716
ATTENDEE:3. letnik (Fizika, 1. stopnja)
CATEGORIES:Entry,Standard
COLOR:darkgreen
DESCRIPTION:Predmet: Elektromagnetno polje (FIZ-3)\, Vaje (V)\, [1]\nLetni
 ki: 3. letnik (Fizika\, 1. stopnja)\nIzvajalci: Martin Klanjšek\nProstor:
  F2
LOCATION:F2
ORGANIZER:Martin Klanjšek
RELATED-TO:fmf-AFLABS-URNIK:srecanje:15854
X-WR-TIMEZONE:Europe/Ljubljana
END:VEVENT
BEGIN:VEVENT
SUMMARY:1.A pisni izpit (podaljšek)
DTSTART;TZID=Europe/Ljubljana:20251121T150000
DTEND;TZID=Europe/Ljubljana:20251121T170000
DTSTAMP:20260426T004819Z
UID:fmf-AFLABS-URNIK:rezervacija:25529
ATTENDEE:3. letnik (Fizika, 1. stopnja)
CATEGORIES:Reservation
COLOR:royalblue
DESCRIPTION:Predmeti: Elektromagnetno polje (FIZ-3)\nLetniki: 3. letnik (F
 izika\, 1. stopnja)\nIzvajalci: Martin Klanjšek\nProstori: F3
LOCATION:F3
ORGANIZER:Martin Klanjšek
X-WR-TIMEZONE:Europe/Ljubljana
END:VEVENT
END:VCALENDAR
