BEGIN:VCALENDAR
VERSION:2.0
PRODID:-//AFLabs urnik izvoz - fmf//aflabs.si//SI
DTSTAMP:20260425T211541Z
NAME:UL FMF urnik
REFRESH-INTERVAL:PT1H
SOURCE:https://urnik.fmf.uni-lj.si/teacher/12?day=2020-09-07&export=1
URL:https://urnik.fmf.uni-lj.si/teacher/12?day=2020-09-07&export=1
X-PUBLISHED-TTL:PT1H
X-WR-CALNAME:UL FMF urnik
X-WR-TIMEZONE:Europe/Ljubljana
BEGIN:VTIMEZONE
TZID:Europe/Ljubljana
BEGIN:DAYLIGHT
DTSTART:20260329T020000
RDATE:20260329T020000
RDATE:20270328T020000
TZNAME:CEST
TZOFFSETFROM:+0100
TZOFFSETTO:+0200
END:DAYLIGHT
BEGIN:STANDARD
DTSTART:20261025T030000
RDATE:20261025T030000
RDATE:20271031T030000
TZNAME:CET
TZOFFSETFROM:+0200
TZOFFSETTO:+0100
END:STANDARD
END:VTIMEZONE
BEGIN:VEVENT
SUMMARY:Govorilna ura ()\, Ostalo (O)
DTSTART;TZID=Europe/Ljubljana:20201005T100000
DTEND;TZID=Europe/Ljubljana:20201005T110000
DTSTAMP:20260425T211541Z
UID:fmf-AFLABS-URNIK:premaknjeno-srecanje:38678
CATEGORIES:Entry,Standard
COLOR:darkgreen
DESCRIPTION:Predmet: Govorilna ura ()\, Ostalo (O)\nLetniki: \nIzvajalci: 
 Jakob Cimprič\nProstor: 4.21
LOCATION:4.21
ORGANIZER:Jakob Cimprič
RELATED-TO:fmf-AFLABS-URNIK:srecanje:4844
X-WR-TIMEZONE:Europe/Ljubljana
END:VEVENT
BEGIN:VEVENT
SUMMARY:Govorilna ura ()\, Ostalo (O)
DTSTART;TZID=Europe/Ljubljana:20201012T100000
DTEND;TZID=Europe/Ljubljana:20201012T110000
DTSTAMP:20260425T211541Z
UID:fmf-AFLABS-URNIK:premaknjeno-srecanje:38679
CATEGORIES:Entry,Standard
COLOR:darkgreen
DESCRIPTION:Predmet: Govorilna ura ()\, Ostalo (O)\nLetniki: \nIzvajalci: 
 Jakob Cimprič\nProstor: 4.21
LOCATION:4.21
ORGANIZER:Jakob Cimprič
RELATED-TO:fmf-AFLABS-URNIK:srecanje:4844
X-WR-TIMEZONE:Europe/Ljubljana
END:VEVENT
BEGIN:VEVENT
SUMMARY:Linearna algebra (IŠRM-1)\, Predavanja (P)
DTSTART;TZID=Europe/Ljubljana:20201005T080000
DTEND;TZID=Europe/Ljubljana:20201005T100000
DTSTAMP:20260425T211541Z
UID:fmf-AFLABS-URNIK:premaknjeno-srecanje:56825
ATTENDEE:1. letnik (IŠRM)
CATEGORIES:Entry,Standard
COLOR:darkgreen
DESCRIPTION:Predmet: Linearna algebra (IŠRM-1)\, Predavanja (P)\nLetniki:
  1. letnik (IŠRM)\nIzvajalci: Jakob Cimprič\nProstor: 3.04
LOCATION:3.04
ORGANIZER:Jakob Cimprič
RELATED-TO:fmf-AFLABS-URNIK:srecanje:4931
X-WR-TIMEZONE:Europe/Ljubljana
END:VEVENT
BEGIN:VEVENT
SUMMARY:Linearna algebra (IŠRM-1)\, Predavanja (P)
DTSTART;TZID=Europe/Ljubljana:20201012T080000
DTEND;TZID=Europe/Ljubljana:20201012T100000
DTSTAMP:20260425T211541Z
UID:fmf-AFLABS-URNIK:premaknjeno-srecanje:56826
ATTENDEE:1. letnik (IŠRM)
CATEGORIES:Entry,Standard
COLOR:darkgreen
DESCRIPTION:Predmet: Linearna algebra (IŠRM-1)\, Predavanja (P)\nLetniki:
  1. letnik (IŠRM)\nIzvajalci: Jakob Cimprič\nProstor: 3.04
LOCATION:3.04
ORGANIZER:Jakob Cimprič
RELATED-TO:fmf-AFLABS-URNIK:srecanje:4931
X-WR-TIMEZONE:Europe/Ljubljana
END:VEVENT
BEGIN:VEVENT
SUMMARY:Matematika in statistika (FKKT 1KemTeh VS) ()\, Predavanja (P)
DTSTART;TZID=Europe/Ljubljana:20201006T080000
DTEND;TZID=Europe/Ljubljana:20201006T110000
DTSTAMP:20260425T211541Z
UID:fmf-AFLABS-URNIK:premaknjeno-srecanje:66977
CATEGORIES:Entry,Standard
COLOR:darkgreen
DESCRIPTION:Predmet: Matematika in statistika (FKKT 1KemTeh VS) ()\, Preda
 vanja (P)\nLetniki: \nIzvajalci: Jakob Cimprič\nProstor: FKKT
LOCATION:FKKT
ORGANIZER:Jakob Cimprič
RELATED-TO:fmf-AFLABS-URNIK:srecanje:4994
X-WR-TIMEZONE:Europe/Ljubljana
END:VEVENT
BEGIN:VEVENT
SUMMARY:Rezervacija
DTSTART;TZID=Europe/Ljubljana:20200818T100000
DTEND;TZID=Europe/Ljubljana:20200818T120000
DTSTAMP:20260425T211541Z
UID:fmf-AFLABS-URNIK:rezervacija:5945
ATTENDEE:3. letnik (APM)
CATEGORIES:Reservation
COLOR:royalblue
DESCRIPTION:Predmeti: Parcialne diferencialne enačbe (APM-3)\nLetniki: 3.
  letnik (APM)\nIzvajalci: Jakob Cimprič\nProstori: 3.05
LOCATION:3.05
ORGANIZER:Jakob Cimprič
X-WR-TIMEZONE:Europe/Ljubljana
END:VEVENT
BEGIN:VEVENT
SUMMARY:Rezervacija
DTSTART;TZID=Europe/Ljubljana:20200828T090000
DTEND;TZID=Europe/Ljubljana:20200828T140000
DTSTAMP:20260425T211541Z
UID:fmf-AFLABS-URNIK:rezervacija:6105
ATTENDEE:3. letnik (APM)
CATEGORIES:Reservation
COLOR:royalblue
DESCRIPTION:Predmeti: Parcialne diferencialne enačbe (APM-3)\nLetniki: 3.
  letnik (APM)\nIzvajalci: Jakob Cimprič\nProstori: 3.05
LOCATION:3.05
ORGANIZER:Jakob Cimprič
X-WR-TIMEZONE:Europe/Ljubljana
END:VEVENT
BEGIN:VEVENT
SUMMARY:Rezervacija
DTSTART;TZID=Europe/Ljubljana:20200831T090000
DTEND;TZID=Europe/Ljubljana:20200831T140000
DTSTAMP:20260425T211541Z
UID:fmf-AFLABS-URNIK:rezervacija:6127
ATTENDEE:1. letnik (IŠRM)
CATEGORIES:Reservation
COLOR:royalblue
DESCRIPTION:Predmeti: Linearna algebra (IŠRM-1)\nLetniki: 1. letnik (IŠR
 M)\nIzvajalci: Jakob Cimprič\nProstori: 3.05
LOCATION:3.05
ORGANIZER:Jakob Cimprič
X-WR-TIMEZONE:Europe/Ljubljana
END:VEVENT
BEGIN:VEVENT
SUMMARY:Rezervacija
DTSTART;TZID=Europe/Ljubljana:20200831T100000
DTEND;TZID=Europe/Ljubljana:20200831T120000
DTSTAMP:20260425T211541Z
UID:fmf-AFLABS-URNIK:rezervacija:6135
ATTENDEE:3. letnik (APM)
CATEGORIES:Reservation
COLOR:royalblue
DESCRIPTION:Predmeti: Parcialne diferencialne enačbe (APM-3)\nLetniki: 3.
  letnik (APM)\nIzvajalci: Jakob Cimprič\nProstori: 3.04
LOCATION:3.04
ORGANIZER:Jakob Cimprič
X-WR-TIMEZONE:Europe/Ljubljana
END:VEVENT
BEGIN:VEVENT
SUMMARY:Rezervacija
DTSTART;TZID=Europe/Ljubljana:20200901T090000
DTEND;TZID=Europe/Ljubljana:20200901T140000
DTSTAMP:20260425T211541Z
UID:fmf-AFLABS-URNIK:rezervacija:6150
ATTENDEE:2. letnik (M)
ATTENDEE:3. letnik (FM)
ATTENDEE:3. letnik (IŠRM)
ATTENDEE:4. letnik (PM)
CATEGORIES:Reservation
COLOR:royalblue
DESCRIPTION:Predmeti: Algebraične krivulje (FM-3\, IŠRM-3\, MAT-2\, PM-4
 )\nLetniki: 3. letnik (FM)\, 3. letnik (IŠRM)\, 2. letnik (M)\, 4. letnik
  (PM)\nIzvajalci: Jakob Cimprič\nProstori: 3.05
LOCATION:3.05
ORGANIZER:Jakob Cimprič
X-WR-TIMEZONE:Europe/Ljubljana
END:VEVENT
BEGIN:VEVENT
SUMMARY:Rezervacija
DTSTART;TZID=Europe/Ljubljana:20200903T090000
DTEND;TZID=Europe/Ljubljana:20200903T140000
DTSTAMP:20260425T211541Z
UID:fmf-AFLABS-URNIK:rezervacija:6208
ATTENDEE:5. letnik (PM)
ATTENDEE:magistrski študij (FM)
ATTENDEE:magistrski študij (M)
CATEGORIES:Reservation
COLOR:royalblue
DESCRIPTION:Predmeti: Parcialne diferencialne enačbe (FM-M\, MAT-M\, PM-5
 )\nLetniki: magistrski študij (FM)\, magistrski študij (M)\, 5. letnik (
 PM)\nIzvajalci: Jakob Cimprič\nProstori: 3.05
LOCATION:3.05
ORGANIZER:Jakob Cimprič
X-WR-TIMEZONE:Europe/Ljubljana
END:VEVENT
BEGIN:VEVENT
SUMMARY:Rezervacija
DTSTART;TZID=Europe/Ljubljana:20200904T090000
DTEND;TZID=Europe/Ljubljana:20200904T140000
DTSTAMP:20260425T211541Z
UID:fmf-AFLABS-URNIK:rezervacija:6244
ATTENDEE:1. letnik (IŠRM)
CATEGORIES:Reservation
COLOR:royalblue
DESCRIPTION:Predmeti: Linearna algebra (IŠRM-1)\nLetniki: 1. letnik (IŠR
 M)\nIzvajalci: Jakob Cimprič\nProstori: 3.05
LOCATION:3.05
ORGANIZER:Jakob Cimprič
X-WR-TIMEZONE:Europe/Ljubljana
END:VEVENT
BEGIN:VEVENT
SUMMARY:Rezervacija
DTSTART;TZID=Europe/Ljubljana:20200909T090000
DTEND;TZID=Europe/Ljubljana:20200909T120000
DTSTAMP:20260425T211541Z
UID:fmf-AFLABS-URNIK:rezervacija:6317
CATEGORIES:Reservation
COLOR:royalblue
DESCRIPTION:Predmeti: \nLetniki: \nIzvajalci: Jakob Cimprič\nProstori: 3.
 05
LOCATION:3.05
ORGANIZER:Jakob Cimprič
X-WR-TIMEZONE:Europe/Ljubljana
END:VEVENT
END:VCALENDAR
