BEGIN:VCALENDAR
VERSION:2.0
PRODID:-//AFLabs urnik izvoz - fmf//aflabs.si//SI
DTSTAMP:20260424T154920Z
NAME:UL FMF urnik
REFRESH-INTERVAL:PT1H
SOURCE:https://urnik.fmf.uni-lj.si/teacher/12?day=2024-06-24&export=1
URL:https://urnik.fmf.uni-lj.si/teacher/12?day=2024-06-24&export=1
X-PUBLISHED-TTL:PT1H
X-WR-CALNAME:UL FMF urnik
X-WR-TIMEZONE:Europe/Ljubljana
BEGIN:VTIMEZONE
TZID:Europe/Ljubljana
BEGIN:DAYLIGHT
DTSTART:20260329T020000
RDATE:20260329T020000
RDATE:20270328T020000
TZNAME:CEST
TZOFFSETFROM:+0100
TZOFFSETTO:+0200
END:DAYLIGHT
BEGIN:STANDARD
DTSTART:20261025T030000
RDATE:20261025T030000
RDATE:20271031T030000
TZNAME:CET
TZOFFSETFROM:+0200
TZOFFSETTO:+0100
END:STANDARD
END:VTIMEZONE
BEGIN:VEVENT
SUMMARY:Matematika s statistiko (FKKT) ()\, Predavanja (P)
DTSTART;TZID=Europe/Ljubljana:20240521T080000
DTEND;TZID=Europe/Ljubljana:20240521T110000
DTSTAMP:20260424T154920Z
UID:fmf-AFLABS-URNIK:premaknjeno-srecanje:127227
CATEGORIES:Entry,Standard
COLOR:darkgreen
DESCRIPTION:Predmet: Matematika s statistiko (FKKT) ()\, Predavanja (P)\nL
 etniki: \nIzvajalci: Jakob Cimprič\nProstor: FKKT
LOCATION:FKKT
ORGANIZER:Jakob Cimprič
RELATED-TO:fmf-AFLABS-URNIK:srecanje:10048
X-WR-TIMEZONE:Europe/Ljubljana
END:VEVENT
BEGIN:VEVENT
SUMMARY:Matematika s statistiko (FKKT) ()\, Predavanja (P)
DTSTART;TZID=Europe/Ljubljana:20240528T080000
DTEND;TZID=Europe/Ljubljana:20240528T110000
DTSTAMP:20260424T154920Z
UID:fmf-AFLABS-URNIK:premaknjeno-srecanje:127228
CATEGORIES:Entry,Standard
COLOR:darkgreen
DESCRIPTION:Predmet: Matematika s statistiko (FKKT) ()\, Predavanja (P)\nL
 etniki: \nIzvajalci: Jakob Cimprič\nProstor: FKKT
LOCATION:FKKT
ORGANIZER:Jakob Cimprič
RELATED-TO:fmf-AFLABS-URNIK:srecanje:10048
X-WR-TIMEZONE:Europe/Ljubljana
END:VEVENT
BEGIN:VEVENT
SUMMARY:Linearna algebra (IŠRM-1)\, Predavanja (P)
DTSTART;TZID=Europe/Ljubljana:20240522T100000
DTEND;TZID=Europe/Ljubljana:20240522T120000
DTSTAMP:20260424T154920Z
UID:fmf-AFLABS-URNIK:premaknjeno-srecanje:132537
ATTENDEE:1. letnik (IŠRM)
CATEGORIES:Entry,Standard
COLOR:darkgreen
DESCRIPTION:Predmet: Linearna algebra (IŠRM-1)\, Predavanja (P)\nLetniki:
  1. letnik (IŠRM)\nIzvajalci: Jakob Cimprič\nProstor: 2.04
LOCATION:2.04
ORGANIZER:Jakob Cimprič
RELATED-TO:fmf-AFLABS-URNIK:srecanje:10013
X-WR-TIMEZONE:Europe/Ljubljana
END:VEVENT
BEGIN:VEVENT
SUMMARY:Linearna algebra (IŠRM-1)\, Predavanja (P)
DTSTART;TZID=Europe/Ljubljana:20240529T100000
DTEND;TZID=Europe/Ljubljana:20240529T120000
DTSTAMP:20260424T154920Z
UID:fmf-AFLABS-URNIK:premaknjeno-srecanje:132538
ATTENDEE:1. letnik (IŠRM)
CATEGORIES:Entry,Standard
COLOR:darkgreen
DESCRIPTION:Predmet: Linearna algebra (IŠRM-1)\, Predavanja (P)\nLetniki:
  1. letnik (IŠRM)\nIzvajalci: Jakob Cimprič\nProstor: 2.04
LOCATION:2.04
ORGANIZER:Jakob Cimprič
RELATED-TO:fmf-AFLABS-URNIK:srecanje:10013
X-WR-TIMEZONE:Europe/Ljubljana
END:VEVENT
BEGIN:VEVENT
SUMMARY:Algebraične krivulje (FM-3\, IŠRM-3\, MAT-2\, PM-4)\, Predavanja
  (P)
DTSTART;TZID=Europe/Ljubljana:20240523T120000
DTEND;TZID=Europe/Ljubljana:20240523T140000
DTSTAMP:20260424T154920Z
UID:fmf-AFLABS-URNIK:premaknjeno-srecanje:122862
ATTENDEE:2. letnik (M)
ATTENDEE:3. letnik (FM)
ATTENDEE:3. letnik (IŠRM)
ATTENDEE:4. letnik (PM)
CATEGORIES:Entry,Standard
COLOR:darkgreen
DESCRIPTION:Predmet: Algebraične krivulje (FM-3\, IŠRM-3\, MAT-2\, PM-4)
 \, Predavanja (P)\nLetniki: 3. letnik (FM)\, 3. letnik (IŠRM)\, 2. letnik
  (M)\, 4. letnik (PM)\nIzvajalci: Jakob Cimprič\nProstor: P.01
LOCATION:P.01
ORGANIZER:Jakob Cimprič
RELATED-TO:fmf-AFLABS-URNIK:srecanje:9757
X-WR-TIMEZONE:Europe/Ljubljana
END:VEVENT
BEGIN:VEVENT
SUMMARY:Algebraične krivulje (FM-3\, IŠRM-3\, MAT-2\, PM-4)\, Predavanja
  (P)
DTSTART;TZID=Europe/Ljubljana:20240530T120000
DTEND;TZID=Europe/Ljubljana:20240530T140000
DTSTAMP:20260424T154920Z
UID:fmf-AFLABS-URNIK:premaknjeno-srecanje:122863
ATTENDEE:2. letnik (M)
ATTENDEE:3. letnik (FM)
ATTENDEE:3. letnik (IŠRM)
ATTENDEE:4. letnik (PM)
CATEGORIES:Entry,Standard
COLOR:darkgreen
DESCRIPTION:Predmet: Algebraične krivulje (FM-3\, IŠRM-3\, MAT-2\, PM-4)
 \, Predavanja (P)\nLetniki: 3. letnik (FM)\, 3. letnik (IŠRM)\, 2. letnik
  (M)\, 4. letnik (PM)\nIzvajalci: Jakob Cimprič\nProstor: P.01
LOCATION:P.01
ORGANIZER:Jakob Cimprič
RELATED-TO:fmf-AFLABS-URNIK:srecanje:9757
X-WR-TIMEZONE:Europe/Ljubljana
END:VEVENT
BEGIN:VEVENT
SUMMARY:Govorilna ura ()\, Predavanja (P)
DTSTART;TZID=Europe/Ljubljana:20240523T110000
DTEND;TZID=Europe/Ljubljana:20240523T120000
DTSTAMP:20260424T154920Z
UID:fmf-AFLABS-URNIK:premaknjeno-srecanje:125532
CATEGORIES:Entry,Standard
COLOR:darkgreen
DESCRIPTION:Predmet: Govorilna ura ()\, Predavanja (P)\nLetniki: \nIzvajal
 ci: Jakob Cimprič\nProstor: 4.21
LOCATION:4.21
ORGANIZER:Jakob Cimprič
RELATED-TO:fmf-AFLABS-URNIK:srecanje:9935
X-WR-TIMEZONE:Europe/Ljubljana
END:VEVENT
BEGIN:VEVENT
SUMMARY:Govorilna ura ()\, Predavanja (P)
DTSTART;TZID=Europe/Ljubljana:20240530T110000
DTEND;TZID=Europe/Ljubljana:20240530T120000
DTSTAMP:20260424T154920Z
UID:fmf-AFLABS-URNIK:premaknjeno-srecanje:125533
CATEGORIES:Entry,Standard
COLOR:darkgreen
DESCRIPTION:Predmet: Govorilna ura ()\, Predavanja (P)\nLetniki: \nIzvajal
 ci: Jakob Cimprič\nProstor: 4.21
LOCATION:4.21
ORGANIZER:Jakob Cimprič
RELATED-TO:fmf-AFLABS-URNIK:srecanje:9935
X-WR-TIMEZONE:Europe/Ljubljana
END:VEVENT
BEGIN:VEVENT
SUMMARY:Kolokvij
DTSTART;TZID=Europe/Ljubljana:20240523T160000
DTEND;TZID=Europe/Ljubljana:20240523T170000
DTSTAMP:20260424T154920Z
UID:fmf-AFLABS-URNIK:rezervacija:16714
ATTENDEE:1. letnik (IŠRM)
CATEGORIES:Reservation
COLOR:royalblue
DESCRIPTION:Predmeti: Linearna algebra (IŠRM-1)\nLetniki: 1. letnik (IŠR
 M)\nIzvajalci: Jakob Cimprič\nProstori: 2.05
LOCATION:2.05
ORGANIZER:Jakob Cimprič
X-WR-TIMEZONE:Europe/Ljubljana
END:VEVENT
BEGIN:VEVENT
SUMMARY:Ustni izpiti
DTSTART;TZID=Europe/Ljubljana:20240614T080000
DTEND;TZID=Europe/Ljubljana:20240614T140000
DTSTAMP:20260424T154920Z
UID:fmf-AFLABS-URNIK:rezervacija:16847
ATTENDEE:1. letnik (IŠRM)
CATEGORIES:Reservation
COLOR:royalblue
DESCRIPTION:Predmeti: Linearna algebra (IŠRM-1)\nLetniki: 1. letnik (IŠR
 M)\nIzvajalci: Jakob Cimprič\nProstori: 3.07
LOCATION:3.07
ORGANIZER:Jakob Cimprič
X-WR-TIMEZONE:Europe/Ljubljana
END:VEVENT
BEGIN:VEVENT
SUMMARY:Ustni izpiti
DTSTART;TZID=Europe/Ljubljana:20240619T080000
DTEND;TZID=Europe/Ljubljana:20240619T140000
DTSTAMP:20260424T154920Z
UID:fmf-AFLABS-URNIK:rezervacija:16848
ATTENDEE:1. letnik (IŠRM)
CATEGORIES:Reservation
COLOR:royalblue
DESCRIPTION:Predmeti: Linearna algebra (IŠRM-1)\nLetniki: 1. letnik (IŠR
 M)\nIzvajalci: Jakob Cimprič\nProstori: 3.07
LOCATION:3.07
ORGANIZER:Jakob Cimprič
X-WR-TIMEZONE:Europe/Ljubljana
END:VEVENT
BEGIN:VEVENT
SUMMARY:Ustni izpiti
DTSTART;TZID=Europe/Ljubljana:20240626T080000
DTEND;TZID=Europe/Ljubljana:20240626T140000
DTSTAMP:20260424T154920Z
UID:fmf-AFLABS-URNIK:rezervacija:16849
ATTENDEE:1. letnik (IŠRM)
CATEGORIES:Reservation
COLOR:royalblue
DESCRIPTION:Predmeti: Linearna algebra (IŠRM-1)\nLetniki: 1. letnik (IŠR
 M)\nIzvajalci: Jakob Cimprič\nProstori: 3.07
LOCATION:3.07
ORGANIZER:Jakob Cimprič
X-WR-TIMEZONE:Europe/Ljubljana
END:VEVENT
BEGIN:VEVENT
SUMMARY:Ustni izpiti
DTSTART;TZID=Europe/Ljubljana:20240627T080000
DTEND;TZID=Europe/Ljubljana:20240627T140000
DTSTAMP:20260424T154920Z
UID:fmf-AFLABS-URNIK:rezervacija:16851
ATTENDEE:1. letnik (IŠRM)
CATEGORIES:Reservation
COLOR:royalblue
DESCRIPTION:Predmeti: Linearna algebra (IŠRM-1)\nLetniki: 1. letnik (IŠR
 M)\nIzvajalci: Jakob Cimprič\nProstori: 3.07
LOCATION:3.07
ORGANIZER:Jakob Cimprič
X-WR-TIMEZONE:Europe/Ljubljana
END:VEVENT
BEGIN:VEVENT
SUMMARY:Ustni izpiti
DTSTART;TZID=Europe/Ljubljana:20240628T080000
DTEND;TZID=Europe/Ljubljana:20240628T140000
DTSTAMP:20260424T154920Z
UID:fmf-AFLABS-URNIK:rezervacija:16865
ATTENDEE:3. letnik (APM)
CATEGORIES:Reservation
COLOR:royalblue
DESCRIPTION:Predmeti: Parcialne diferencialne enačbe (APM-3)\nLetniki: 3.
  letnik (APM)\nIzvajalci: Jakob Cimprič\nProstori: 3.07
LOCATION:3.07
ORGANIZER:Jakob Cimprič
X-WR-TIMEZONE:Europe/Ljubljana
END:VEVENT
BEGIN:VEVENT
SUMMARY:Ustni izpiti
DTSTART;TZID=Europe/Ljubljana:20240611T080000
DTEND;TZID=Europe/Ljubljana:20240611T140000
DTSTAMP:20260424T154920Z
UID:fmf-AFLABS-URNIK:rezervacija:16884
ATTENDEE:3. letnik (APM)
CATEGORIES:Reservation
COLOR:royalblue
DESCRIPTION:Predmeti: Parcialne diferencialne enačbe (APM-3)\nLetniki: 3.
  letnik (APM)\nIzvajalci: Jakob Cimprič\nProstori: 3.07
LOCATION:3.07
ORGANIZER:Jakob Cimprič
X-WR-TIMEZONE:Europe/Ljubljana
END:VEVENT
BEGIN:VEVENT
SUMMARY:Ustni izpiti
DTSTART;TZID=Europe/Ljubljana:20240613T080000
DTEND;TZID=Europe/Ljubljana:20240613T140000
DTSTAMP:20260424T154920Z
UID:fmf-AFLABS-URNIK:rezervacija:16886
ATTENDEE:2. letnik (APM)
ATTENDEE:2. letnik (M)
ATTENDEE:3. letnik (FM)
ATTENDEE:3. letnik (IŠRM)
ATTENDEE:4. letnik (PM)
CATEGORIES:Reservation
COLOR:royalblue
DESCRIPTION:Predmeti: Algebraične krivulje (FM-3\, IŠRM-3\, MAT-2\, PM-4
 )\, Algebra in diskretna matematika (APM-2)\nLetniki: 2. letnik (APM)\, 3.
  letnik (FM)\, 3. letnik (IŠRM)\, 2. letnik (M)\, 4. letnik (PM)\nIzvajal
 ci: Jakob Cimprič\nProstori: 3.07
LOCATION:3.07
ORGANIZER:Jakob Cimprič
X-WR-TIMEZONE:Europe/Ljubljana
END:VEVENT
BEGIN:VEVENT
SUMMARY:Komisijski izpit
DTSTART;TZID=Europe/Ljubljana:20240702T120000
DTEND;TZID=Europe/Ljubljana:20240702T140000
DTSTAMP:20260424T154920Z
UID:fmf-AFLABS-URNIK:rezervacija:17392
CATEGORIES:Reservation
COLOR:royalblue
DESCRIPTION:Predmeti: \nLetniki: \nIzvajalci: Jakob Cimprič\nProstori: 2.
 04
LOCATION:2.04
ORGANIZER:Jakob Cimprič
X-WR-TIMEZONE:Europe/Ljubljana
END:VEVENT
BEGIN:VEVENT
SUMMARY:Ustni izpiti
DTSTART;TZID=Europe/Ljubljana:20240702T080000
DTEND;TZID=Europe/Ljubljana:20240702T120000
DTSTAMP:20260424T154920Z
UID:fmf-AFLABS-URNIK:rezervacija:17412
CATEGORIES:Reservation
COLOR:royalblue
DESCRIPTION:Predmeti: \nLetniki: \nIzvajalci: Jakob Cimprič\nProstori: 2.
 04
LOCATION:2.04
ORGANIZER:Jakob Cimprič
X-WR-TIMEZONE:Europe/Ljubljana
END:VEVENT
BEGIN:VEVENT
SUMMARY:Ustni izpiti
DTSTART;TZID=Europe/Ljubljana:20240705T080000
DTEND;TZID=Europe/Ljubljana:20240705T140000
DTSTAMP:20260424T154920Z
UID:fmf-AFLABS-URNIK:rezervacija:17463
ATTENDEE:1. letnik (IŠRM)
CATEGORIES:Reservation
COLOR:royalblue
DESCRIPTION:Predmeti: Linearna algebra (IŠRM-1)\nLetniki: 1. letnik (IŠR
 M)\nIzvajalci: Jakob Cimprič\nProstori: 2.03
LOCATION:2.03
ORGANIZER:Jakob Cimprič
X-WR-TIMEZONE:Europe/Ljubljana
END:VEVENT
END:VCALENDAR
