BEGIN:VCALENDAR
VERSION:2.0
PRODID:-//AFLabs urnik izvoz - fmf//aflabs.si//SI
DTSTAMP:20260423T183239Z
NAME:UL FMF urnik
REFRESH-INTERVAL:PT1H
SOURCE:https://urnik.fmf.uni-lj.si/teacher/12?day=2024-09-30&export=1
URL:https://urnik.fmf.uni-lj.si/teacher/12?day=2024-09-30&export=1
X-PUBLISHED-TTL:PT1H
X-WR-CALNAME:UL FMF urnik
X-WR-TIMEZONE:Europe/Ljubljana
BEGIN:VTIMEZONE
TZID:Europe/Ljubljana
BEGIN:DAYLIGHT
DTSTART:20260329T020000
RDATE:20260329T020000
RDATE:20270328T020000
TZNAME:CEST
TZOFFSETFROM:+0100
TZOFFSETTO:+0200
END:DAYLIGHT
BEGIN:STANDARD
DTSTART:20261025T030000
RDATE:20261025T030000
RDATE:20271031T030000
TZNAME:CET
TZOFFSETFROM:+0200
TZOFFSETTO:+0100
END:STANDARD
END:VTIMEZONE
BEGIN:VEVENT
SUMMARY:Matematika in statistika (FKKT 1KemTeh VS) ()\, Predavanja (P)
DTSTART;TZID=Europe/Ljubljana:20241001T080000
DTEND;TZID=Europe/Ljubljana:20241001T110000
DTSTAMP:20260423T183239Z
UID:fmf-AFLABS-URNIK:premaknjeno-srecanje:182467
CATEGORIES:Entry,Standard
COLOR:darkgreen
DESCRIPTION:Predmet: Matematika in statistika (FKKT 1KemTeh VS) ()\, Preda
 vanja (P)\nLetniki: \nIzvajalci: Jakob Cimprič\nProstor: FKKT
LOCATION:FKKT
ORGANIZER:Jakob Cimprič
RELATED-TO:fmf-AFLABS-URNIK:srecanje:13884
X-WR-TIMEZONE:Europe/Ljubljana
END:VEVENT
BEGIN:VEVENT
SUMMARY:Matematika in statistika (FKKT 1KemTeh VS) ()\, Predavanja (P)
DTSTART;TZID=Europe/Ljubljana:20241008T080000
DTEND;TZID=Europe/Ljubljana:20241008T110000
DTSTAMP:20260423T183239Z
UID:fmf-AFLABS-URNIK:premaknjeno-srecanje:182468
CATEGORIES:Entry,Standard
COLOR:darkgreen
DESCRIPTION:Predmet: Matematika in statistika (FKKT 1KemTeh VS) ()\, Preda
 vanja (P)\nLetniki: \nIzvajalci: Jakob Cimprič\nProstor: FKKT
LOCATION:FKKT
ORGANIZER:Jakob Cimprič
RELATED-TO:fmf-AFLABS-URNIK:srecanje:13884
X-WR-TIMEZONE:Europe/Ljubljana
END:VEVENT
BEGIN:VEVENT
SUMMARY:Matematika in statistika (FKKT 1KemTeh VS) ()\, Predavanja (P)
DTSTART;TZID=Europe/Ljubljana:20241015T080000
DTEND;TZID=Europe/Ljubljana:20241015T110000
DTSTAMP:20260423T183239Z
UID:fmf-AFLABS-URNIK:premaknjeno-srecanje:182469
CATEGORIES:Entry,Standard
COLOR:darkgreen
DESCRIPTION:Predmet: Matematika in statistika (FKKT 1KemTeh VS) ()\, Preda
 vanja (P)\nLetniki: \nIzvajalci: Jakob Cimprič\nProstor: FKKT
LOCATION:FKKT
ORGANIZER:Jakob Cimprič
RELATED-TO:fmf-AFLABS-URNIK:srecanje:13884
X-WR-TIMEZONE:Europe/Ljubljana
END:VEVENT
BEGIN:VEVENT
SUMMARY:Matematika in statistika (FKKT 1KemTeh VS) ()\, Predavanja (P)
DTSTART;TZID=Europe/Ljubljana:20241022T080000
DTEND;TZID=Europe/Ljubljana:20241022T110000
DTSTAMP:20260423T183239Z
UID:fmf-AFLABS-URNIK:premaknjeno-srecanje:182470
CATEGORIES:Entry,Standard
COLOR:darkgreen
DESCRIPTION:Predmet: Matematika in statistika (FKKT 1KemTeh VS) ()\, Preda
 vanja (P)\nLetniki: \nIzvajalci: Jakob Cimprič\nProstor: FKKT
LOCATION:FKKT
ORGANIZER:Jakob Cimprič
RELATED-TO:fmf-AFLABS-URNIK:srecanje:13884
X-WR-TIMEZONE:Europe/Ljubljana
END:VEVENT
BEGIN:VEVENT
SUMMARY:Matematika in statistika (FKKT 1KemTeh VS) ()\, Predavanja (P)
DTSTART;TZID=Europe/Ljubljana:20241029T080000
DTEND;TZID=Europe/Ljubljana:20241029T110000
DTSTAMP:20260423T183239Z
UID:fmf-AFLABS-URNIK:premaknjeno-srecanje:182471
CATEGORIES:Entry,Standard
COLOR:darkgreen
DESCRIPTION:Predmet: Matematika in statistika (FKKT 1KemTeh VS) ()\, Preda
 vanja (P)\nLetniki: \nIzvajalci: Jakob Cimprič\nProstor: FKKT
LOCATION:FKKT
ORGANIZER:Jakob Cimprič
RELATED-TO:fmf-AFLABS-URNIK:srecanje:13884
X-WR-TIMEZONE:Europe/Ljubljana
END:VEVENT
BEGIN:VEVENT
SUMMARY:Govorilna ura ()\, Ostalo (O)
DTSTART;TZID=Europe/Ljubljana:20241007T100000
DTEND;TZID=Europe/Ljubljana:20241007T110000
DTSTAMP:20260423T183239Z
UID:fmf-AFLABS-URNIK:premaknjeno-srecanje:180127
CATEGORIES:Entry,Standard
COLOR:darkgreen
DESCRIPTION:Predmet: Govorilna ura ()\, Ostalo (O)\nLetniki: \nIzvajalci: 
 Jakob Cimprič\nProstor: 4.21
LOCATION:4.21
ORGANIZER:Jakob Cimprič
RELATED-TO:fmf-AFLABS-URNIK:srecanje:13728
X-WR-TIMEZONE:Europe/Ljubljana
END:VEVENT
BEGIN:VEVENT
SUMMARY:Govorilna ura ()\, Ostalo (O)
DTSTART;TZID=Europe/Ljubljana:20241014T100000
DTEND;TZID=Europe/Ljubljana:20241014T110000
DTSTAMP:20260423T183239Z
UID:fmf-AFLABS-URNIK:premaknjeno-srecanje:180128
CATEGORIES:Entry,Standard
COLOR:darkgreen
DESCRIPTION:Predmet: Govorilna ura ()\, Ostalo (O)\nLetniki: \nIzvajalci: 
 Jakob Cimprič\nProstor: 4.21
LOCATION:4.21
ORGANIZER:Jakob Cimprič
RELATED-TO:fmf-AFLABS-URNIK:srecanje:13728
X-WR-TIMEZONE:Europe/Ljubljana
END:VEVENT
BEGIN:VEVENT
SUMMARY:Govorilna ura ()\, Ostalo (O)
DTSTART;TZID=Europe/Ljubljana:20241021T100000
DTEND;TZID=Europe/Ljubljana:20241021T110000
DTSTAMP:20260423T183239Z
UID:fmf-AFLABS-URNIK:premaknjeno-srecanje:180129
CATEGORIES:Entry,Standard
COLOR:darkgreen
DESCRIPTION:Predmet: Govorilna ura ()\, Ostalo (O)\nLetniki: \nIzvajalci: 
 Jakob Cimprič\nProstor: 4.21
LOCATION:4.21
ORGANIZER:Jakob Cimprič
RELATED-TO:fmf-AFLABS-URNIK:srecanje:13728
X-WR-TIMEZONE:Europe/Ljubljana
END:VEVENT
BEGIN:VEVENT
SUMMARY:Govorilna ura ()\, Ostalo (O)
DTSTART;TZID=Europe/Ljubljana:20241028T100000
DTEND;TZID=Europe/Ljubljana:20241028T110000
DTSTAMP:20260423T183239Z
UID:fmf-AFLABS-URNIK:premaknjeno-srecanje:180130
CATEGORIES:Entry,Standard
COLOR:darkgreen
DESCRIPTION:Predmet: Govorilna ura ()\, Ostalo (O)\nLetniki: \nIzvajalci: 
 Jakob Cimprič\nProstor: 4.21
LOCATION:4.21
ORGANIZER:Jakob Cimprič
RELATED-TO:fmf-AFLABS-URNIK:srecanje:13728
X-WR-TIMEZONE:Europe/Ljubljana
END:VEVENT
BEGIN:VEVENT
SUMMARY:Govorilna ura ()\, Ostalo (O)
DTSTART;TZID=Europe/Ljubljana:20241104T100000
DTEND;TZID=Europe/Ljubljana:20241104T110000
DTSTAMP:20260423T183239Z
UID:fmf-AFLABS-URNIK:premaknjeno-srecanje:180131
CATEGORIES:Entry,Standard
COLOR:darkgreen
DESCRIPTION:Predmet: Govorilna ura ()\, Ostalo (O)\nLetniki: \nIzvajalci: 
 Jakob Cimprič\nProstor: 4.21
LOCATION:4.21
ORGANIZER:Jakob Cimprič
RELATED-TO:fmf-AFLABS-URNIK:srecanje:13728
X-WR-TIMEZONE:Europe/Ljubljana
END:VEVENT
BEGIN:VEVENT
SUMMARY:Linearna algebra (IŠRM-1)\, Predavanja (P)
DTSTART;TZID=Europe/Ljubljana:20241007T080000
DTEND;TZID=Europe/Ljubljana:20241007T100000
DTSTAMP:20260423T183239Z
UID:fmf-AFLABS-URNIK:premaknjeno-srecanje:181522
ATTENDEE:1. letnik (IŠRM)
CATEGORIES:Entry,Standard
COLOR:darkgreen
DESCRIPTION:Predmet: Linearna algebra (IŠRM-1)\, Predavanja (P)\nLetniki:
  1. letnik (IŠRM)\nIzvajalci: Jakob Cimprič\nProstor: P.02
LOCATION:P.02
ORGANIZER:Jakob Cimprič
RELATED-TO:fmf-AFLABS-URNIK:srecanje:13821
X-WR-TIMEZONE:Europe/Ljubljana
END:VEVENT
BEGIN:VEVENT
SUMMARY:Linearna algebra (IŠRM-1)\, Predavanja (P)
DTSTART;TZID=Europe/Ljubljana:20241014T080000
DTEND;TZID=Europe/Ljubljana:20241014T100000
DTSTAMP:20260423T183239Z
UID:fmf-AFLABS-URNIK:premaknjeno-srecanje:181523
ATTENDEE:1. letnik (IŠRM)
CATEGORIES:Entry,Standard
COLOR:darkgreen
DESCRIPTION:Predmet: Linearna algebra (IŠRM-1)\, Predavanja (P)\nLetniki:
  1. letnik (IŠRM)\nIzvajalci: Jakob Cimprič\nProstor: P.02
LOCATION:P.02
ORGANIZER:Jakob Cimprič
RELATED-TO:fmf-AFLABS-URNIK:srecanje:13821
X-WR-TIMEZONE:Europe/Ljubljana
END:VEVENT
BEGIN:VEVENT
SUMMARY:Linearna algebra (IŠRM-1)\, Predavanja (P)
DTSTART;TZID=Europe/Ljubljana:20241021T080000
DTEND;TZID=Europe/Ljubljana:20241021T100000
DTSTAMP:20260423T183239Z
UID:fmf-AFLABS-URNIK:premaknjeno-srecanje:181524
ATTENDEE:1. letnik (IŠRM)
CATEGORIES:Entry,Standard
COLOR:darkgreen
DESCRIPTION:Predmet: Linearna algebra (IŠRM-1)\, Predavanja (P)\nLetniki:
  1. letnik (IŠRM)\nIzvajalci: Jakob Cimprič\nProstor: P.02
LOCATION:P.02
ORGANIZER:Jakob Cimprič
RELATED-TO:fmf-AFLABS-URNIK:srecanje:13821
X-WR-TIMEZONE:Europe/Ljubljana
END:VEVENT
BEGIN:VEVENT
SUMMARY:Linearna algebra (IŠRM-1)\, Predavanja (P)
DTSTART;TZID=Europe/Ljubljana:20241028T080000
DTEND;TZID=Europe/Ljubljana:20241028T100000
DTSTAMP:20260423T183239Z
UID:fmf-AFLABS-URNIK:premaknjeno-srecanje:181525
ATTENDEE:1. letnik (IŠRM)
CATEGORIES:Entry,Standard
COLOR:darkgreen
DESCRIPTION:Predmet: Linearna algebra (IŠRM-1)\, Predavanja (P)\nLetniki:
  1. letnik (IŠRM)\nIzvajalci: Jakob Cimprič\nProstor: P.02
LOCATION:P.02
ORGANIZER:Jakob Cimprič
RELATED-TO:fmf-AFLABS-URNIK:srecanje:13821
X-WR-TIMEZONE:Europe/Ljubljana
END:VEVENT
BEGIN:VEVENT
SUMMARY:Linearna algebra (IŠRM-1)\, Predavanja (P)
DTSTART;TZID=Europe/Ljubljana:20241104T080000
DTEND;TZID=Europe/Ljubljana:20241104T100000
DTSTAMP:20260423T183239Z
UID:fmf-AFLABS-URNIK:premaknjeno-srecanje:181526
ATTENDEE:1. letnik (IŠRM)
CATEGORIES:Entry,Standard
COLOR:darkgreen
DESCRIPTION:Predmet: Linearna algebra (IŠRM-1)\, Predavanja (P)\nLetniki:
  1. letnik (IŠRM)\nIzvajalci: Jakob Cimprič\nProstor: P.02
LOCATION:P.02
ORGANIZER:Jakob Cimprič
RELATED-TO:fmf-AFLABS-URNIK:srecanje:13821
X-WR-TIMEZONE:Europe/Ljubljana
END:VEVENT
BEGIN:VEVENT
SUMMARY:Komisijski izpiti
DTSTART;TZID=Europe/Ljubljana:20240909T100000
DTEND;TZID=Europe/Ljubljana:20240909T120000
DTSTAMP:20260423T183239Z
UID:fmf-AFLABS-URNIK:rezervacija:18045
ATTENDEE:3. letnik (APM)
CATEGORIES:Reservation
COLOR:royalblue
DESCRIPTION:Predmeti: Parcialne diferencialne enačbe (APM-3)\nLetniki: 3.
  letnik (APM)\nIzvajalci: Jakob Cimprič\nProstori: 3.05
LOCATION:3.05
ORGANIZER:Jakob Cimprič
X-WR-TIMEZONE:Europe/Ljubljana
END:VEVENT
BEGIN:VEVENT
SUMMARY:Ustni izpiti
DTSTART;TZID=Europe/Ljubljana:20240909T080000
DTEND;TZID=Europe/Ljubljana:20240909T100000
DTSTAMP:20260423T183239Z
UID:fmf-AFLABS-URNIK:rezervacija:18059
ATTENDEE:3. letnik (APM)
CATEGORIES:Reservation
COLOR:royalblue
DESCRIPTION:Predmeti: Parcialne diferencialne enačbe (APM-3)\nLetniki: 3.
  letnik (APM)\nIzvajalci: Jakob Cimprič\nProstori: 3.05
LOCATION:3.05
ORGANIZER:Jakob Cimprič
X-WR-TIMEZONE:Europe/Ljubljana
END:VEVENT
END:VCALENDAR
