BEGIN:VCALENDAR
VERSION:2.0
PRODID:-//AFLabs urnik izvoz - fmf//aflabs.si//SI
DTSTAMP:20260423T034424Z
NAME:UL FMF urnik
REFRESH-INTERVAL:PT1H
SOURCE:https://urnik.fmf.uni-lj.si/teacher/12?day=2025-01-06&export=1
URL:https://urnik.fmf.uni-lj.si/teacher/12?day=2025-01-06&export=1
X-PUBLISHED-TTL:PT1H
X-WR-CALNAME:UL FMF urnik
X-WR-TIMEZONE:Europe/Ljubljana
BEGIN:VTIMEZONE
TZID:Europe/Ljubljana
BEGIN:DAYLIGHT
DTSTART:20260329T020000
RDATE:20260329T020000
RDATE:20270328T020000
TZNAME:CEST
TZOFFSETFROM:+0100
TZOFFSETTO:+0200
END:DAYLIGHT
BEGIN:STANDARD
DTSTART:20261025T030000
RDATE:20261025T030000
RDATE:20271031T030000
TZNAME:CET
TZOFFSETFROM:+0200
TZOFFSETTO:+0100
END:STANDARD
END:VTIMEZONE
BEGIN:VEVENT
SUMMARY:Matematika in statistika (FKKT 1KemTeh VS) ()\, Predavanja (P)
DTSTART;TZID=Europe/Ljubljana:20241001T080000
DTEND;TZID=Europe/Ljubljana:20241001T110000
DTSTAMP:20260423T034424Z
UID:fmf-AFLABS-URNIK:premaknjeno-srecanje:182467
CATEGORIES:Entry,Standard
COLOR:darkgreen
DESCRIPTION:Predmet: Matematika in statistika (FKKT 1KemTeh VS) ()\, Preda
 vanja (P)\nLetniki: \nIzvajalci: Jakob Cimprič\nProstor: FKKT
LOCATION:FKKT
ORGANIZER:Jakob Cimprič
RELATED-TO:fmf-AFLABS-URNIK:srecanje:13884
X-WR-TIMEZONE:Europe/Ljubljana
END:VEVENT
BEGIN:VEVENT
SUMMARY:Matematika in statistika (FKKT 1KemTeh VS) ()\, Predavanja (P)
DTSTART;TZID=Europe/Ljubljana:20241008T080000
DTEND;TZID=Europe/Ljubljana:20241008T110000
DTSTAMP:20260423T034424Z
UID:fmf-AFLABS-URNIK:premaknjeno-srecanje:182468
CATEGORIES:Entry,Standard
COLOR:darkgreen
DESCRIPTION:Predmet: Matematika in statistika (FKKT 1KemTeh VS) ()\, Preda
 vanja (P)\nLetniki: \nIzvajalci: Jakob Cimprič\nProstor: FKKT
LOCATION:FKKT
ORGANIZER:Jakob Cimprič
RELATED-TO:fmf-AFLABS-URNIK:srecanje:13884
X-WR-TIMEZONE:Europe/Ljubljana
END:VEVENT
BEGIN:VEVENT
SUMMARY:Matematika in statistika (FKKT 1KemTeh VS) ()\, Predavanja (P)
DTSTART;TZID=Europe/Ljubljana:20241015T080000
DTEND;TZID=Europe/Ljubljana:20241015T110000
DTSTAMP:20260423T034424Z
UID:fmf-AFLABS-URNIK:premaknjeno-srecanje:182469
CATEGORIES:Entry,Standard
COLOR:darkgreen
DESCRIPTION:Predmet: Matematika in statistika (FKKT 1KemTeh VS) ()\, Preda
 vanja (P)\nLetniki: \nIzvajalci: Jakob Cimprič\nProstor: FKKT
LOCATION:FKKT
ORGANIZER:Jakob Cimprič
RELATED-TO:fmf-AFLABS-URNIK:srecanje:13884
X-WR-TIMEZONE:Europe/Ljubljana
END:VEVENT
BEGIN:VEVENT
SUMMARY:Matematika in statistika (FKKT 1KemTeh VS) ()\, Predavanja (P)
DTSTART;TZID=Europe/Ljubljana:20241022T080000
DTEND;TZID=Europe/Ljubljana:20241022T110000
DTSTAMP:20260423T034424Z
UID:fmf-AFLABS-URNIK:premaknjeno-srecanje:182470
CATEGORIES:Entry,Standard
COLOR:darkgreen
DESCRIPTION:Predmet: Matematika in statistika (FKKT 1KemTeh VS) ()\, Preda
 vanja (P)\nLetniki: \nIzvajalci: Jakob Cimprič\nProstor: FKKT
LOCATION:FKKT
ORGANIZER:Jakob Cimprič
RELATED-TO:fmf-AFLABS-URNIK:srecanje:13884
X-WR-TIMEZONE:Europe/Ljubljana
END:VEVENT
BEGIN:VEVENT
SUMMARY:Matematika in statistika (FKKT 1KemTeh VS) ()\, Predavanja (P)
DTSTART;TZID=Europe/Ljubljana:20241029T080000
DTEND;TZID=Europe/Ljubljana:20241029T110000
DTSTAMP:20260423T034424Z
UID:fmf-AFLABS-URNIK:premaknjeno-srecanje:182471
CATEGORIES:Entry,Standard
COLOR:darkgreen
DESCRIPTION:Predmet: Matematika in statistika (FKKT 1KemTeh VS) ()\, Preda
 vanja (P)\nLetniki: \nIzvajalci: Jakob Cimprič\nProstor: FKKT
LOCATION:FKKT
ORGANIZER:Jakob Cimprič
RELATED-TO:fmf-AFLABS-URNIK:srecanje:13884
X-WR-TIMEZONE:Europe/Ljubljana
END:VEVENT
BEGIN:VEVENT
SUMMARY:Matematika in statistika (FKKT 1KemTeh VS) ()\, Predavanja (P)
DTSTART;TZID=Europe/Ljubljana:20241105T080000
DTEND;TZID=Europe/Ljubljana:20241105T110000
DTSTAMP:20260423T034424Z
UID:fmf-AFLABS-URNIK:premaknjeno-srecanje:182472
CATEGORIES:Entry,Standard
COLOR:darkgreen
DESCRIPTION:Predmet: Matematika in statistika (FKKT 1KemTeh VS) ()\, Preda
 vanja (P)\nLetniki: \nIzvajalci: Jakob Cimprič\nProstor: FKKT
LOCATION:FKKT
ORGANIZER:Jakob Cimprič
RELATED-TO:fmf-AFLABS-URNIK:srecanje:13884
X-WR-TIMEZONE:Europe/Ljubljana
END:VEVENT
BEGIN:VEVENT
SUMMARY:Matematika in statistika (FKKT 1KemTeh VS) ()\, Predavanja (P)
DTSTART;TZID=Europe/Ljubljana:20241112T080000
DTEND;TZID=Europe/Ljubljana:20241112T110000
DTSTAMP:20260423T034424Z
UID:fmf-AFLABS-URNIK:premaknjeno-srecanje:182473
CATEGORIES:Entry,Standard
COLOR:darkgreen
DESCRIPTION:Predmet: Matematika in statistika (FKKT 1KemTeh VS) ()\, Preda
 vanja (P)\nLetniki: \nIzvajalci: Jakob Cimprič\nProstor: FKKT
LOCATION:FKKT
ORGANIZER:Jakob Cimprič
RELATED-TO:fmf-AFLABS-URNIK:srecanje:13884
X-WR-TIMEZONE:Europe/Ljubljana
END:VEVENT
BEGIN:VEVENT
SUMMARY:Matematika in statistika (FKKT 1KemTeh VS) ()\, Predavanja (P)
DTSTART;TZID=Europe/Ljubljana:20241119T080000
DTEND;TZID=Europe/Ljubljana:20241119T110000
DTSTAMP:20260423T034424Z
UID:fmf-AFLABS-URNIK:premaknjeno-srecanje:182474
CATEGORIES:Entry,Standard
COLOR:darkgreen
DESCRIPTION:Predmet: Matematika in statistika (FKKT 1KemTeh VS) ()\, Preda
 vanja (P)\nLetniki: \nIzvajalci: Jakob Cimprič\nProstor: FKKT
LOCATION:FKKT
ORGANIZER:Jakob Cimprič
RELATED-TO:fmf-AFLABS-URNIK:srecanje:13884
X-WR-TIMEZONE:Europe/Ljubljana
END:VEVENT
BEGIN:VEVENT
SUMMARY:Matematika in statistika (FKKT 1KemTeh VS) ()\, Predavanja (P)
DTSTART;TZID=Europe/Ljubljana:20241126T080000
DTEND;TZID=Europe/Ljubljana:20241126T110000
DTSTAMP:20260423T034424Z
UID:fmf-AFLABS-URNIK:premaknjeno-srecanje:182475
CATEGORIES:Entry,Standard
COLOR:darkgreen
DESCRIPTION:Predmet: Matematika in statistika (FKKT 1KemTeh VS) ()\, Preda
 vanja (P)\nLetniki: \nIzvajalci: Jakob Cimprič\nProstor: FKKT
LOCATION:FKKT
ORGANIZER:Jakob Cimprič
RELATED-TO:fmf-AFLABS-URNIK:srecanje:13884
X-WR-TIMEZONE:Europe/Ljubljana
END:VEVENT
BEGIN:VEVENT
SUMMARY:Matematika in statistika (FKKT 1KemTeh VS) ()\, Predavanja (P)
DTSTART;TZID=Europe/Ljubljana:20241203T080000
DTEND;TZID=Europe/Ljubljana:20241203T110000
DTSTAMP:20260423T034424Z
UID:fmf-AFLABS-URNIK:premaknjeno-srecanje:182476
CATEGORIES:Entry,Standard
COLOR:darkgreen
DESCRIPTION:Predmet: Matematika in statistika (FKKT 1KemTeh VS) ()\, Preda
 vanja (P)\nLetniki: \nIzvajalci: Jakob Cimprič\nProstor: FKKT
LOCATION:FKKT
ORGANIZER:Jakob Cimprič
RELATED-TO:fmf-AFLABS-URNIK:srecanje:13884
X-WR-TIMEZONE:Europe/Ljubljana
END:VEVENT
BEGIN:VEVENT
SUMMARY:Matematika in statistika (FKKT 1KemTeh VS) ()\, Predavanja (P)
DTSTART;TZID=Europe/Ljubljana:20241210T080000
DTEND;TZID=Europe/Ljubljana:20241210T110000
DTSTAMP:20260423T034424Z
UID:fmf-AFLABS-URNIK:premaknjeno-srecanje:182477
CATEGORIES:Entry,Standard
COLOR:darkgreen
DESCRIPTION:Predmet: Matematika in statistika (FKKT 1KemTeh VS) ()\, Preda
 vanja (P)\nLetniki: \nIzvajalci: Jakob Cimprič\nProstor: FKKT
LOCATION:FKKT
ORGANIZER:Jakob Cimprič
RELATED-TO:fmf-AFLABS-URNIK:srecanje:13884
X-WR-TIMEZONE:Europe/Ljubljana
END:VEVENT
BEGIN:VEVENT
SUMMARY:Matematika in statistika (FKKT 1KemTeh VS) ()\, Predavanja (P)
DTSTART;TZID=Europe/Ljubljana:20241217T080000
DTEND;TZID=Europe/Ljubljana:20241217T110000
DTSTAMP:20260423T034424Z
UID:fmf-AFLABS-URNIK:premaknjeno-srecanje:182478
CATEGORIES:Entry,Standard
COLOR:darkgreen
DESCRIPTION:Predmet: Matematika in statistika (FKKT 1KemTeh VS) ()\, Preda
 vanja (P)\nLetniki: \nIzvajalci: Jakob Cimprič\nProstor: FKKT
LOCATION:FKKT
ORGANIZER:Jakob Cimprič
RELATED-TO:fmf-AFLABS-URNIK:srecanje:13884
X-WR-TIMEZONE:Europe/Ljubljana
END:VEVENT
BEGIN:VEVENT
SUMMARY:Matematika in statistika (FKKT 1KemTeh VS) ()\, Predavanja (P)
DTSTART;TZID=Europe/Ljubljana:20241224T080000
DTEND;TZID=Europe/Ljubljana:20241224T110000
DTSTAMP:20260423T034424Z
UID:fmf-AFLABS-URNIK:premaknjeno-srecanje:182479
CATEGORIES:Entry,Standard
COLOR:darkgreen
DESCRIPTION:Predmet: Matematika in statistika (FKKT 1KemTeh VS) ()\, Preda
 vanja (P)\nLetniki: \nIzvajalci: Jakob Cimprič\nProstor: FKKT
LOCATION:FKKT
ORGANIZER:Jakob Cimprič
RELATED-TO:fmf-AFLABS-URNIK:srecanje:13884
X-WR-TIMEZONE:Europe/Ljubljana
END:VEVENT
BEGIN:VEVENT
SUMMARY:Matematika in statistika (FKKT 1KemTeh VS) ()\, Predavanja (P)
DTSTART;TZID=Europe/Ljubljana:20241231T080000
DTEND;TZID=Europe/Ljubljana:20241231T110000
DTSTAMP:20260423T034424Z
UID:fmf-AFLABS-URNIK:premaknjeno-srecanje:182480
CATEGORIES:Entry,Standard
COLOR:darkgreen
DESCRIPTION:Predmet: Matematika in statistika (FKKT 1KemTeh VS) ()\, Preda
 vanja (P)\nLetniki: \nIzvajalci: Jakob Cimprič\nProstor: FKKT
LOCATION:FKKT
ORGANIZER:Jakob Cimprič
RELATED-TO:fmf-AFLABS-URNIK:srecanje:13884
X-WR-TIMEZONE:Europe/Ljubljana
END:VEVENT
BEGIN:VEVENT
SUMMARY:Matematika in statistika (FKKT 1KemTeh VS) ()\, Predavanja (P)
DTSTART;TZID=Europe/Ljubljana:20250107T080000
DTEND;TZID=Europe/Ljubljana:20250107T110000
DTSTAMP:20260423T034424Z
UID:fmf-AFLABS-URNIK:premaknjeno-srecanje:182481
CATEGORIES:Entry,Standard
COLOR:darkgreen
DESCRIPTION:Predmet: Matematika in statistika (FKKT 1KemTeh VS) ()\, Preda
 vanja (P)\nLetniki: \nIzvajalci: Jakob Cimprič\nProstor: FKKT
LOCATION:FKKT
ORGANIZER:Jakob Cimprič
RELATED-TO:fmf-AFLABS-URNIK:srecanje:13884
X-WR-TIMEZONE:Europe/Ljubljana
END:VEVENT
BEGIN:VEVENT
SUMMARY:Matematika in statistika (FKKT 1KemTeh VS) ()\, Predavanja (P)
DTSTART;TZID=Europe/Ljubljana:20250114T080000
DTEND;TZID=Europe/Ljubljana:20250114T110000
DTSTAMP:20260423T034424Z
UID:fmf-AFLABS-URNIK:premaknjeno-srecanje:186967
CATEGORIES:Entry,Standard
COLOR:darkgreen
DESCRIPTION:Predmet: Matematika in statistika (FKKT 1KemTeh VS) ()\, Preda
 vanja (P)\nLetniki: \nIzvajalci: Jakob Cimprič\nProstor: FKKT
LOCATION:FKKT
ORGANIZER:Jakob Cimprič
RELATED-TO:fmf-AFLABS-URNIK:srecanje:13884
X-WR-TIMEZONE:Europe/Ljubljana
END:VEVENT
BEGIN:VEVENT
SUMMARY:Govorilna ura ()\, Ostalo (O)
DTSTART;TZID=Europe/Ljubljana:20241007T100000
DTEND;TZID=Europe/Ljubljana:20241007T110000
DTSTAMP:20260423T034424Z
UID:fmf-AFLABS-URNIK:premaknjeno-srecanje:180127
CATEGORIES:Entry,Standard
COLOR:darkgreen
DESCRIPTION:Predmet: Govorilna ura ()\, Ostalo (O)\nLetniki: \nIzvajalci: 
 Jakob Cimprič\nProstor: 4.21
LOCATION:4.21
ORGANIZER:Jakob Cimprič
RELATED-TO:fmf-AFLABS-URNIK:srecanje:13728
X-WR-TIMEZONE:Europe/Ljubljana
END:VEVENT
BEGIN:VEVENT
SUMMARY:Govorilna ura ()\, Ostalo (O)
DTSTART;TZID=Europe/Ljubljana:20241014T100000
DTEND;TZID=Europe/Ljubljana:20241014T110000
DTSTAMP:20260423T034424Z
UID:fmf-AFLABS-URNIK:premaknjeno-srecanje:180128
CATEGORIES:Entry,Standard
COLOR:darkgreen
DESCRIPTION:Predmet: Govorilna ura ()\, Ostalo (O)\nLetniki: \nIzvajalci: 
 Jakob Cimprič\nProstor: 4.21
LOCATION:4.21
ORGANIZER:Jakob Cimprič
RELATED-TO:fmf-AFLABS-URNIK:srecanje:13728
X-WR-TIMEZONE:Europe/Ljubljana
END:VEVENT
BEGIN:VEVENT
SUMMARY:Govorilna ura ()\, Ostalo (O)
DTSTART;TZID=Europe/Ljubljana:20241021T100000
DTEND;TZID=Europe/Ljubljana:20241021T110000
DTSTAMP:20260423T034424Z
UID:fmf-AFLABS-URNIK:premaknjeno-srecanje:180129
CATEGORIES:Entry,Standard
COLOR:darkgreen
DESCRIPTION:Predmet: Govorilna ura ()\, Ostalo (O)\nLetniki: \nIzvajalci: 
 Jakob Cimprič\nProstor: 4.21
LOCATION:4.21
ORGANIZER:Jakob Cimprič
RELATED-TO:fmf-AFLABS-URNIK:srecanje:13728
X-WR-TIMEZONE:Europe/Ljubljana
END:VEVENT
BEGIN:VEVENT
SUMMARY:Govorilna ura ()\, Ostalo (O)
DTSTART;TZID=Europe/Ljubljana:20241028T100000
DTEND;TZID=Europe/Ljubljana:20241028T110000
DTSTAMP:20260423T034424Z
UID:fmf-AFLABS-URNIK:premaknjeno-srecanje:180130
CATEGORIES:Entry,Standard
COLOR:darkgreen
DESCRIPTION:Predmet: Govorilna ura ()\, Ostalo (O)\nLetniki: \nIzvajalci: 
 Jakob Cimprič\nProstor: 4.21
LOCATION:4.21
ORGANIZER:Jakob Cimprič
RELATED-TO:fmf-AFLABS-URNIK:srecanje:13728
X-WR-TIMEZONE:Europe/Ljubljana
END:VEVENT
BEGIN:VEVENT
SUMMARY:Govorilna ura ()\, Ostalo (O)
DTSTART;TZID=Europe/Ljubljana:20241104T100000
DTEND;TZID=Europe/Ljubljana:20241104T110000
DTSTAMP:20260423T034424Z
UID:fmf-AFLABS-URNIK:premaknjeno-srecanje:180131
CATEGORIES:Entry,Standard
COLOR:darkgreen
DESCRIPTION:Predmet: Govorilna ura ()\, Ostalo (O)\nLetniki: \nIzvajalci: 
 Jakob Cimprič\nProstor: 4.21
LOCATION:4.21
ORGANIZER:Jakob Cimprič
RELATED-TO:fmf-AFLABS-URNIK:srecanje:13728
X-WR-TIMEZONE:Europe/Ljubljana
END:VEVENT
BEGIN:VEVENT
SUMMARY:Govorilna ura ()\, Ostalo (O)
DTSTART;TZID=Europe/Ljubljana:20241111T100000
DTEND;TZID=Europe/Ljubljana:20241111T110000
DTSTAMP:20260423T034424Z
UID:fmf-AFLABS-URNIK:premaknjeno-srecanje:180132
CATEGORIES:Entry,Standard
COLOR:darkgreen
DESCRIPTION:Predmet: Govorilna ura ()\, Ostalo (O)\nLetniki: \nIzvajalci: 
 Jakob Cimprič\nProstor: 4.21
LOCATION:4.21
ORGANIZER:Jakob Cimprič
RELATED-TO:fmf-AFLABS-URNIK:srecanje:13728
X-WR-TIMEZONE:Europe/Ljubljana
END:VEVENT
BEGIN:VEVENT
SUMMARY:Govorilna ura ()\, Ostalo (O)
DTSTART;TZID=Europe/Ljubljana:20241118T100000
DTEND;TZID=Europe/Ljubljana:20241118T110000
DTSTAMP:20260423T034424Z
UID:fmf-AFLABS-URNIK:premaknjeno-srecanje:180133
CATEGORIES:Entry,Standard
COLOR:darkgreen
DESCRIPTION:Predmet: Govorilna ura ()\, Ostalo (O)\nLetniki: \nIzvajalci: 
 Jakob Cimprič\nProstor: 4.21
LOCATION:4.21
ORGANIZER:Jakob Cimprič
RELATED-TO:fmf-AFLABS-URNIK:srecanje:13728
X-WR-TIMEZONE:Europe/Ljubljana
END:VEVENT
BEGIN:VEVENT
SUMMARY:Govorilna ura ()\, Ostalo (O)
DTSTART;TZID=Europe/Ljubljana:20241125T100000
DTEND;TZID=Europe/Ljubljana:20241125T110000
DTSTAMP:20260423T034424Z
UID:fmf-AFLABS-URNIK:premaknjeno-srecanje:180134
CATEGORIES:Entry,Standard
COLOR:darkgreen
DESCRIPTION:Predmet: Govorilna ura ()\, Ostalo (O)\nLetniki: \nIzvajalci: 
 Jakob Cimprič\nProstor: 4.21
LOCATION:4.21
ORGANIZER:Jakob Cimprič
RELATED-TO:fmf-AFLABS-URNIK:srecanje:13728
X-WR-TIMEZONE:Europe/Ljubljana
END:VEVENT
BEGIN:VEVENT
SUMMARY:Govorilna ura ()\, Ostalo (O)
DTSTART;TZID=Europe/Ljubljana:20241202T100000
DTEND;TZID=Europe/Ljubljana:20241202T110000
DTSTAMP:20260423T034424Z
UID:fmf-AFLABS-URNIK:premaknjeno-srecanje:180135
CATEGORIES:Entry,Standard
COLOR:darkgreen
DESCRIPTION:Predmet: Govorilna ura ()\, Ostalo (O)\nLetniki: \nIzvajalci: 
 Jakob Cimprič\nProstor: 4.21
LOCATION:4.21
ORGANIZER:Jakob Cimprič
RELATED-TO:fmf-AFLABS-URNIK:srecanje:13728
X-WR-TIMEZONE:Europe/Ljubljana
END:VEVENT
BEGIN:VEVENT
SUMMARY:Govorilna ura ()\, Ostalo (O)
DTSTART;TZID=Europe/Ljubljana:20241209T100000
DTEND;TZID=Europe/Ljubljana:20241209T110000
DTSTAMP:20260423T034424Z
UID:fmf-AFLABS-URNIK:premaknjeno-srecanje:180136
CATEGORIES:Entry,Standard
COLOR:darkgreen
DESCRIPTION:Predmet: Govorilna ura ()\, Ostalo (O)\nLetniki: \nIzvajalci: 
 Jakob Cimprič\nProstor: 4.21
LOCATION:4.21
ORGANIZER:Jakob Cimprič
RELATED-TO:fmf-AFLABS-URNIK:srecanje:13728
X-WR-TIMEZONE:Europe/Ljubljana
END:VEVENT
BEGIN:VEVENT
SUMMARY:Govorilna ura ()\, Ostalo (O)
DTSTART;TZID=Europe/Ljubljana:20241216T100000
DTEND;TZID=Europe/Ljubljana:20241216T110000
DTSTAMP:20260423T034424Z
UID:fmf-AFLABS-URNIK:premaknjeno-srecanje:180137
CATEGORIES:Entry,Standard
COLOR:darkgreen
DESCRIPTION:Predmet: Govorilna ura ()\, Ostalo (O)\nLetniki: \nIzvajalci: 
 Jakob Cimprič\nProstor: 4.21
LOCATION:4.21
ORGANIZER:Jakob Cimprič
RELATED-TO:fmf-AFLABS-URNIK:srecanje:13728
X-WR-TIMEZONE:Europe/Ljubljana
END:VEVENT
BEGIN:VEVENT
SUMMARY:Govorilna ura ()\, Ostalo (O)
DTSTART;TZID=Europe/Ljubljana:20241223T100000
DTEND;TZID=Europe/Ljubljana:20241223T110000
DTSTAMP:20260423T034424Z
UID:fmf-AFLABS-URNIK:premaknjeno-srecanje:180138
CATEGORIES:Entry,Standard
COLOR:darkgreen
DESCRIPTION:Predmet: Govorilna ura ()\, Ostalo (O)\nLetniki: \nIzvajalci: 
 Jakob Cimprič\nProstor: 4.21
LOCATION:4.21
ORGANIZER:Jakob Cimprič
RELATED-TO:fmf-AFLABS-URNIK:srecanje:13728
X-WR-TIMEZONE:Europe/Ljubljana
END:VEVENT
BEGIN:VEVENT
SUMMARY:Govorilna ura ()\, Ostalo (O)
DTSTART;TZID=Europe/Ljubljana:20241230T100000
DTEND;TZID=Europe/Ljubljana:20241230T110000
DTSTAMP:20260423T034424Z
UID:fmf-AFLABS-URNIK:premaknjeno-srecanje:180139
CATEGORIES:Entry,Standard
COLOR:darkgreen
DESCRIPTION:Predmet: Govorilna ura ()\, Ostalo (O)\nLetniki: \nIzvajalci: 
 Jakob Cimprič\nProstor: 4.21
LOCATION:4.21
ORGANIZER:Jakob Cimprič
RELATED-TO:fmf-AFLABS-URNIK:srecanje:13728
X-WR-TIMEZONE:Europe/Ljubljana
END:VEVENT
BEGIN:VEVENT
SUMMARY:Govorilna ura ()\, Ostalo (O)
DTSTART;TZID=Europe/Ljubljana:20250106T100000
DTEND;TZID=Europe/Ljubljana:20250106T110000
DTSTAMP:20260423T034424Z
UID:fmf-AFLABS-URNIK:premaknjeno-srecanje:180140
CATEGORIES:Entry,Standard
COLOR:darkgreen
DESCRIPTION:Predmet: Govorilna ura ()\, Ostalo (O)\nLetniki: \nIzvajalci: 
 Jakob Cimprič\nProstor: 4.21
LOCATION:4.21
ORGANIZER:Jakob Cimprič
RELATED-TO:fmf-AFLABS-URNIK:srecanje:13728
X-WR-TIMEZONE:Europe/Ljubljana
END:VEVENT
BEGIN:VEVENT
SUMMARY:Govorilna ura ()\, Ostalo (O)
DTSTART;TZID=Europe/Ljubljana:20250113T100000
DTEND;TZID=Europe/Ljubljana:20250113T110000
DTSTAMP:20260423T034424Z
UID:fmf-AFLABS-URNIK:premaknjeno-srecanje:180141
CATEGORIES:Entry,Standard
COLOR:darkgreen
DESCRIPTION:Predmet: Govorilna ura ()\, Ostalo (O)\nLetniki: \nIzvajalci: 
 Jakob Cimprič\nProstor: 4.21
LOCATION:4.21
ORGANIZER:Jakob Cimprič
RELATED-TO:fmf-AFLABS-URNIK:srecanje:13728
X-WR-TIMEZONE:Europe/Ljubljana
END:VEVENT
BEGIN:VEVENT
SUMMARY:Govorilna ura ()\, Ostalo (O)
DTSTART;TZID=Europe/Ljubljana:20250120T100000
DTEND;TZID=Europe/Ljubljana:20250120T110000
DTSTAMP:20260423T034424Z
UID:fmf-AFLABS-URNIK:premaknjeno-srecanje:186811
CATEGORIES:Entry,Standard
COLOR:darkgreen
DESCRIPTION:Predmet: Govorilna ura ()\, Ostalo (O)\nLetniki: \nIzvajalci: 
 Jakob Cimprič\nProstor: 4.21
LOCATION:4.21
ORGANIZER:Jakob Cimprič
RELATED-TO:fmf-AFLABS-URNIK:srecanje:13728
X-WR-TIMEZONE:Europe/Ljubljana
END:VEVENT
BEGIN:VEVENT
SUMMARY:Linearna algebra (IŠRM-1)\, Predavanja (P)
DTSTART;TZID=Europe/Ljubljana:20241007T080000
DTEND;TZID=Europe/Ljubljana:20241007T100000
DTSTAMP:20260423T034424Z
UID:fmf-AFLABS-URNIK:premaknjeno-srecanje:181522
ATTENDEE:1. letnik (IŠRM)
CATEGORIES:Entry,Standard
COLOR:darkgreen
DESCRIPTION:Predmet: Linearna algebra (IŠRM-1)\, Predavanja (P)\nLetniki:
  1. letnik (IŠRM)\nIzvajalci: Jakob Cimprič\nProstor: P.02
LOCATION:P.02
ORGANIZER:Jakob Cimprič
RELATED-TO:fmf-AFLABS-URNIK:srecanje:13821
X-WR-TIMEZONE:Europe/Ljubljana
END:VEVENT
BEGIN:VEVENT
SUMMARY:Linearna algebra (IŠRM-1)\, Predavanja (P)
DTSTART;TZID=Europe/Ljubljana:20241014T080000
DTEND;TZID=Europe/Ljubljana:20241014T100000
DTSTAMP:20260423T034424Z
UID:fmf-AFLABS-URNIK:premaknjeno-srecanje:181523
ATTENDEE:1. letnik (IŠRM)
CATEGORIES:Entry,Standard
COLOR:darkgreen
DESCRIPTION:Predmet: Linearna algebra (IŠRM-1)\, Predavanja (P)\nLetniki:
  1. letnik (IŠRM)\nIzvajalci: Jakob Cimprič\nProstor: P.02
LOCATION:P.02
ORGANIZER:Jakob Cimprič
RELATED-TO:fmf-AFLABS-URNIK:srecanje:13821
X-WR-TIMEZONE:Europe/Ljubljana
END:VEVENT
BEGIN:VEVENT
SUMMARY:Linearna algebra (IŠRM-1)\, Predavanja (P)
DTSTART;TZID=Europe/Ljubljana:20241021T080000
DTEND;TZID=Europe/Ljubljana:20241021T100000
DTSTAMP:20260423T034424Z
UID:fmf-AFLABS-URNIK:premaknjeno-srecanje:181524
ATTENDEE:1. letnik (IŠRM)
CATEGORIES:Entry,Standard
COLOR:darkgreen
DESCRIPTION:Predmet: Linearna algebra (IŠRM-1)\, Predavanja (P)\nLetniki:
  1. letnik (IŠRM)\nIzvajalci: Jakob Cimprič\nProstor: P.02
LOCATION:P.02
ORGANIZER:Jakob Cimprič
RELATED-TO:fmf-AFLABS-URNIK:srecanje:13821
X-WR-TIMEZONE:Europe/Ljubljana
END:VEVENT
BEGIN:VEVENT
SUMMARY:Linearna algebra (IŠRM-1)\, Predavanja (P)
DTSTART;TZID=Europe/Ljubljana:20241028T080000
DTEND;TZID=Europe/Ljubljana:20241028T100000
DTSTAMP:20260423T034424Z
UID:fmf-AFLABS-URNIK:premaknjeno-srecanje:181525
ATTENDEE:1. letnik (IŠRM)
CATEGORIES:Entry,Standard
COLOR:darkgreen
DESCRIPTION:Predmet: Linearna algebra (IŠRM-1)\, Predavanja (P)\nLetniki:
  1. letnik (IŠRM)\nIzvajalci: Jakob Cimprič\nProstor: P.02
LOCATION:P.02
ORGANIZER:Jakob Cimprič
RELATED-TO:fmf-AFLABS-URNIK:srecanje:13821
X-WR-TIMEZONE:Europe/Ljubljana
END:VEVENT
BEGIN:VEVENT
SUMMARY:Linearna algebra (IŠRM-1)\, Predavanja (P)
DTSTART;TZID=Europe/Ljubljana:20241104T080000
DTEND;TZID=Europe/Ljubljana:20241104T100000
DTSTAMP:20260423T034424Z
UID:fmf-AFLABS-URNIK:premaknjeno-srecanje:181526
ATTENDEE:1. letnik (IŠRM)
CATEGORIES:Entry,Standard
COLOR:darkgreen
DESCRIPTION:Predmet: Linearna algebra (IŠRM-1)\, Predavanja (P)\nLetniki:
  1. letnik (IŠRM)\nIzvajalci: Jakob Cimprič\nProstor: P.02
LOCATION:P.02
ORGANIZER:Jakob Cimprič
RELATED-TO:fmf-AFLABS-URNIK:srecanje:13821
X-WR-TIMEZONE:Europe/Ljubljana
END:VEVENT
BEGIN:VEVENT
SUMMARY:Linearna algebra (IŠRM-1)\, Predavanja (P)
DTSTART;TZID=Europe/Ljubljana:20241111T080000
DTEND;TZID=Europe/Ljubljana:20241111T100000
DTSTAMP:20260423T034424Z
UID:fmf-AFLABS-URNIK:premaknjeno-srecanje:181527
ATTENDEE:1. letnik (IŠRM)
CATEGORIES:Entry,Standard
COLOR:darkgreen
DESCRIPTION:Predmet: Linearna algebra (IŠRM-1)\, Predavanja (P)\nLetniki:
  1. letnik (IŠRM)\nIzvajalci: Jakob Cimprič\nProstor: P.02
LOCATION:P.02
ORGANIZER:Jakob Cimprič
RELATED-TO:fmf-AFLABS-URNIK:srecanje:13821
X-WR-TIMEZONE:Europe/Ljubljana
END:VEVENT
BEGIN:VEVENT
SUMMARY:Linearna algebra (IŠRM-1)\, Predavanja (P)
DTSTART;TZID=Europe/Ljubljana:20241118T080000
DTEND;TZID=Europe/Ljubljana:20241118T100000
DTSTAMP:20260423T034424Z
UID:fmf-AFLABS-URNIK:premaknjeno-srecanje:181528
ATTENDEE:1. letnik (IŠRM)
CATEGORIES:Entry,Standard
COLOR:darkgreen
DESCRIPTION:Predmet: Linearna algebra (IŠRM-1)\, Predavanja (P)\nLetniki:
  1. letnik (IŠRM)\nIzvajalci: Jakob Cimprič\nProstor: P.02
LOCATION:P.02
ORGANIZER:Jakob Cimprič
RELATED-TO:fmf-AFLABS-URNIK:srecanje:13821
X-WR-TIMEZONE:Europe/Ljubljana
END:VEVENT
BEGIN:VEVENT
SUMMARY:Linearna algebra (IŠRM-1)\, Predavanja (P)
DTSTART;TZID=Europe/Ljubljana:20241125T080000
DTEND;TZID=Europe/Ljubljana:20241125T100000
DTSTAMP:20260423T034424Z
UID:fmf-AFLABS-URNIK:premaknjeno-srecanje:181529
ATTENDEE:1. letnik (IŠRM)
CATEGORIES:Entry,Standard
COLOR:darkgreen
DESCRIPTION:Predmet: Linearna algebra (IŠRM-1)\, Predavanja (P)\nLetniki:
  1. letnik (IŠRM)\nIzvajalci: Jakob Cimprič\nProstor: P.02
LOCATION:P.02
ORGANIZER:Jakob Cimprič
RELATED-TO:fmf-AFLABS-URNIK:srecanje:13821
X-WR-TIMEZONE:Europe/Ljubljana
END:VEVENT
BEGIN:VEVENT
SUMMARY:Linearna algebra (IŠRM-1)\, Predavanja (P)
DTSTART;TZID=Europe/Ljubljana:20241202T080000
DTEND;TZID=Europe/Ljubljana:20241202T100000
DTSTAMP:20260423T034424Z
UID:fmf-AFLABS-URNIK:premaknjeno-srecanje:181530
ATTENDEE:1. letnik (IŠRM)
CATEGORIES:Entry,Standard
COLOR:darkgreen
DESCRIPTION:Predmet: Linearna algebra (IŠRM-1)\, Predavanja (P)\nLetniki:
  1. letnik (IŠRM)\nIzvajalci: Jakob Cimprič\nProstor: P.02
LOCATION:P.02
ORGANIZER:Jakob Cimprič
RELATED-TO:fmf-AFLABS-URNIK:srecanje:13821
X-WR-TIMEZONE:Europe/Ljubljana
END:VEVENT
BEGIN:VEVENT
SUMMARY:Linearna algebra (IŠRM-1)\, Predavanja (P)
DTSTART;TZID=Europe/Ljubljana:20241209T080000
DTEND;TZID=Europe/Ljubljana:20241209T100000
DTSTAMP:20260423T034424Z
UID:fmf-AFLABS-URNIK:premaknjeno-srecanje:181531
ATTENDEE:1. letnik (IŠRM)
CATEGORIES:Entry,Standard
COLOR:darkgreen
DESCRIPTION:Predmet: Linearna algebra (IŠRM-1)\, Predavanja (P)\nLetniki:
  1. letnik (IŠRM)\nIzvajalci: Jakob Cimprič\nProstor: P.02
LOCATION:P.02
ORGANIZER:Jakob Cimprič
RELATED-TO:fmf-AFLABS-URNIK:srecanje:13821
X-WR-TIMEZONE:Europe/Ljubljana
END:VEVENT
BEGIN:VEVENT
SUMMARY:Linearna algebra (IŠRM-1)\, Predavanja (P)
DTSTART;TZID=Europe/Ljubljana:20241216T080000
DTEND;TZID=Europe/Ljubljana:20241216T100000
DTSTAMP:20260423T034424Z
UID:fmf-AFLABS-URNIK:premaknjeno-srecanje:181532
ATTENDEE:1. letnik (IŠRM)
CATEGORIES:Entry,Standard
COLOR:darkgreen
DESCRIPTION:Predmet: Linearna algebra (IŠRM-1)\, Predavanja (P)\nLetniki:
  1. letnik (IŠRM)\nIzvajalci: Jakob Cimprič\nProstor: P.02
LOCATION:P.02
ORGANIZER:Jakob Cimprič
RELATED-TO:fmf-AFLABS-URNIK:srecanje:13821
X-WR-TIMEZONE:Europe/Ljubljana
END:VEVENT
BEGIN:VEVENT
SUMMARY:Linearna algebra (IŠRM-1)\, Predavanja (P)
DTSTART;TZID=Europe/Ljubljana:20241223T080000
DTEND;TZID=Europe/Ljubljana:20241223T100000
DTSTAMP:20260423T034424Z
UID:fmf-AFLABS-URNIK:premaknjeno-srecanje:181533
ATTENDEE:1. letnik (IŠRM)
CATEGORIES:Entry,Standard
COLOR:darkgreen
DESCRIPTION:Predmet: Linearna algebra (IŠRM-1)\, Predavanja (P)\nLetniki:
  1. letnik (IŠRM)\nIzvajalci: Jakob Cimprič\nProstor: P.02
LOCATION:P.02
ORGANIZER:Jakob Cimprič
RELATED-TO:fmf-AFLABS-URNIK:srecanje:13821
X-WR-TIMEZONE:Europe/Ljubljana
END:VEVENT
BEGIN:VEVENT
SUMMARY:Linearna algebra (IŠRM-1)\, Predavanja (P)
DTSTART;TZID=Europe/Ljubljana:20241230T080000
DTEND;TZID=Europe/Ljubljana:20241230T100000
DTSTAMP:20260423T034424Z
UID:fmf-AFLABS-URNIK:premaknjeno-srecanje:181534
ATTENDEE:1. letnik (IŠRM)
CATEGORIES:Entry,Standard
COLOR:darkgreen
DESCRIPTION:Predmet: Linearna algebra (IŠRM-1)\, Predavanja (P)\nLetniki:
  1. letnik (IŠRM)\nIzvajalci: Jakob Cimprič\nProstor: P.02
LOCATION:P.02
ORGANIZER:Jakob Cimprič
RELATED-TO:fmf-AFLABS-URNIK:srecanje:13821
X-WR-TIMEZONE:Europe/Ljubljana
END:VEVENT
BEGIN:VEVENT
SUMMARY:Linearna algebra (IŠRM-1)\, Predavanja (P)
DTSTART;TZID=Europe/Ljubljana:20250106T080000
DTEND;TZID=Europe/Ljubljana:20250106T100000
DTSTAMP:20260423T034424Z
UID:fmf-AFLABS-URNIK:premaknjeno-srecanje:181535
ATTENDEE:1. letnik (IŠRM)
CATEGORIES:Entry,Standard
COLOR:darkgreen
DESCRIPTION:Predmet: Linearna algebra (IŠRM-1)\, Predavanja (P)\nLetniki:
  1. letnik (IŠRM)\nIzvajalci: Jakob Cimprič\nProstor: P.02
LOCATION:P.02
ORGANIZER:Jakob Cimprič
RELATED-TO:fmf-AFLABS-URNIK:srecanje:13821
X-WR-TIMEZONE:Europe/Ljubljana
END:VEVENT
BEGIN:VEVENT
SUMMARY:Linearna algebra (IŠRM-1)\, Predavanja (P)
DTSTART;TZID=Europe/Ljubljana:20250113T080000
DTEND;TZID=Europe/Ljubljana:20250113T100000
DTSTAMP:20260423T034424Z
UID:fmf-AFLABS-URNIK:premaknjeno-srecanje:181536
ATTENDEE:1. letnik (IŠRM)
CATEGORIES:Entry,Standard
COLOR:darkgreen
DESCRIPTION:Predmet: Linearna algebra (IŠRM-1)\, Predavanja (P)\nLetniki:
  1. letnik (IŠRM)\nIzvajalci: Jakob Cimprič\nProstor: P.02
LOCATION:P.02
ORGANIZER:Jakob Cimprič
RELATED-TO:fmf-AFLABS-URNIK:srecanje:13821
X-WR-TIMEZONE:Europe/Ljubljana
END:VEVENT
BEGIN:VEVENT
SUMMARY:Linearna algebra (IŠRM-1)\, Predavanja (P)
DTSTART;TZID=Europe/Ljubljana:20250120T080000
DTEND;TZID=Europe/Ljubljana:20250120T100000
DTSTAMP:20260423T034424Z
UID:fmf-AFLABS-URNIK:premaknjeno-srecanje:186904
ATTENDEE:1. letnik (IŠRM)
CATEGORIES:Entry,Standard
COLOR:darkgreen
DESCRIPTION:Predmet: Linearna algebra (IŠRM-1)\, Predavanja (P)\nLetniki:
  1. letnik (IŠRM)\nIzvajalci: Jakob Cimprič\nProstor: P.02
LOCATION:P.02
ORGANIZER:Jakob Cimprič
RELATED-TO:fmf-AFLABS-URNIK:srecanje:13821
X-WR-TIMEZONE:Europe/Ljubljana
END:VEVENT
BEGIN:VEVENT
SUMMARY:Nadomestno predavanje.
DTSTART;TZID=Europe/Ljubljana:20241118T150000
DTEND;TZID=Europe/Ljubljana:20241118T160000
DTSTAMP:20260423T034424Z
UID:fmf-AFLABS-URNIK:rezervacija:19655
ATTENDEE:1. letnik (IŠRM)
CATEGORIES:Reservation
COLOR:royalblue
DESCRIPTION:Predmeti: Linearna algebra (IŠRM-1)\nLetniki: 1. letnik (IŠR
 M)\nIzvajalci: Jakob Cimprič\nProstori: P.02
LOCATION:P.02
ORGANIZER:Jakob Cimprič
X-WR-TIMEZONE:Europe/Ljubljana
END:VEVENT
BEGIN:VEVENT
SUMMARY:Nadomestno predavanje.
DTSTART;TZID=Europe/Ljubljana:20241118T160000
DTEND;TZID=Europe/Ljubljana:20241118T170000
DTSTAMP:20260423T034424Z
UID:fmf-AFLABS-URNIK:rezervacija:19696
ATTENDEE:1. letnik (IŠRM)
CATEGORIES:Reservation
COLOR:royalblue
DESCRIPTION:Predmeti: Linearna algebra (IŠRM-1)\nLetniki: 1. letnik (IŠR
 M)\nIzvajalci: Jakob Cimprič\nProstori: P.02
LOCATION:P.02
ORGANIZER:Jakob Cimprič
X-WR-TIMEZONE:Europe/Ljubljana
END:VEVENT
END:VCALENDAR
