BEGIN:VCALENDAR
VERSION:2.0
PRODID:-//AFLabs urnik izvoz - fmf//aflabs.si//SI
DTSTAMP:20260423T130209Z
NAME:UL FMF urnik
REFRESH-INTERVAL:PT1H
SOURCE:https://urnik.fmf.uni-lj.si/teacher/131?day=2023-02-06&export=1
URL:https://urnik.fmf.uni-lj.si/teacher/131?day=2023-02-06&export=1
X-PUBLISHED-TTL:PT1H
X-WR-CALNAME:UL FMF urnik
X-WR-TIMEZONE:Europe/Ljubljana
BEGIN:VTIMEZONE
TZID:Europe/Ljubljana
BEGIN:DAYLIGHT
DTSTART:20260329T020000
RDATE:20260329T020000
RDATE:20270328T020000
TZNAME:CEST
TZOFFSETFROM:+0100
TZOFFSETTO:+0200
END:DAYLIGHT
BEGIN:STANDARD
DTSTART:20261025T030000
RDATE:20261025T030000
RDATE:20271031T030000
TZNAME:CET
TZOFFSETFROM:+0200
TZOFFSETTO:+0100
END:STANDARD
END:VTIMEZONE
BEGIN:VEVENT
SUMMARY:Izbrana poglavja iz astrofizike in fizike delcev (PEF-1\, PEF-2)\,
  Predavanja (P)
DTSTART;TZID=Europe/Ljubljana:20230103T080000
DTEND;TZID=Europe/Ljubljana:20230103T120000
DTSTAMP:20260423T130209Z
UID:fmf-AFLABS-URNIK:premaknjeno-srecanje:42688
ATTENDEE:1. letnik (Pedagoška fizika, 2. stopnja)
ATTENDEE:2. letnik (Pedagoška fizika, 2. stopnja)
CATEGORIES:Entry,Standard
COLOR:darkgreen
DESCRIPTION:Predmet: Izbrana poglavja iz astrofizike in fizike delcev (PEF
 -1\, PEF-2)\, Predavanja (P)\nLetniki: 1. letnik (Pedagoška fizika\, 2. s
 topnja)\, 2. letnik (Pedagoška fizika\, 2. stopnja)\nIzvajalci: Tomaž Po
 dobnik\, Tomaž Zwitter\nProstor: Kuščerjev seminar
LOCATION:Kuščerjev seminar
ORGANIZER:Tomaž Podobnik, Tomaž Zwitter
RELATED-TO:fmf-AFLABS-URNIK:srecanje:7669
X-WR-TIMEZONE:Europe/Ljubljana
END:VEVENT
BEGIN:VEVENT
SUMMARY:Izbrana poglavja iz astrofizike in fizike delcev (PEF-1\, PEF-2)\,
  Predavanja (P)
DTSTART;TZID=Europe/Ljubljana:20230110T080000
DTEND;TZID=Europe/Ljubljana:20230110T120000
DTSTAMP:20260423T130209Z
UID:fmf-AFLABS-URNIK:premaknjeno-srecanje:42689
ATTENDEE:1. letnik (Pedagoška fizika, 2. stopnja)
ATTENDEE:2. letnik (Pedagoška fizika, 2. stopnja)
CATEGORIES:Entry,Standard
COLOR:darkgreen
DESCRIPTION:Predmet: Izbrana poglavja iz astrofizike in fizike delcev (PEF
 -1\, PEF-2)\, Predavanja (P)\nLetniki: 1. letnik (Pedagoška fizika\, 2. s
 topnja)\, 2. letnik (Pedagoška fizika\, 2. stopnja)\nIzvajalci: Tomaž Po
 dobnik\, Tomaž Zwitter\nProstor: Kuščerjev seminar
LOCATION:Kuščerjev seminar
ORGANIZER:Tomaž Podobnik, Tomaž Zwitter
RELATED-TO:fmf-AFLABS-URNIK:srecanje:7669
X-WR-TIMEZONE:Europe/Ljubljana
END:VEVENT
BEGIN:VEVENT
SUMMARY:Izbrana poglavja iz astrofizike in fizike delcev (PEF-1\, PEF-2)\,
  Seminar (S)
DTSTART;TZID=Europe/Ljubljana:20230103T120000
DTEND;TZID=Europe/Ljubljana:20230103T130000
DTSTAMP:20260423T130209Z
UID:fmf-AFLABS-URNIK:premaknjeno-srecanje:42734
ATTENDEE:1. letnik (Pedagoška fizika, 2. stopnja)
ATTENDEE:2. letnik (Pedagoška fizika, 2. stopnja)
CATEGORIES:Entry,Standard
COLOR:darkgreen
DESCRIPTION:Predmet: Izbrana poglavja iz astrofizike in fizike delcev (PEF
 -1\, PEF-2)\, Seminar (S)\nLetniki: 1. letnik (Pedagoška fizika\, 2. stop
 nja)\, 2. letnik (Pedagoška fizika\, 2. stopnja)\nIzvajalci: Tomaž Podob
 nik\, Tomaž Zwitter\nProstor: Kuščerjev seminar
LOCATION:Kuščerjev seminar
ORGANIZER:Tomaž Podobnik, Tomaž Zwitter
RELATED-TO:fmf-AFLABS-URNIK:srecanje:7670
X-WR-TIMEZONE:Europe/Ljubljana
END:VEVENT
BEGIN:VEVENT
SUMMARY:Izbrana poglavja iz astrofizike in fizike delcev (PEF-1\, PEF-2)\,
  Seminar (S)
DTSTART;TZID=Europe/Ljubljana:20230110T120000
DTEND;TZID=Europe/Ljubljana:20230110T130000
DTSTAMP:20260423T130209Z
UID:fmf-AFLABS-URNIK:premaknjeno-srecanje:42735
ATTENDEE:1. letnik (Pedagoška fizika, 2. stopnja)
ATTENDEE:2. letnik (Pedagoška fizika, 2. stopnja)
CATEGORIES:Entry,Standard
COLOR:darkgreen
DESCRIPTION:Predmet: Izbrana poglavja iz astrofizike in fizike delcev (PEF
 -1\, PEF-2)\, Seminar (S)\nLetniki: 1. letnik (Pedagoška fizika\, 2. stop
 nja)\, 2. letnik (Pedagoška fizika\, 2. stopnja)\nIzvajalci: Tomaž Podob
 nik\, Tomaž Zwitter\nProstor: Kuščerjev seminar
LOCATION:Kuščerjev seminar
ORGANIZER:Tomaž Podobnik, Tomaž Zwitter
RELATED-TO:fmf-AFLABS-URNIK:srecanje:7670
X-WR-TIMEZONE:Europe/Ljubljana
END:VEVENT
BEGIN:VEVENT
SUMMARY:Proseminar B (FIZ-1)\, Predavanja (P)
DTSTART;TZID=Europe/Ljubljana:20230103T150000
DTEND;TZID=Europe/Ljubljana:20230103T170000
DTSTAMP:20260423T130209Z
UID:fmf-AFLABS-URNIK:premaknjeno-srecanje:89121
ATTENDEE:1. letnik (Fizika, 1. stopnja)
CATEGORIES:Entry,Standard
COLOR:darkgreen
DESCRIPTION:Predmet: Proseminar B (FIZ-1)\, Predavanja (P)\nLetniki: 1. le
 tnik (Fizika\, 1. stopnja)\nIzvajalci: Tomaž Podobnik\nProstor: P.02
LOCATION:P.02
ORGANIZER:Tomaž Podobnik
RELATED-TO:fmf-AFLABS-URNIK:srecanje:7919
X-WR-TIMEZONE:Europe/Ljubljana
END:VEVENT
BEGIN:VEVENT
SUMMARY:Proseminar B (FIZ-1)\, Predavanja (P)
DTSTART;TZID=Europe/Ljubljana:20230110T150000
DTEND;TZID=Europe/Ljubljana:20230110T170000
DTSTAMP:20260423T130209Z
UID:fmf-AFLABS-URNIK:premaknjeno-srecanje:89122
ATTENDEE:1. letnik (Fizika, 1. stopnja)
CATEGORIES:Entry,Standard
COLOR:darkgreen
DESCRIPTION:Predmet: Proseminar B (FIZ-1)\, Predavanja (P)\nLetniki: 1. le
 tnik (Fizika\, 1. stopnja)\nIzvajalci: Tomaž Podobnik\nProstor: P.02
LOCATION:P.02
ORGANIZER:Tomaž Podobnik
RELATED-TO:fmf-AFLABS-URNIK:srecanje:7919
X-WR-TIMEZONE:Europe/Ljubljana
END:VEVENT
BEGIN:VEVENT
SUMMARY:Fizika sevanja in dozimetrija (JET-1\, JET-2\, MEF-1\, MEF-2)\, Pr
 edavanja (P)
DTSTART;TZID=Europe/Ljubljana:20230104T090000
DTEND;TZID=Europe/Ljubljana:20230104T110000
DTSTAMP:20260423T130209Z
UID:fmf-AFLABS-URNIK:premaknjeno-srecanje:32038
ATTENDEE:1. letnik (Jedrska tehnika, 2. stopnja)
ATTENDEE:1. letnik (Medicinska fizika, 2. stopnja)
ATTENDEE:2. letnik (Jedrska tehnika, 2. stopnja)
ATTENDEE:2. letnik (Medicinska fizika, 2. stopnja)
CATEGORIES:Entry,Standard
COLOR:darkgreen
DESCRIPTION:Predmet: Fizika sevanja in dozimetrija (JET-1\, JET-2\, MEF-1\
 , MEF-2)\, Predavanja (P)\nLetniki: 1. letnik (Jedrska tehnika\, 2. stopnj
 a)\, 2. letnik (Jedrska tehnika\, 2. stopnja)\, 1. letnik (Medicinska fizi
 ka\, 2. stopnja)\, 2. letnik (Medicinska fizika\, 2. stopnja)\nIzvajalci: 
 Tomaž Podobnik\nProstor: F5
LOCATION:F5
ORGANIZER:Tomaž Podobnik
RELATED-TO:fmf-AFLABS-URNIK:srecanje:7619
X-WR-TIMEZONE:Europe/Ljubljana
END:VEVENT
BEGIN:VEVENT
SUMMARY:Fizika sevanja in dozimetrija (JET-1\, JET-2\, MEF-1\, MEF-2)\, Pr
 edavanja (P)
DTSTART;TZID=Europe/Ljubljana:20230111T090000
DTEND;TZID=Europe/Ljubljana:20230111T110000
DTSTAMP:20260423T130209Z
UID:fmf-AFLABS-URNIK:premaknjeno-srecanje:32039
ATTENDEE:1. letnik (Jedrska tehnika, 2. stopnja)
ATTENDEE:1. letnik (Medicinska fizika, 2. stopnja)
ATTENDEE:2. letnik (Jedrska tehnika, 2. stopnja)
ATTENDEE:2. letnik (Medicinska fizika, 2. stopnja)
CATEGORIES:Entry,Standard
COLOR:darkgreen
DESCRIPTION:Predmet: Fizika sevanja in dozimetrija (JET-1\, JET-2\, MEF-1\
 , MEF-2)\, Predavanja (P)\nLetniki: 1. letnik (Jedrska tehnika\, 2. stopnj
 a)\, 2. letnik (Jedrska tehnika\, 2. stopnja)\, 1. letnik (Medicinska fizi
 ka\, 2. stopnja)\, 2. letnik (Medicinska fizika\, 2. stopnja)\nIzvajalci: 
 Tomaž Podobnik\nProstor: F5
LOCATION:F5
ORGANIZER:Tomaž Podobnik
RELATED-TO:fmf-AFLABS-URNIK:srecanje:7619
X-WR-TIMEZONE:Europe/Ljubljana
END:VEVENT
BEGIN:VEVENT
SUMMARY:Fizika sevanja in dozimetrija (JET-1\, JET-2\, MEF-1\, MEF-2)\, Pr
 edavanja (P)
DTSTART;TZID=Europe/Ljubljana:20230106T100000
DTEND;TZID=Europe/Ljubljana:20230106T110000
DTSTAMP:20260423T130209Z
UID:fmf-AFLABS-URNIK:premaknjeno-srecanje:32084
ATTENDEE:1. letnik (Jedrska tehnika, 2. stopnja)
ATTENDEE:1. letnik (Medicinska fizika, 2. stopnja)
ATTENDEE:2. letnik (Jedrska tehnika, 2. stopnja)
ATTENDEE:2. letnik (Medicinska fizika, 2. stopnja)
CATEGORIES:Entry,Standard
COLOR:darkgreen
DESCRIPTION:Predmet: Fizika sevanja in dozimetrija (JET-1\, JET-2\, MEF-1\
 , MEF-2)\, Predavanja (P)\nLetniki: 1. letnik (Jedrska tehnika\, 2. stopnj
 a)\, 2. letnik (Jedrska tehnika\, 2. stopnja)\, 1. letnik (Medicinska fizi
 ka\, 2. stopnja)\, 2. letnik (Medicinska fizika\, 2. stopnja)\nIzvajalci: 
 Tomaž Podobnik\nProstor: F7
LOCATION:F7
ORGANIZER:Tomaž Podobnik
RELATED-TO:fmf-AFLABS-URNIK:srecanje:7617
X-WR-TIMEZONE:Europe/Ljubljana
END:VEVENT
BEGIN:VEVENT
SUMMARY:Fizika sevanja in dozimetrija (JET-1\, JET-2\, MEF-1\, MEF-2)\, Pr
 edavanja (P)
DTSTART;TZID=Europe/Ljubljana:20230113T100000
DTEND;TZID=Europe/Ljubljana:20230113T110000
DTSTAMP:20260423T130209Z
UID:fmf-AFLABS-URNIK:premaknjeno-srecanje:32085
ATTENDEE:1. letnik (Jedrska tehnika, 2. stopnja)
ATTENDEE:1. letnik (Medicinska fizika, 2. stopnja)
ATTENDEE:2. letnik (Jedrska tehnika, 2. stopnja)
ATTENDEE:2. letnik (Medicinska fizika, 2. stopnja)
CATEGORIES:Entry,Standard
COLOR:darkgreen
DESCRIPTION:Predmet: Fizika sevanja in dozimetrija (JET-1\, JET-2\, MEF-1\
 , MEF-2)\, Predavanja (P)\nLetniki: 1. letnik (Jedrska tehnika\, 2. stopnj
 a)\, 2. letnik (Jedrska tehnika\, 2. stopnja)\, 1. letnik (Medicinska fizi
 ka\, 2. stopnja)\, 2. letnik (Medicinska fizika\, 2. stopnja)\nIzvajalci: 
 Tomaž Podobnik\nProstor: F7
LOCATION:F7
ORGANIZER:Tomaž Podobnik
RELATED-TO:fmf-AFLABS-URNIK:srecanje:7617
X-WR-TIMEZONE:Europe/Ljubljana
END:VEVENT
BEGIN:VEVENT
SUMMARY:Uvod v fiziko (APM-1)\, Predavanja (P)
DTSTART;TZID=Europe/Ljubljana:20230213T100000
DTEND;TZID=Europe/Ljubljana:20230213T120000
DTSTAMP:20260423T130209Z
UID:fmf-AFLABS-URNIK:premaknjeno-srecanje:115819
ATTENDEE:1. letnik (APM)
CATEGORIES:Entry,Standard
COLOR:darkgreen
DESCRIPTION:Predmet: Uvod v fiziko (APM-1)\, Predavanja (P)\nLetniki: 1. l
 etnik (APM)\nIzvajalci: Tomaž Podobnik\nProstor: VFP
LOCATION:VFP
ORGANIZER:Tomaž Podobnik
RELATED-TO:fmf-AFLABS-URNIK:srecanje:8888
X-WR-TIMEZONE:Europe/Ljubljana
END:VEVENT
BEGIN:VEVENT
SUMMARY:Uvod v fiziko (APM-1)\, Predavanja (P)
DTSTART;TZID=Europe/Ljubljana:20230220T100000
DTEND;TZID=Europe/Ljubljana:20230220T120000
DTSTAMP:20260423T130209Z
UID:fmf-AFLABS-URNIK:premaknjeno-srecanje:115820
ATTENDEE:1. letnik (APM)
CATEGORIES:Entry,Standard
COLOR:darkgreen
DESCRIPTION:Predmet: Uvod v fiziko (APM-1)\, Predavanja (P)\nLetniki: 1. l
 etnik (APM)\nIzvajalci: Tomaž Podobnik\nProstor: VFP
LOCATION:VFP
ORGANIZER:Tomaž Podobnik
RELATED-TO:fmf-AFLABS-URNIK:srecanje:8888
X-WR-TIMEZONE:Europe/Ljubljana
END:VEVENT
BEGIN:VEVENT
SUMMARY:Uvod v fiziko (APM-1)\, Predavanja (P)
DTSTART;TZID=Europe/Ljubljana:20230227T100000
DTEND;TZID=Europe/Ljubljana:20230227T120000
DTSTAMP:20260423T130209Z
UID:fmf-AFLABS-URNIK:premaknjeno-srecanje:115821
ATTENDEE:1. letnik (APM)
CATEGORIES:Entry,Standard
COLOR:darkgreen
DESCRIPTION:Predmet: Uvod v fiziko (APM-1)\, Predavanja (P)\nLetniki: 1. l
 etnik (APM)\nIzvajalci: Tomaž Podobnik\nProstor: VFP
LOCATION:VFP
ORGANIZER:Tomaž Podobnik
RELATED-TO:fmf-AFLABS-URNIK:srecanje:8888
X-WR-TIMEZONE:Europe/Ljubljana
END:VEVENT
BEGIN:VEVENT
SUMMARY:Uvod v fiziko (APM-1)\, Predavanja (P)
DTSTART;TZID=Europe/Ljubljana:20230306T100000
DTEND;TZID=Europe/Ljubljana:20230306T120000
DTSTAMP:20260423T130209Z
UID:fmf-AFLABS-URNIK:premaknjeno-srecanje:115822
ATTENDEE:1. letnik (APM)
CATEGORIES:Entry,Standard
COLOR:darkgreen
DESCRIPTION:Predmet: Uvod v fiziko (APM-1)\, Predavanja (P)\nLetniki: 1. l
 etnik (APM)\nIzvajalci: Tomaž Podobnik\nProstor: VFP
LOCATION:VFP
ORGANIZER:Tomaž Podobnik
RELATED-TO:fmf-AFLABS-URNIK:srecanje:8888
X-WR-TIMEZONE:Europe/Ljubljana
END:VEVENT
BEGIN:VEVENT
SUMMARY:Uvod v fiziko (APM-1)\, Predavanja (P)
DTSTART;TZID=Europe/Ljubljana:20230313T100000
DTEND;TZID=Europe/Ljubljana:20230313T120000
DTSTAMP:20260423T130209Z
UID:fmf-AFLABS-URNIK:premaknjeno-srecanje:115823
ATTENDEE:1. letnik (APM)
CATEGORIES:Entry,Standard
COLOR:darkgreen
DESCRIPTION:Predmet: Uvod v fiziko (APM-1)\, Predavanja (P)\nLetniki: 1. l
 etnik (APM)\nIzvajalci: Tomaž Podobnik\nProstor: VFP
LOCATION:VFP
ORGANIZER:Tomaž Podobnik
RELATED-TO:fmf-AFLABS-URNIK:srecanje:8888
X-WR-TIMEZONE:Europe/Ljubljana
END:VEVENT
BEGIN:VEVENT
SUMMARY:Proseminar B (FIZ-1)\, Predavanja (P)
DTSTART;TZID=Europe/Ljubljana:20230214T120000
DTEND;TZID=Europe/Ljubljana:20230214T140000
DTSTAMP:20260423T130209Z
UID:fmf-AFLABS-URNIK:premaknjeno-srecanje:89075
ATTENDEE:1. letnik (Fizika, 1. stopnja)
CATEGORIES:Entry,Standard
COLOR:darkgreen
DESCRIPTION:Predmet: Proseminar B (FIZ-1)\, Predavanja (P)\nLetniki: 1. le
 tnik (Fizika\, 1. stopnja)\nIzvajalci: Tomaž Podobnik\nProstor: P.02
LOCATION:P.02
ORGANIZER:Tomaž Podobnik
RELATED-TO:fmf-AFLABS-URNIK:srecanje:8659
X-WR-TIMEZONE:Europe/Ljubljana
END:VEVENT
BEGIN:VEVENT
SUMMARY:Proseminar B (FIZ-1)\, Predavanja (P)
DTSTART;TZID=Europe/Ljubljana:20230221T120000
DTEND;TZID=Europe/Ljubljana:20230221T140000
DTSTAMP:20260423T130209Z
UID:fmf-AFLABS-URNIK:premaknjeno-srecanje:89076
ATTENDEE:1. letnik (Fizika, 1. stopnja)
CATEGORIES:Entry,Standard
COLOR:darkgreen
DESCRIPTION:Predmet: Proseminar B (FIZ-1)\, Predavanja (P)\nLetniki: 1. le
 tnik (Fizika\, 1. stopnja)\nIzvajalci: Tomaž Podobnik\nProstor: P.02
LOCATION:P.02
ORGANIZER:Tomaž Podobnik
RELATED-TO:fmf-AFLABS-URNIK:srecanje:8659
X-WR-TIMEZONE:Europe/Ljubljana
END:VEVENT
BEGIN:VEVENT
SUMMARY:Proseminar B (FIZ-1)\, Predavanja (P)
DTSTART;TZID=Europe/Ljubljana:20230228T120000
DTEND;TZID=Europe/Ljubljana:20230228T140000
DTSTAMP:20260423T130209Z
UID:fmf-AFLABS-URNIK:premaknjeno-srecanje:89077
ATTENDEE:1. letnik (Fizika, 1. stopnja)
CATEGORIES:Entry,Standard
COLOR:darkgreen
DESCRIPTION:Predmet: Proseminar B (FIZ-1)\, Predavanja (P)\nLetniki: 1. le
 tnik (Fizika\, 1. stopnja)\nIzvajalci: Tomaž Podobnik\nProstor: P.02
LOCATION:P.02
ORGANIZER:Tomaž Podobnik
RELATED-TO:fmf-AFLABS-URNIK:srecanje:8659
X-WR-TIMEZONE:Europe/Ljubljana
END:VEVENT
BEGIN:VEVENT
SUMMARY:Proseminar B (FIZ-1)\, Predavanja (P)
DTSTART;TZID=Europe/Ljubljana:20230307T120000
DTEND;TZID=Europe/Ljubljana:20230307T140000
DTSTAMP:20260423T130209Z
UID:fmf-AFLABS-URNIK:premaknjeno-srecanje:89078
ATTENDEE:1. letnik (Fizika, 1. stopnja)
CATEGORIES:Entry,Standard
COLOR:darkgreen
DESCRIPTION:Predmet: Proseminar B (FIZ-1)\, Predavanja (P)\nLetniki: 1. le
 tnik (Fizika\, 1. stopnja)\nIzvajalci: Tomaž Podobnik\nProstor: P.02
LOCATION:P.02
ORGANIZER:Tomaž Podobnik
RELATED-TO:fmf-AFLABS-URNIK:srecanje:8659
X-WR-TIMEZONE:Europe/Ljubljana
END:VEVENT
BEGIN:VEVENT
SUMMARY:Uvod v fiziko (APM-1)\, Predavanja (P)
DTSTART;TZID=Europe/Ljubljana:20230214T140000
DTEND;TZID=Europe/Ljubljana:20230214T150000
DTSTAMP:20260423T130209Z
UID:fmf-AFLABS-URNIK:premaknjeno-srecanje:115883
ATTENDEE:1. letnik (APM)
CATEGORIES:Entry,Standard
COLOR:darkgreen
DESCRIPTION:Predmet: Uvod v fiziko (APM-1)\, Predavanja (P)\nLetniki: 1. l
 etnik (APM)\nIzvajalci: Tomaž Podobnik\nProstor: VFP
LOCATION:VFP
ORGANIZER:Tomaž Podobnik
RELATED-TO:fmf-AFLABS-URNIK:srecanje:8783
X-WR-TIMEZONE:Europe/Ljubljana
END:VEVENT
BEGIN:VEVENT
SUMMARY:Uvod v fiziko (APM-1)\, Predavanja (P)
DTSTART;TZID=Europe/Ljubljana:20230221T140000
DTEND;TZID=Europe/Ljubljana:20230221T150000
DTSTAMP:20260423T130209Z
UID:fmf-AFLABS-URNIK:premaknjeno-srecanje:115884
ATTENDEE:1. letnik (APM)
CATEGORIES:Entry,Standard
COLOR:darkgreen
DESCRIPTION:Predmet: Uvod v fiziko (APM-1)\, Predavanja (P)\nLetniki: 1. l
 etnik (APM)\nIzvajalci: Tomaž Podobnik\nProstor: VFP
LOCATION:VFP
ORGANIZER:Tomaž Podobnik
RELATED-TO:fmf-AFLABS-URNIK:srecanje:8783
X-WR-TIMEZONE:Europe/Ljubljana
END:VEVENT
BEGIN:VEVENT
SUMMARY:Uvod v fiziko (APM-1)\, Predavanja (P)
DTSTART;TZID=Europe/Ljubljana:20230228T140000
DTEND;TZID=Europe/Ljubljana:20230228T150000
DTSTAMP:20260423T130209Z
UID:fmf-AFLABS-URNIK:premaknjeno-srecanje:115885
ATTENDEE:1. letnik (APM)
CATEGORIES:Entry,Standard
COLOR:darkgreen
DESCRIPTION:Predmet: Uvod v fiziko (APM-1)\, Predavanja (P)\nLetniki: 1. l
 etnik (APM)\nIzvajalci: Tomaž Podobnik\nProstor: VFP
LOCATION:VFP
ORGANIZER:Tomaž Podobnik
RELATED-TO:fmf-AFLABS-URNIK:srecanje:8783
X-WR-TIMEZONE:Europe/Ljubljana
END:VEVENT
BEGIN:VEVENT
SUMMARY:Uvod v fiziko (APM-1)\, Predavanja (P)
DTSTART;TZID=Europe/Ljubljana:20230307T140000
DTEND;TZID=Europe/Ljubljana:20230307T150000
DTSTAMP:20260423T130209Z
UID:fmf-AFLABS-URNIK:premaknjeno-srecanje:115886
ATTENDEE:1. letnik (APM)
CATEGORIES:Entry,Standard
COLOR:darkgreen
DESCRIPTION:Predmet: Uvod v fiziko (APM-1)\, Predavanja (P)\nLetniki: 1. l
 etnik (APM)\nIzvajalci: Tomaž Podobnik\nProstor: VFP
LOCATION:VFP
ORGANIZER:Tomaž Podobnik
RELATED-TO:fmf-AFLABS-URNIK:srecanje:8783
X-WR-TIMEZONE:Europe/Ljubljana
END:VEVENT
BEGIN:VEVENT
SUMMARY:Fizika 2 (MAT-2)\, Predavanja (P)
DTSTART;TZID=Europe/Ljubljana:20230216T140000
DTEND;TZID=Europe/Ljubljana:20230216T160000
DTSTAMP:20260423T130209Z
UID:fmf-AFLABS-URNIK:premaknjeno-srecanje:28260
ATTENDEE:2. letnik (M)
CATEGORIES:Entry,Standard
COLOR:darkgreen
DESCRIPTION:Predmet: Fizika 2 (MAT-2)\, Predavanja (P)\nLetniki: 2. letnik
  (M)\nIzvajalci: Tomaž Podobnik\nProstor: MFP
LOCATION:MFP
ORGANIZER:Tomaž Podobnik
RELATED-TO:fmf-AFLABS-URNIK:srecanje:8339
X-WR-TIMEZONE:Europe/Ljubljana
END:VEVENT
BEGIN:VEVENT
SUMMARY:Fizika 2 (MAT-2)\, Predavanja (P)
DTSTART;TZID=Europe/Ljubljana:20230223T140000
DTEND;TZID=Europe/Ljubljana:20230223T160000
DTSTAMP:20260423T130209Z
UID:fmf-AFLABS-URNIK:premaknjeno-srecanje:28261
ATTENDEE:2. letnik (M)
CATEGORIES:Entry,Standard
COLOR:darkgreen
DESCRIPTION:Predmet: Fizika 2 (MAT-2)\, Predavanja (P)\nLetniki: 2. letnik
  (M)\nIzvajalci: Tomaž Podobnik\nProstor: MFP
LOCATION:MFP
ORGANIZER:Tomaž Podobnik
RELATED-TO:fmf-AFLABS-URNIK:srecanje:8339
X-WR-TIMEZONE:Europe/Ljubljana
END:VEVENT
BEGIN:VEVENT
SUMMARY:Fizika 2 (MAT-2)\, Predavanja (P)
DTSTART;TZID=Europe/Ljubljana:20230302T140000
DTEND;TZID=Europe/Ljubljana:20230302T160000
DTSTAMP:20260423T130209Z
UID:fmf-AFLABS-URNIK:premaknjeno-srecanje:28262
ATTENDEE:2. letnik (M)
CATEGORIES:Entry,Standard
COLOR:darkgreen
DESCRIPTION:Predmet: Fizika 2 (MAT-2)\, Predavanja (P)\nLetniki: 2. letnik
  (M)\nIzvajalci: Tomaž Podobnik\nProstor: MFP
LOCATION:MFP
ORGANIZER:Tomaž Podobnik
RELATED-TO:fmf-AFLABS-URNIK:srecanje:8339
X-WR-TIMEZONE:Europe/Ljubljana
END:VEVENT
BEGIN:VEVENT
SUMMARY:Fizika 2 (MAT-2)\, Predavanja (P)
DTSTART;TZID=Europe/Ljubljana:20230309T140000
DTEND;TZID=Europe/Ljubljana:20230309T160000
DTSTAMP:20260423T130209Z
UID:fmf-AFLABS-URNIK:premaknjeno-srecanje:28263
ATTENDEE:2. letnik (M)
CATEGORIES:Entry,Standard
COLOR:darkgreen
DESCRIPTION:Predmet: Fizika 2 (MAT-2)\, Predavanja (P)\nLetniki: 2. letnik
  (M)\nIzvajalci: Tomaž Podobnik\nProstor: MFP
LOCATION:MFP
ORGANIZER:Tomaž Podobnik
RELATED-TO:fmf-AFLABS-URNIK:srecanje:8339
X-WR-TIMEZONE:Europe/Ljubljana
END:VEVENT
BEGIN:VEVENT
SUMMARY:Fizika 2 (MAT-2)\, Predavanja (P)
DTSTART;TZID=Europe/Ljubljana:20230217T120000
DTEND;TZID=Europe/Ljubljana:20230217T140000
DTSTAMP:20260423T130209Z
UID:fmf-AFLABS-URNIK:premaknjeno-srecanje:28355
ATTENDEE:2. letnik (M)
CATEGORIES:Entry,Standard
COLOR:darkgreen
DESCRIPTION:Predmet: Fizika 2 (MAT-2)\, Predavanja (P)\nLetniki: 2. letnik
  (M)\nIzvajalci: Tomaž Podobnik\nProstor: MFP
LOCATION:MFP
ORGANIZER:Tomaž Podobnik
RELATED-TO:fmf-AFLABS-URNIK:srecanje:8340
X-WR-TIMEZONE:Europe/Ljubljana
END:VEVENT
BEGIN:VEVENT
SUMMARY:Fizika 2 (MAT-2)\, Predavanja (P)
DTSTART;TZID=Europe/Ljubljana:20230224T120000
DTEND;TZID=Europe/Ljubljana:20230224T140000
DTSTAMP:20260423T130209Z
UID:fmf-AFLABS-URNIK:premaknjeno-srecanje:28356
ATTENDEE:2. letnik (M)
CATEGORIES:Entry,Standard
COLOR:darkgreen
DESCRIPTION:Predmet: Fizika 2 (MAT-2)\, Predavanja (P)\nLetniki: 2. letnik
  (M)\nIzvajalci: Tomaž Podobnik\nProstor: MFP
LOCATION:MFP
ORGANIZER:Tomaž Podobnik
RELATED-TO:fmf-AFLABS-URNIK:srecanje:8340
X-WR-TIMEZONE:Europe/Ljubljana
END:VEVENT
BEGIN:VEVENT
SUMMARY:Fizika 2 (MAT-2)\, Predavanja (P)
DTSTART;TZID=Europe/Ljubljana:20230303T120000
DTEND;TZID=Europe/Ljubljana:20230303T140000
DTSTAMP:20260423T130209Z
UID:fmf-AFLABS-URNIK:premaknjeno-srecanje:28357
ATTENDEE:2. letnik (M)
CATEGORIES:Entry,Standard
COLOR:darkgreen
DESCRIPTION:Predmet: Fizika 2 (MAT-2)\, Predavanja (P)\nLetniki: 2. letnik
  (M)\nIzvajalci: Tomaž Podobnik\nProstor: MFP
LOCATION:MFP
ORGANIZER:Tomaž Podobnik
RELATED-TO:fmf-AFLABS-URNIK:srecanje:8340
X-WR-TIMEZONE:Europe/Ljubljana
END:VEVENT
BEGIN:VEVENT
SUMMARY:Fizika 2 (MAT-2)\, Predavanja (P)
DTSTART;TZID=Europe/Ljubljana:20230310T120000
DTEND;TZID=Europe/Ljubljana:20230310T140000
DTSTAMP:20260423T130209Z
UID:fmf-AFLABS-URNIK:premaknjeno-srecanje:28358
ATTENDEE:2. letnik (M)
CATEGORIES:Entry,Standard
COLOR:darkgreen
DESCRIPTION:Predmet: Fizika 2 (MAT-2)\, Predavanja (P)\nLetniki: 2. letnik
  (M)\nIzvajalci: Tomaž Podobnik\nProstor: MFP
LOCATION:MFP
ORGANIZER:Tomaž Podobnik
RELATED-TO:fmf-AFLABS-URNIK:srecanje:8340
X-WR-TIMEZONE:Europe/Ljubljana
END:VEVENT
BEGIN:VEVENT
SUMMARY:Rezervacija
DTSTART;TZID=Europe/Ljubljana:20230104T110000
DTEND;TZID=Europe/Ljubljana:20230104T120000
DTSTAMP:20260423T130209Z
UID:fmf-AFLABS-URNIK:rezervacija:10754
ATTENDEE:1. letnik (Jedrska tehnika, 2. stopnja)
ATTENDEE:1. letnik (Medicinska fizika, 2. stopnja)
ATTENDEE:2. letnik (Jedrska tehnika, 2. stopnja)
ATTENDEE:2. letnik (Medicinska fizika, 2. stopnja)
CATEGORIES:Reservation
COLOR:royalblue
DESCRIPTION:Predmeti: Fizika sevanja in dozimetrija (JET-1\, JET-2\, MEF-1
 \, MEF-2)\nLetniki: 1. letnik (Jedrska tehnika\, 2. stopnja)\, 2. letnik (
 Jedrska tehnika\, 2. stopnja)\, 1. letnik (Medicinska fizika\, 2. stopnja)
 \, 2. letnik (Medicinska fizika\, 2. stopnja)\nIzvajalci: Tomaž Podobnik\
 nProstori: F5
LOCATION:F5
ORGANIZER:Tomaž Podobnik
X-WR-TIMEZONE:Europe/Ljubljana
END:VEVENT
END:VCALENDAR
