BEGIN:VCALENDAR
VERSION:2.0
PRODID:-//AFLabs urnik izvoz - fmf//aflabs.si//SI
DTSTAMP:20260423T101545Z
NAME:UL FMF urnik
REFRESH-INTERVAL:PT1H
SOURCE:https://urnik.fmf.uni-lj.si/teacher/131?day=2023-06-26&export=1
URL:https://urnik.fmf.uni-lj.si/teacher/131?day=2023-06-26&export=1
X-PUBLISHED-TTL:PT1H
X-WR-CALNAME:UL FMF urnik
X-WR-TIMEZONE:Europe/Ljubljana
BEGIN:VTIMEZONE
TZID:Europe/Ljubljana
BEGIN:DAYLIGHT
DTSTART:20260329T020000
RDATE:20260329T020000
RDATE:20270328T020000
TZNAME:CEST
TZOFFSETFROM:+0100
TZOFFSETTO:+0200
END:DAYLIGHT
BEGIN:STANDARD
DTSTART:20261025T030000
RDATE:20261025T030000
RDATE:20271031T030000
TZNAME:CET
TZOFFSETFROM:+0200
TZOFFSETTO:+0100
END:STANDARD
END:VTIMEZONE
BEGIN:VEVENT
SUMMARY:Uvod v fiziko (APM-1)\, Predavanja (P)
DTSTART;TZID=Europe/Ljubljana:20230522T100000
DTEND;TZID=Europe/Ljubljana:20230522T120000
DTSTAMP:20260423T101545Z
UID:fmf-AFLABS-URNIK:premaknjeno-srecanje:115833
ATTENDEE:1. letnik (APM)
CATEGORIES:Entry,Standard
COLOR:darkgreen
DESCRIPTION:Predmet: Uvod v fiziko (APM-1)\, Predavanja (P)\nLetniki: 1. l
 etnik (APM)\nIzvajalci: Tomaž Podobnik\nProstor: VFP
LOCATION:VFP
ORGANIZER:Tomaž Podobnik
RELATED-TO:fmf-AFLABS-URNIK:srecanje:8888
X-WR-TIMEZONE:Europe/Ljubljana
END:VEVENT
BEGIN:VEVENT
SUMMARY:Uvod v fiziko (APM-1)\, Predavanja (P)
DTSTART;TZID=Europe/Ljubljana:20230529T100000
DTEND;TZID=Europe/Ljubljana:20230529T120000
DTSTAMP:20260423T101545Z
UID:fmf-AFLABS-URNIK:premaknjeno-srecanje:115834
ATTENDEE:1. letnik (APM)
CATEGORIES:Entry,Standard
COLOR:darkgreen
DESCRIPTION:Predmet: Uvod v fiziko (APM-1)\, Predavanja (P)\nLetniki: 1. l
 etnik (APM)\nIzvajalci: Tomaž Podobnik\nProstor: VFP
LOCATION:VFP
ORGANIZER:Tomaž Podobnik
RELATED-TO:fmf-AFLABS-URNIK:srecanje:8888
X-WR-TIMEZONE:Europe/Ljubljana
END:VEVENT
BEGIN:VEVENT
SUMMARY:Proseminar B (FIZ-1)\, Predavanja (P)
DTSTART;TZID=Europe/Ljubljana:20230523T120000
DTEND;TZID=Europe/Ljubljana:20230523T140000
DTSTAMP:20260423T101545Z
UID:fmf-AFLABS-URNIK:premaknjeno-srecanje:89089
ATTENDEE:1. letnik (Fizika, 1. stopnja)
CATEGORIES:Entry,Standard
COLOR:darkgreen
DESCRIPTION:Predmet: Proseminar B (FIZ-1)\, Predavanja (P)\nLetniki: 1. le
 tnik (Fizika\, 1. stopnja)\nIzvajalci: Tomaž Podobnik\nProstor: P.02
LOCATION:P.02
ORGANIZER:Tomaž Podobnik
RELATED-TO:fmf-AFLABS-URNIK:srecanje:8659
X-WR-TIMEZONE:Europe/Ljubljana
END:VEVENT
BEGIN:VEVENT
SUMMARY:Proseminar B (FIZ-1)\, Predavanja (P)
DTSTART;TZID=Europe/Ljubljana:20230530T120000
DTEND;TZID=Europe/Ljubljana:20230530T140000
DTSTAMP:20260423T101545Z
UID:fmf-AFLABS-URNIK:premaknjeno-srecanje:89090
ATTENDEE:1. letnik (Fizika, 1. stopnja)
CATEGORIES:Entry,Standard
COLOR:darkgreen
DESCRIPTION:Predmet: Proseminar B (FIZ-1)\, Predavanja (P)\nLetniki: 1. le
 tnik (Fizika\, 1. stopnja)\nIzvajalci: Tomaž Podobnik\nProstor: P.02
LOCATION:P.02
ORGANIZER:Tomaž Podobnik
RELATED-TO:fmf-AFLABS-URNIK:srecanje:8659
X-WR-TIMEZONE:Europe/Ljubljana
END:VEVENT
BEGIN:VEVENT
SUMMARY:Uvod v fiziko (APM-1)\, Predavanja (P)
DTSTART;TZID=Europe/Ljubljana:20230523T140000
DTEND;TZID=Europe/Ljubljana:20230523T150000
DTSTAMP:20260423T101545Z
UID:fmf-AFLABS-URNIK:premaknjeno-srecanje:115897
ATTENDEE:1. letnik (APM)
CATEGORIES:Entry,Standard
COLOR:darkgreen
DESCRIPTION:Predmet: Uvod v fiziko (APM-1)\, Predavanja (P)\nLetniki: 1. l
 etnik (APM)\nIzvajalci: Tomaž Podobnik\nProstor: VFP
LOCATION:VFP
ORGANIZER:Tomaž Podobnik
RELATED-TO:fmf-AFLABS-URNIK:srecanje:8783
X-WR-TIMEZONE:Europe/Ljubljana
END:VEVENT
BEGIN:VEVENT
SUMMARY:Uvod v fiziko (APM-1)\, Predavanja (P)
DTSTART;TZID=Europe/Ljubljana:20230530T140000
DTEND;TZID=Europe/Ljubljana:20230530T150000
DTSTAMP:20260423T101545Z
UID:fmf-AFLABS-URNIK:premaknjeno-srecanje:115898
ATTENDEE:1. letnik (APM)
CATEGORIES:Entry,Standard
COLOR:darkgreen
DESCRIPTION:Predmet: Uvod v fiziko (APM-1)\, Predavanja (P)\nLetniki: 1. l
 etnik (APM)\nIzvajalci: Tomaž Podobnik\nProstor: VFP
LOCATION:VFP
ORGANIZER:Tomaž Podobnik
RELATED-TO:fmf-AFLABS-URNIK:srecanje:8783
X-WR-TIMEZONE:Europe/Ljubljana
END:VEVENT
BEGIN:VEVENT
SUMMARY:Fizika 2 (MAT-2)\, Predavanja (P)
DTSTART;TZID=Europe/Ljubljana:20230525T140000
DTEND;TZID=Europe/Ljubljana:20230525T160000
DTSTAMP:20260423T101545Z
UID:fmf-AFLABS-URNIK:premaknjeno-srecanje:28274
ATTENDEE:2. letnik (M)
CATEGORIES:Entry,Standard
COLOR:darkgreen
DESCRIPTION:Predmet: Fizika 2 (MAT-2)\, Predavanja (P)\nLetniki: 2. letnik
  (M)\nIzvajalci: Tomaž Podobnik\nProstor: MFP
LOCATION:MFP
ORGANIZER:Tomaž Podobnik
RELATED-TO:fmf-AFLABS-URNIK:srecanje:8339
X-WR-TIMEZONE:Europe/Ljubljana
END:VEVENT
BEGIN:VEVENT
SUMMARY:Fizika 2 (MAT-2)\, Predavanja (P)
DTSTART;TZID=Europe/Ljubljana:20230601T140000
DTEND;TZID=Europe/Ljubljana:20230601T160000
DTSTAMP:20260423T101545Z
UID:fmf-AFLABS-URNIK:premaknjeno-srecanje:28275
ATTENDEE:2. letnik (M)
CATEGORIES:Entry,Standard
COLOR:darkgreen
DESCRIPTION:Predmet: Fizika 2 (MAT-2)\, Predavanja (P)\nLetniki: 2. letnik
  (M)\nIzvajalci: Tomaž Podobnik\nProstor: MFP
LOCATION:MFP
ORGANIZER:Tomaž Podobnik
RELATED-TO:fmf-AFLABS-URNIK:srecanje:8339
X-WR-TIMEZONE:Europe/Ljubljana
END:VEVENT
BEGIN:VEVENT
SUMMARY:Fizika 2 (MAT-2)\, Predavanja (P)
DTSTART;TZID=Europe/Ljubljana:20230526T120000
DTEND;TZID=Europe/Ljubljana:20230526T140000
DTSTAMP:20260423T101545Z
UID:fmf-AFLABS-URNIK:premaknjeno-srecanje:28369
ATTENDEE:2. letnik (M)
CATEGORIES:Entry,Standard
COLOR:darkgreen
DESCRIPTION:Predmet: Fizika 2 (MAT-2)\, Predavanja (P)\nLetniki: 2. letnik
  (M)\nIzvajalci: Tomaž Podobnik\nProstor: MFP
LOCATION:MFP
ORGANIZER:Tomaž Podobnik
RELATED-TO:fmf-AFLABS-URNIK:srecanje:8340
X-WR-TIMEZONE:Europe/Ljubljana
END:VEVENT
BEGIN:VEVENT
SUMMARY:Fizika 2 (MAT-2)\, Predavanja (P)
DTSTART;TZID=Europe/Ljubljana:20230602T120000
DTEND;TZID=Europe/Ljubljana:20230602T140000
DTSTAMP:20260423T101545Z
UID:fmf-AFLABS-URNIK:premaknjeno-srecanje:28370
ATTENDEE:2. letnik (M)
CATEGORIES:Entry,Standard
COLOR:darkgreen
DESCRIPTION:Predmet: Fizika 2 (MAT-2)\, Predavanja (P)\nLetniki: 2. letnik
  (M)\nIzvajalci: Tomaž Podobnik\nProstor: MFP
LOCATION:MFP
ORGANIZER:Tomaž Podobnik
RELATED-TO:fmf-AFLABS-URNIK:srecanje:8340
X-WR-TIMEZONE:Europe/Ljubljana
END:VEVENT
BEGIN:VEVENT
SUMMARY:Rezervacija
DTSTART;TZID=Europe/Ljubljana:20230530T090000
DTEND;TZID=Europe/Ljubljana:20230530T110000
DTSTAMP:20260423T101545Z
UID:fmf-AFLABS-URNIK:rezervacija:11982
ATTENDEE:1. letnik (Fizika, 1. stopnja)
CATEGORIES:Reservation
COLOR:royalblue
DESCRIPTION:Predmeti: Proseminar B (FIZ-1)\nLetniki: 1. letnik (Fizika\, 1
 . stopnja)\nIzvajalci: Tomaž Podobnik\nProstori: F8
LOCATION:F8
ORGANIZER:Tomaž Podobnik
X-WR-TIMEZONE:Europe/Ljubljana
END:VEVENT
BEGIN:VEVENT
SUMMARY:Rezervacija
DTSTART;TZID=Europe/Ljubljana:20230531T150000
DTEND;TZID=Europe/Ljubljana:20230531T160000
DTSTAMP:20260423T101545Z
UID:fmf-AFLABS-URNIK:rezervacija:12006
CATEGORIES:Reservation
COLOR:royalblue
DESCRIPTION:Predmeti: \nLetniki: \nIzvajalci: Tomaž Podobnik\nProstori: V
 FP
LOCATION:VFP
ORGANIZER:Tomaž Podobnik
X-WR-TIMEZONE:Europe/Ljubljana
END:VEVENT
BEGIN:VEVENT
SUMMARY:Rezervacija
DTSTART;TZID=Europe/Ljubljana:20230623T110000
DTEND;TZID=Europe/Ljubljana:20230623T130000
DTSTAMP:20260423T101545Z
UID:fmf-AFLABS-URNIK:rezervacija:12386
ATTENDEE:1. letnik (APM)
CATEGORIES:Reservation
COLOR:royalblue
DESCRIPTION:Predmeti: Uvod v fiziko (APM-1)\nLetniki: 1. letnik (APM)\nIzv
 ajalci: Tomaž Podobnik\nProstori: MFP
LOCATION:MFP
ORGANIZER:Tomaž Podobnik
X-WR-TIMEZONE:Europe/Ljubljana
END:VEVENT
BEGIN:VEVENT
SUMMARY:Rezervacija
DTSTART;TZID=Europe/Ljubljana:20230703T100000
DTEND;TZID=Europe/Ljubljana:20230703T120000
DTSTAMP:20260423T101545Z
UID:fmf-AFLABS-URNIK:rezervacija:12618
ATTENDEE:1. letnik (APM)
CATEGORIES:Reservation
COLOR:royalblue
DESCRIPTION:Predmeti: Uvod v fiziko (APM-1)\nLetniki: 1. letnik (APM)\nIzv
 ajalci: Tomaž Podobnik\nProstori: VFP
LOCATION:VFP
ORGANIZER:Tomaž Podobnik
X-WR-TIMEZONE:Europe/Ljubljana
END:VEVENT
END:VCALENDAR
