BEGIN:VCALENDAR
VERSION:2.0
PRODID:-//AFLabs urnik izvoz - fmf//aflabs.si//SI
DTSTAMP:20260423T020012Z
NAME:UL FMF urnik
REFRESH-INTERVAL:PT1H
SOURCE:https://urnik.fmf.uni-lj.si/teacher/131?day=2024-09-02&export=1
URL:https://urnik.fmf.uni-lj.si/teacher/131?day=2024-09-02&export=1
X-PUBLISHED-TTL:PT1H
X-WR-CALNAME:UL FMF urnik
X-WR-TIMEZONE:Europe/Ljubljana
BEGIN:VTIMEZONE
TZID:Europe/Ljubljana
BEGIN:DAYLIGHT
DTSTART:20260329T020000
RDATE:20260329T020000
RDATE:20270328T020000
TZNAME:CEST
TZOFFSETFROM:+0100
TZOFFSETTO:+0200
END:DAYLIGHT
BEGIN:STANDARD
DTSTART:20261025T030000
RDATE:20261025T030000
RDATE:20271031T030000
TZNAME:CET
TZOFFSETFROM:+0200
TZOFFSETTO:+0100
END:STANDARD
END:VTIMEZONE
BEGIN:VEVENT
SUMMARY:Izbrana poglavja iz astrofizike in fizike delcev (PEF-1\, PEF-2)\,
  Predavanja (P)
DTSTART;TZID=Europe/Ljubljana:20241001T080000
DTEND;TZID=Europe/Ljubljana:20241001T120000
DTSTAMP:20260423T020012Z
UID:fmf-AFLABS-URNIK:premaknjeno-srecanje:180367
ATTENDEE:1. letnik (Pedagoška fizika, 2. stopnja)
ATTENDEE:2. letnik (Pedagoška fizika, 2. stopnja)
CATEGORIES:Entry,Standard
COLOR:darkgreen
DESCRIPTION:Predmet: Izbrana poglavja iz astrofizike in fizike delcev (PEF
 -1\, PEF-2)\, Predavanja (P)\nLetniki: 1. letnik (Pedagoška fizika\, 2. s
 topnja)\, 2. letnik (Pedagoška fizika\, 2. stopnja)\nIzvajalci: Tomaž Po
 dobnik\, Tomaž Zwitter\nProstor: Kuščerjev seminar
LOCATION:Kuščerjev seminar
ORGANIZER:Tomaž Podobnik, Tomaž Zwitter
RELATED-TO:fmf-AFLABS-URNIK:srecanje:13744
X-WR-TIMEZONE:Europe/Ljubljana
END:VEVENT
BEGIN:VEVENT
SUMMARY:Izbrana poglavja iz astrofizike in fizike delcev (PEF-1\, PEF-2)\,
  Seminar (S)
DTSTART;TZID=Europe/Ljubljana:20241001T120000
DTEND;TZID=Europe/Ljubljana:20241001T130000
DTSTAMP:20260423T020012Z
UID:fmf-AFLABS-URNIK:premaknjeno-srecanje:180382
ATTENDEE:1. letnik (Pedagoška fizika, 2. stopnja)
ATTENDEE:2. letnik (Pedagoška fizika, 2. stopnja)
CATEGORIES:Entry,Standard
COLOR:darkgreen
DESCRIPTION:Predmet: Izbrana poglavja iz astrofizike in fizike delcev (PEF
 -1\, PEF-2)\, Seminar (S)\nLetniki: 1. letnik (Pedagoška fizika\, 2. stop
 nja)\, 2. letnik (Pedagoška fizika\, 2. stopnja)\nIzvajalci: Tomaž Podob
 nik\, Tomaž Zwitter\nProstor: Kuščerjev seminar
LOCATION:Kuščerjev seminar
ORGANIZER:Tomaž Podobnik, Tomaž Zwitter
RELATED-TO:fmf-AFLABS-URNIK:srecanje:13745
X-WR-TIMEZONE:Europe/Ljubljana
END:VEVENT
BEGIN:VEVENT
SUMMARY:Fizika sevanja in dozimetrija (JET-1\, JET-2\, MEF-1\, MEF-2)\, Pr
 edavanja (P)
DTSTART;TZID=Europe/Ljubljana:20241002T080000
DTEND;TZID=Europe/Ljubljana:20241002T100000
DTSTAMP:20260423T020012Z
UID:fmf-AFLABS-URNIK:premaknjeno-srecanje:179932
ATTENDEE:1. letnik (Jedrska tehnika, 2. stopnja)
ATTENDEE:1. letnik (Medicinska fizika, 2. stopnja)
ATTENDEE:2. letnik (Jedrska tehnika, 2. stopnja)
ATTENDEE:2. letnik (Medicinska fizika, 2. stopnja)
CATEGORIES:Entry,Standard
COLOR:darkgreen
DESCRIPTION:Predmet: Fizika sevanja in dozimetrija (JET-1\, JET-2\, MEF-1\
 , MEF-2)\, Predavanja (P)\nLetniki: 1. letnik (Jedrska tehnika\, 2. stopnj
 a)\, 2. letnik (Jedrska tehnika\, 2. stopnja)\, 1. letnik (Medicinska fizi
 ka\, 2. stopnja)\, 2. letnik (Medicinska fizika\, 2. stopnja)\nIzvajalci: 
 Tomaž Podobnik\nProstor: F5
LOCATION:F5
ORGANIZER:Tomaž Podobnik
RELATED-TO:fmf-AFLABS-URNIK:srecanje:13715
X-WR-TIMEZONE:Europe/Ljubljana
END:VEVENT
BEGIN:VEVENT
SUMMARY:Fizika sevanja in dozimetrija (JET-1\, JET-2\, MEF-1\, MEF-2)\, Pr
 edavanja (P)
DTSTART;TZID=Europe/Ljubljana:20241003T120000
DTEND;TZID=Europe/Ljubljana:20241003T130000
DTSTAMP:20260423T020012Z
UID:fmf-AFLABS-URNIK:premaknjeno-srecanje:193947
ATTENDEE:1. letnik (Jedrska tehnika, 2. stopnja)
ATTENDEE:1. letnik (Medicinska fizika, 2. stopnja)
ATTENDEE:2. letnik (Jedrska tehnika, 2. stopnja)
ATTENDEE:2. letnik (Medicinska fizika, 2. stopnja)
CATEGORIES:Entry,Standard
COLOR:darkgreen
DESCRIPTION:Predmet: Fizika sevanja in dozimetrija (JET-1\, JET-2\, MEF-1\
 , MEF-2)\, Predavanja (P)\nLetniki: 1. letnik (Jedrska tehnika\, 2. stopnj
 a)\, 2. letnik (Jedrska tehnika\, 2. stopnja)\, 1. letnik (Medicinska fizi
 ka\, 2. stopnja)\, 2. letnik (Medicinska fizika\, 2. stopnja)\nIzvajalci: 
 Tomaž Podobnik\nProstor: 3.04
LOCATION:3.04
ORGANIZER:Tomaž Podobnik
RELATED-TO:fmf-AFLABS-URNIK:srecanje:14591
X-WR-TIMEZONE:Europe/Ljubljana
END:VEVENT
BEGIN:VEVENT
SUMMARY:Fizika sevanja in dozimetrija (JET-1\, JET-2\, MEF-1\, MEF-2)\, Pr
 edavanja (P)
DTSTART;TZID=Europe/Ljubljana:20241007T090000
DTEND;TZID=Europe/Ljubljana:20241007T120000
DTSTAMP:20260423T020012Z
UID:fmf-AFLABS-URNIK:premaknjeno-srecanje:197435
ATTENDEE:1. letnik (Jedrska tehnika, 2. stopnja)
ATTENDEE:1. letnik (Medicinska fizika, 2. stopnja)
ATTENDEE:2. letnik (Jedrska tehnika, 2. stopnja)
ATTENDEE:2. letnik (Medicinska fizika, 2. stopnja)
CATEGORIES:Entry,Standard
COLOR:darkgreen
DESCRIPTION:Predmet: Fizika sevanja in dozimetrija (JET-1\, JET-2\, MEF-1\
 , MEF-2)\, Predavanja (P)\nLetniki: 1. letnik (Jedrska tehnika\, 2. stopnj
 a)\, 2. letnik (Jedrska tehnika\, 2. stopnja)\, 1. letnik (Medicinska fizi
 ka\, 2. stopnja)\, 2. letnik (Medicinska fizika\, 2. stopnja)\nIzvajalci: 
 Tomaž Podobnik\nProstor: F6
LOCATION:F6
ORGANIZER:Tomaž Podobnik
RELATED-TO:fmf-AFLABS-URNIK:srecanje:14615
X-WR-TIMEZONE:Europe/Ljubljana
END:VEVENT
BEGIN:VEVENT
SUMMARY:Izpit
DTSTART;TZID=Europe/Ljubljana:20240905T100000
DTEND;TZID=Europe/Ljubljana:20240905T120000
DTSTAMP:20260423T020012Z
UID:fmf-AFLABS-URNIK:rezervacija:18035
ATTENDEE:1. letnik (APM)
CATEGORIES:Reservation
COLOR:royalblue
DESCRIPTION:Predmeti: Uvod v fiziko (APM-1)\nLetniki: 1. letnik (APM)\nIzv
 ajalci: Tomaž Podobnik\nProstori: MFP
LOCATION:MFP
ORGANIZER:Tomaž Podobnik
X-WR-TIMEZONE:Europe/Ljubljana
END:VEVENT
END:VCALENDAR
