BEGIN:VCALENDAR
VERSION:2.0
PRODID:-//AFLabs urnik izvoz - fmf//aflabs.si//SI
DTSTAMP:20260424T104257Z
NAME:UL FMF urnik
REFRESH-INTERVAL:PT1H
SOURCE:https://urnik.fmf.uni-lj.si/teacher/1345?day=2023-04-24&export=1
URL:https://urnik.fmf.uni-lj.si/teacher/1345?day=2023-04-24&export=1
X-PUBLISHED-TTL:PT1H
X-WR-CALNAME:UL FMF urnik
X-WR-TIMEZONE:Europe/Ljubljana
BEGIN:VTIMEZONE
TZID:Europe/Ljubljana
BEGIN:DAYLIGHT
DTSTART:20260329T020000
RDATE:20260329T020000
RDATE:20270328T020000
TZNAME:CEST
TZOFFSETFROM:+0100
TZOFFSETTO:+0200
END:DAYLIGHT
BEGIN:STANDARD
DTSTART:20261025T030000
RDATE:20261025T030000
RDATE:20271031T030000
TZNAME:CET
TZOFFSETFROM:+0200
TZOFFSETTO:+0100
END:STANDARD
END:VTIMEZONE
BEGIN:VEVENT
SUMMARY:Tutorstvo (matematika II) (FIZ-1)\, Ostalo (O)\, [T]
DTSTART;TZID=Europe/Ljubljana:20230215T140000
DTEND;TZID=Europe/Ljubljana:20230215T160000
DTSTAMP:20260424T104257Z
UID:fmf-AFLABS-URNIK:premaknjeno-srecanje:112766
ATTENDEE:1. letnik (Fizika, 1. stopnja)
CATEGORIES:Entry,Standard
COLOR:darkgreen
DESCRIPTION:Predmet: Tutorstvo (matematika II) (FIZ-1)\, Ostalo (O)\, [T]\
 nLetniki: 1. letnik (Fizika\, 1. stopnja)\nIzvajalci: Vitja Beltram\nProst
 or: F6
LOCATION:F6
ORGANIZER:Vitja Beltram
RELATED-TO:fmf-AFLABS-URNIK:srecanje:8893
X-WR-TIMEZONE:Europe/Ljubljana
END:VEVENT
BEGIN:VEVENT
SUMMARY:Tutorstvo (matematika II) (FIZ-1)\, Ostalo (O)\, [T]
DTSTART;TZID=Europe/Ljubljana:20230222T140000
DTEND;TZID=Europe/Ljubljana:20230222T160000
DTSTAMP:20260424T104257Z
UID:fmf-AFLABS-URNIK:premaknjeno-srecanje:112767
ATTENDEE:1. letnik (Fizika, 1. stopnja)
CATEGORIES:Entry,Standard
COLOR:darkgreen
DESCRIPTION:Predmet: Tutorstvo (matematika II) (FIZ-1)\, Ostalo (O)\, [T]\
 nLetniki: 1. letnik (Fizika\, 1. stopnja)\nIzvajalci: Vitja Beltram\nProst
 or: F6
LOCATION:F6
ORGANIZER:Vitja Beltram
RELATED-TO:fmf-AFLABS-URNIK:srecanje:8893
X-WR-TIMEZONE:Europe/Ljubljana
END:VEVENT
BEGIN:VEVENT
SUMMARY:Tutorstvo (matematika II) (FIZ-1)\, Ostalo (O)\, [T]
DTSTART;TZID=Europe/Ljubljana:20230301T140000
DTEND;TZID=Europe/Ljubljana:20230301T160000
DTSTAMP:20260424T104257Z
UID:fmf-AFLABS-URNIK:premaknjeno-srecanje:112768
ATTENDEE:1. letnik (Fizika, 1. stopnja)
CATEGORIES:Entry,Standard
COLOR:darkgreen
DESCRIPTION:Predmet: Tutorstvo (matematika II) (FIZ-1)\, Ostalo (O)\, [T]\
 nLetniki: 1. letnik (Fizika\, 1. stopnja)\nIzvajalci: Vitja Beltram\nProst
 or: F6
LOCATION:F6
ORGANIZER:Vitja Beltram
RELATED-TO:fmf-AFLABS-URNIK:srecanje:8893
X-WR-TIMEZONE:Europe/Ljubljana
END:VEVENT
BEGIN:VEVENT
SUMMARY:Tutorstvo (matematika II) (FIZ-1)\, Ostalo (O)\, [T]
DTSTART;TZID=Europe/Ljubljana:20230308T140000
DTEND;TZID=Europe/Ljubljana:20230308T160000
DTSTAMP:20260424T104257Z
UID:fmf-AFLABS-URNIK:premaknjeno-srecanje:112769
ATTENDEE:1. letnik (Fizika, 1. stopnja)
CATEGORIES:Entry,Standard
COLOR:darkgreen
DESCRIPTION:Predmet: Tutorstvo (matematika II) (FIZ-1)\, Ostalo (O)\, [T]\
 nLetniki: 1. letnik (Fizika\, 1. stopnja)\nIzvajalci: Vitja Beltram\nProst
 or: F6
LOCATION:F6
ORGANIZER:Vitja Beltram
RELATED-TO:fmf-AFLABS-URNIK:srecanje:8893
X-WR-TIMEZONE:Europe/Ljubljana
END:VEVENT
BEGIN:VEVENT
SUMMARY:Tutorstvo (matematika II) (FIZ-1)\, Ostalo (O)\, [T]
DTSTART;TZID=Europe/Ljubljana:20230315T140000
DTEND;TZID=Europe/Ljubljana:20230315T160000
DTSTAMP:20260424T104257Z
UID:fmf-AFLABS-URNIK:premaknjeno-srecanje:112770
ATTENDEE:1. letnik (Fizika, 1. stopnja)
CATEGORIES:Entry,Standard
COLOR:darkgreen
DESCRIPTION:Predmet: Tutorstvo (matematika II) (FIZ-1)\, Ostalo (O)\, [T]\
 nLetniki: 1. letnik (Fizika\, 1. stopnja)\nIzvajalci: Vitja Beltram\nProst
 or: F6
LOCATION:F6
ORGANIZER:Vitja Beltram
RELATED-TO:fmf-AFLABS-URNIK:srecanje:8893
X-WR-TIMEZONE:Europe/Ljubljana
END:VEVENT
BEGIN:VEVENT
SUMMARY:Tutorstvo (matematika II) (FIZ-1)\, Ostalo (O)\, [T]
DTSTART;TZID=Europe/Ljubljana:20230322T140000
DTEND;TZID=Europe/Ljubljana:20230322T160000
DTSTAMP:20260424T104257Z
UID:fmf-AFLABS-URNIK:premaknjeno-srecanje:112771
ATTENDEE:1. letnik (Fizika, 1. stopnja)
CATEGORIES:Entry,Standard
COLOR:darkgreen
DESCRIPTION:Predmet: Tutorstvo (matematika II) (FIZ-1)\, Ostalo (O)\, [T]\
 nLetniki: 1. letnik (Fizika\, 1. stopnja)\nIzvajalci: Vitja Beltram\nProst
 or: F6
LOCATION:F6
ORGANIZER:Vitja Beltram
RELATED-TO:fmf-AFLABS-URNIK:srecanje:8893
X-WR-TIMEZONE:Europe/Ljubljana
END:VEVENT
BEGIN:VEVENT
SUMMARY:Tutorstvo (matematika II) (FIZ-1)\, Ostalo (O)\, [T]
DTSTART;TZID=Europe/Ljubljana:20230329T140000
DTEND;TZID=Europe/Ljubljana:20230329T160000
DTSTAMP:20260424T104257Z
UID:fmf-AFLABS-URNIK:premaknjeno-srecanje:112772
ATTENDEE:1. letnik (Fizika, 1. stopnja)
CATEGORIES:Entry,Standard
COLOR:darkgreen
DESCRIPTION:Predmet: Tutorstvo (matematika II) (FIZ-1)\, Ostalo (O)\, [T]\
 nLetniki: 1. letnik (Fizika\, 1. stopnja)\nIzvajalci: Vitja Beltram\nProst
 or: F6
LOCATION:F6
ORGANIZER:Vitja Beltram
RELATED-TO:fmf-AFLABS-URNIK:srecanje:8893
X-WR-TIMEZONE:Europe/Ljubljana
END:VEVENT
BEGIN:VEVENT
SUMMARY:Tutorstvo (matematika II) (FIZ-1)\, Ostalo (O)\, [T]
DTSTART;TZID=Europe/Ljubljana:20230405T140000
DTEND;TZID=Europe/Ljubljana:20230405T160000
DTSTAMP:20260424T104257Z
UID:fmf-AFLABS-URNIK:premaknjeno-srecanje:112773
ATTENDEE:1. letnik (Fizika, 1. stopnja)
CATEGORIES:Entry,Standard
COLOR:darkgreen
DESCRIPTION:Predmet: Tutorstvo (matematika II) (FIZ-1)\, Ostalo (O)\, [T]\
 nLetniki: 1. letnik (Fizika\, 1. stopnja)\nIzvajalci: Vitja Beltram\nProst
 or: F6
LOCATION:F6
ORGANIZER:Vitja Beltram
RELATED-TO:fmf-AFLABS-URNIK:srecanje:8893
X-WR-TIMEZONE:Europe/Ljubljana
END:VEVENT
BEGIN:VEVENT
SUMMARY:Tutorstvo (matematika II) (FIZ-1)\, Ostalo (O)\, [T]
DTSTART;TZID=Europe/Ljubljana:20230412T140000
DTEND;TZID=Europe/Ljubljana:20230412T160000
DTSTAMP:20260424T104257Z
UID:fmf-AFLABS-URNIK:premaknjeno-srecanje:112774
ATTENDEE:1. letnik (Fizika, 1. stopnja)
CATEGORIES:Entry,Standard
COLOR:darkgreen
DESCRIPTION:Predmet: Tutorstvo (matematika II) (FIZ-1)\, Ostalo (O)\, [T]\
 nLetniki: 1. letnik (Fizika\, 1. stopnja)\nIzvajalci: Vitja Beltram\nProst
 or: F6
LOCATION:F6
ORGANIZER:Vitja Beltram
RELATED-TO:fmf-AFLABS-URNIK:srecanje:8893
X-WR-TIMEZONE:Europe/Ljubljana
END:VEVENT
BEGIN:VEVENT
SUMMARY:Tutorstvo (matematika II) (FIZ-1)\, Ostalo (O)\, [T]
DTSTART;TZID=Europe/Ljubljana:20230419T140000
DTEND;TZID=Europe/Ljubljana:20230419T160000
DTSTAMP:20260424T104257Z
UID:fmf-AFLABS-URNIK:premaknjeno-srecanje:112775
ATTENDEE:1. letnik (Fizika, 1. stopnja)
CATEGORIES:Entry,Standard
COLOR:darkgreen
DESCRIPTION:Predmet: Tutorstvo (matematika II) (FIZ-1)\, Ostalo (O)\, [T]\
 nLetniki: 1. letnik (Fizika\, 1. stopnja)\nIzvajalci: Vitja Beltram\nProst
 or: F6
LOCATION:F6
ORGANIZER:Vitja Beltram
RELATED-TO:fmf-AFLABS-URNIK:srecanje:8893
X-WR-TIMEZONE:Europe/Ljubljana
END:VEVENT
BEGIN:VEVENT
SUMMARY:Tutorstvo (matematika II) (FIZ-1)\, Ostalo (O)\, [T]
DTSTART;TZID=Europe/Ljubljana:20230426T140000
DTEND;TZID=Europe/Ljubljana:20230426T160000
DTSTAMP:20260424T104257Z
UID:fmf-AFLABS-URNIK:premaknjeno-srecanje:112776
ATTENDEE:1. letnik (Fizika, 1. stopnja)
CATEGORIES:Entry,Standard
COLOR:darkgreen
DESCRIPTION:Predmet: Tutorstvo (matematika II) (FIZ-1)\, Ostalo (O)\, [T]\
 nLetniki: 1. letnik (Fizika\, 1. stopnja)\nIzvajalci: Vitja Beltram\nProst
 or: F6
LOCATION:F6
ORGANIZER:Vitja Beltram
RELATED-TO:fmf-AFLABS-URNIK:srecanje:8893
X-WR-TIMEZONE:Europe/Ljubljana
END:VEVENT
BEGIN:VEVENT
SUMMARY:Tutorstvo (matematika II) (FIZ-1)\, Ostalo (O)\, [T]
DTSTART;TZID=Europe/Ljubljana:20230503T140000
DTEND;TZID=Europe/Ljubljana:20230503T160000
DTSTAMP:20260424T104257Z
UID:fmf-AFLABS-URNIK:premaknjeno-srecanje:112777
ATTENDEE:1. letnik (Fizika, 1. stopnja)
CATEGORIES:Entry,Standard
COLOR:darkgreen
DESCRIPTION:Predmet: Tutorstvo (matematika II) (FIZ-1)\, Ostalo (O)\, [T]\
 nLetniki: 1. letnik (Fizika\, 1. stopnja)\nIzvajalci: Vitja Beltram\nProst
 or: F6
LOCATION:F6
ORGANIZER:Vitja Beltram
RELATED-TO:fmf-AFLABS-URNIK:srecanje:8893
X-WR-TIMEZONE:Europe/Ljubljana
END:VEVENT
BEGIN:VEVENT
SUMMARY:Tutorstvo (matematika II) (FIZ-1)\, Ostalo (O)\, [T]
DTSTART;TZID=Europe/Ljubljana:20230510T140000
DTEND;TZID=Europe/Ljubljana:20230510T160000
DTSTAMP:20260424T104257Z
UID:fmf-AFLABS-URNIK:premaknjeno-srecanje:112778
ATTENDEE:1. letnik (Fizika, 1. stopnja)
CATEGORIES:Entry,Standard
COLOR:darkgreen
DESCRIPTION:Predmet: Tutorstvo (matematika II) (FIZ-1)\, Ostalo (O)\, [T]\
 nLetniki: 1. letnik (Fizika\, 1. stopnja)\nIzvajalci: Vitja Beltram\nProst
 or: F6
LOCATION:F6
ORGANIZER:Vitja Beltram
RELATED-TO:fmf-AFLABS-URNIK:srecanje:8893
X-WR-TIMEZONE:Europe/Ljubljana
END:VEVENT
BEGIN:VEVENT
SUMMARY:Tutorstvo (matematika II) (FIZ-1)\, Ostalo (O)\, [T]
DTSTART;TZID=Europe/Ljubljana:20230517T140000
DTEND;TZID=Europe/Ljubljana:20230517T160000
DTSTAMP:20260424T104257Z
UID:fmf-AFLABS-URNIK:premaknjeno-srecanje:112779
ATTENDEE:1. letnik (Fizika, 1. stopnja)
CATEGORIES:Entry,Standard
COLOR:darkgreen
DESCRIPTION:Predmet: Tutorstvo (matematika II) (FIZ-1)\, Ostalo (O)\, [T]\
 nLetniki: 1. letnik (Fizika\, 1. stopnja)\nIzvajalci: Vitja Beltram\nProst
 or: F6
LOCATION:F6
ORGANIZER:Vitja Beltram
RELATED-TO:fmf-AFLABS-URNIK:srecanje:8893
X-WR-TIMEZONE:Europe/Ljubljana
END:VEVENT
BEGIN:VEVENT
SUMMARY:Tutorstvo (matematika II) (FIZ-1)\, Ostalo (O)\, [T]
DTSTART;TZID=Europe/Ljubljana:20230524T140000
DTEND;TZID=Europe/Ljubljana:20230524T160000
DTSTAMP:20260424T104257Z
UID:fmf-AFLABS-URNIK:premaknjeno-srecanje:112780
ATTENDEE:1. letnik (Fizika, 1. stopnja)
CATEGORIES:Entry,Standard
COLOR:darkgreen
DESCRIPTION:Predmet: Tutorstvo (matematika II) (FIZ-1)\, Ostalo (O)\, [T]\
 nLetniki: 1. letnik (Fizika\, 1. stopnja)\nIzvajalci: Vitja Beltram\nProst
 or: F6
LOCATION:F6
ORGANIZER:Vitja Beltram
RELATED-TO:fmf-AFLABS-URNIK:srecanje:8893
X-WR-TIMEZONE:Europe/Ljubljana
END:VEVENT
BEGIN:VEVENT
SUMMARY:Tutorstvo (matematika II) (FIZ-1)\, Ostalo (O)\, [T]
DTSTART;TZID=Europe/Ljubljana:20230531T140000
DTEND;TZID=Europe/Ljubljana:20230531T160000
DTSTAMP:20260424T104257Z
UID:fmf-AFLABS-URNIK:premaknjeno-srecanje:112781
ATTENDEE:1. letnik (Fizika, 1. stopnja)
CATEGORIES:Entry,Standard
COLOR:darkgreen
DESCRIPTION:Predmet: Tutorstvo (matematika II) (FIZ-1)\, Ostalo (O)\, [T]\
 nLetniki: 1. letnik (Fizika\, 1. stopnja)\nIzvajalci: Vitja Beltram\nProst
 or: F6
LOCATION:F6
ORGANIZER:Vitja Beltram
RELATED-TO:fmf-AFLABS-URNIK:srecanje:8893
X-WR-TIMEZONE:Europe/Ljubljana
END:VEVENT
END:VCALENDAR
