BEGIN:VCALENDAR
VERSION:2.0
PRODID:-//AFLabs urnik izvoz - fmf//aflabs.si//SI
DTSTAMP:20260425T135252Z
NAME:UL FMF urnik
REFRESH-INTERVAL:PT1H
SOURCE:https://urnik.fmf.uni-lj.si/teacher/134?day=2022-10-31&export=1
URL:https://urnik.fmf.uni-lj.si/teacher/134?day=2022-10-31&export=1
X-PUBLISHED-TTL:PT1H
X-WR-CALNAME:UL FMF urnik
X-WR-TIMEZONE:Europe/Ljubljana
BEGIN:VTIMEZONE
TZID:Europe/Ljubljana
BEGIN:DAYLIGHT
DTSTART:20260329T020000
RDATE:20260329T020000
RDATE:20270328T020000
TZNAME:CEST
TZOFFSETFROM:+0100
TZOFFSETTO:+0200
END:DAYLIGHT
BEGIN:STANDARD
DTSTART:20261025T030000
RDATE:20261025T030000
RDATE:20271031T030000
TZNAME:CET
TZOFFSETFROM:+0200
TZOFFSETTO:+0100
END:STANDARD
END:VTIMEZONE
BEGIN:VEVENT
SUMMARY:Višja kvantna mehanika (FIZ-M1\, FIZ-M2)\, Predavanja (P)
DTSTART;TZID=Europe/Ljubljana:20221003T130000
DTEND;TZID=Europe/Ljubljana:20221003T160000
DTSTAMP:20260425T135252Z
UID:fmf-AFLABS-URNIK:premaknjeno-srecanje:120229
ATTENDEE:1. letnik (Fizika, 2. stopnja)
ATTENDEE:2. letnik (Fizika, 2. stopnja)
CATEGORIES:Entry,Standard
COLOR:darkgreen
DESCRIPTION:Predmet: Višja kvantna mehanika (FIZ-M1\, FIZ-M2)\, Predavanj
 a (P)\nLetniki: 1. letnik (Fizika\, 2. stopnja)\, 2. letnik (Fizika\, 2. s
 topnja)\nIzvajalci: Tomaž Prosen\nProstor: F2
LOCATION:F2
ORGANIZER:Tomaž Prosen
RELATED-TO:fmf-AFLABS-URNIK:srecanje:8097
X-WR-TIMEZONE:Europe/Ljubljana
END:VEVENT
BEGIN:VEVENT
SUMMARY:Višja kvantna mehanika (FIZ-M1\, FIZ-M2)\, Predavanja (P)
DTSTART;TZID=Europe/Ljubljana:20221010T130000
DTEND;TZID=Europe/Ljubljana:20221010T160000
DTSTAMP:20260425T135252Z
UID:fmf-AFLABS-URNIK:premaknjeno-srecanje:120230
ATTENDEE:1. letnik (Fizika, 2. stopnja)
ATTENDEE:2. letnik (Fizika, 2. stopnja)
CATEGORIES:Entry,Standard
COLOR:darkgreen
DESCRIPTION:Predmet: Višja kvantna mehanika (FIZ-M1\, FIZ-M2)\, Predavanj
 a (P)\nLetniki: 1. letnik (Fizika\, 2. stopnja)\, 2. letnik (Fizika\, 2. s
 topnja)\nIzvajalci: Tomaž Prosen\nProstor: F2
LOCATION:F2
ORGANIZER:Tomaž Prosen
RELATED-TO:fmf-AFLABS-URNIK:srecanje:8097
X-WR-TIMEZONE:Europe/Ljubljana
END:VEVENT
BEGIN:VEVENT
SUMMARY:Višja kvantna mehanika (FIZ-M1\, FIZ-M2)\, Predavanja (P)
DTSTART;TZID=Europe/Ljubljana:20221017T130000
DTEND;TZID=Europe/Ljubljana:20221017T160000
DTSTAMP:20260425T135252Z
UID:fmf-AFLABS-URNIK:premaknjeno-srecanje:120231
ATTENDEE:1. letnik (Fizika, 2. stopnja)
ATTENDEE:2. letnik (Fizika, 2. stopnja)
CATEGORIES:Entry,Standard
COLOR:darkgreen
DESCRIPTION:Predmet: Višja kvantna mehanika (FIZ-M1\, FIZ-M2)\, Predavanj
 a (P)\nLetniki: 1. letnik (Fizika\, 2. stopnja)\, 2. letnik (Fizika\, 2. s
 topnja)\nIzvajalci: Tomaž Prosen\nProstor: F2
LOCATION:F2
ORGANIZER:Tomaž Prosen
RELATED-TO:fmf-AFLABS-URNIK:srecanje:8097
X-WR-TIMEZONE:Europe/Ljubljana
END:VEVENT
BEGIN:VEVENT
SUMMARY:Višja kvantna mehanika (FIZ-M1\, FIZ-M2)\, Predavanja (P)
DTSTART;TZID=Europe/Ljubljana:20221024T130000
DTEND;TZID=Europe/Ljubljana:20221024T160000
DTSTAMP:20260425T135252Z
UID:fmf-AFLABS-URNIK:premaknjeno-srecanje:120232
ATTENDEE:1. letnik (Fizika, 2. stopnja)
ATTENDEE:2. letnik (Fizika, 2. stopnja)
CATEGORIES:Entry,Standard
COLOR:darkgreen
DESCRIPTION:Predmet: Višja kvantna mehanika (FIZ-M1\, FIZ-M2)\, Predavanj
 a (P)\nLetniki: 1. letnik (Fizika\, 2. stopnja)\, 2. letnik (Fizika\, 2. s
 topnja)\nIzvajalci: Tomaž Prosen\nProstor: F2
LOCATION:F2
ORGANIZER:Tomaž Prosen
RELATED-TO:fmf-AFLABS-URNIK:srecanje:8097
X-WR-TIMEZONE:Europe/Ljubljana
END:VEVENT
BEGIN:VEVENT
SUMMARY:Višja kvantna mehanika (FIZ-M1\, FIZ-M2)\, Predavanja (P)
DTSTART;TZID=Europe/Ljubljana:20221031T130000
DTEND;TZID=Europe/Ljubljana:20221031T160000
DTSTAMP:20260425T135252Z
UID:fmf-AFLABS-URNIK:premaknjeno-srecanje:120233
ATTENDEE:1. letnik (Fizika, 2. stopnja)
ATTENDEE:2. letnik (Fizika, 2. stopnja)
CATEGORIES:Entry,Standard
COLOR:darkgreen
DESCRIPTION:Predmet: Višja kvantna mehanika (FIZ-M1\, FIZ-M2)\, Predavanj
 a (P)\nLetniki: 1. letnik (Fizika\, 2. stopnja)\, 2. letnik (Fizika\, 2. s
 topnja)\nIzvajalci: Tomaž Prosen\nProstor: F2
LOCATION:F2
ORGANIZER:Tomaž Prosen
RELATED-TO:fmf-AFLABS-URNIK:srecanje:8097
X-WR-TIMEZONE:Europe/Ljubljana
END:VEVENT
BEGIN:VEVENT
SUMMARY:Višja kvantna mehanika (FIZ-M1\, FIZ-M2)\, Predavanja (P)
DTSTART;TZID=Europe/Ljubljana:20221107T130000
DTEND;TZID=Europe/Ljubljana:20221107T160000
DTSTAMP:20260425T135252Z
UID:fmf-AFLABS-URNIK:premaknjeno-srecanje:120234
ATTENDEE:1. letnik (Fizika, 2. stopnja)
ATTENDEE:2. letnik (Fizika, 2. stopnja)
CATEGORIES:Entry,Standard
COLOR:darkgreen
DESCRIPTION:Predmet: Višja kvantna mehanika (FIZ-M1\, FIZ-M2)\, Predavanj
 a (P)\nLetniki: 1. letnik (Fizika\, 2. stopnja)\, 2. letnik (Fizika\, 2. s
 topnja)\nIzvajalci: Tomaž Prosen\nProstor: F2
LOCATION:F2
ORGANIZER:Tomaž Prosen
RELATED-TO:fmf-AFLABS-URNIK:srecanje:8097
X-WR-TIMEZONE:Europe/Ljubljana
END:VEVENT
BEGIN:VEVENT
SUMMARY:Višja kvantna mehanika (FIZ-M1\, FIZ-M2)\, Predavanja (P)
DTSTART;TZID=Europe/Ljubljana:20221114T130000
DTEND;TZID=Europe/Ljubljana:20221114T160000
DTSTAMP:20260425T135252Z
UID:fmf-AFLABS-URNIK:premaknjeno-srecanje:120235
ATTENDEE:1. letnik (Fizika, 2. stopnja)
ATTENDEE:2. letnik (Fizika, 2. stopnja)
CATEGORIES:Entry,Standard
COLOR:darkgreen
DESCRIPTION:Predmet: Višja kvantna mehanika (FIZ-M1\, FIZ-M2)\, Predavanj
 a (P)\nLetniki: 1. letnik (Fizika\, 2. stopnja)\, 2. letnik (Fizika\, 2. s
 topnja)\nIzvajalci: Tomaž Prosen\nProstor: F2
LOCATION:F2
ORGANIZER:Tomaž Prosen
RELATED-TO:fmf-AFLABS-URNIK:srecanje:8097
X-WR-TIMEZONE:Europe/Ljubljana
END:VEVENT
BEGIN:VEVENT
SUMMARY:Višja kvantna mehanika (FIZ-M1\, FIZ-M2)\, Predavanja (P)
DTSTART;TZID=Europe/Ljubljana:20221121T130000
DTEND;TZID=Europe/Ljubljana:20221121T160000
DTSTAMP:20260425T135252Z
UID:fmf-AFLABS-URNIK:premaknjeno-srecanje:120236
ATTENDEE:1. letnik (Fizika, 2. stopnja)
ATTENDEE:2. letnik (Fizika, 2. stopnja)
CATEGORIES:Entry,Standard
COLOR:darkgreen
DESCRIPTION:Predmet: Višja kvantna mehanika (FIZ-M1\, FIZ-M2)\, Predavanj
 a (P)\nLetniki: 1. letnik (Fizika\, 2. stopnja)\, 2. letnik (Fizika\, 2. s
 topnja)\nIzvajalci: Tomaž Prosen\nProstor: F2
LOCATION:F2
ORGANIZER:Tomaž Prosen
RELATED-TO:fmf-AFLABS-URNIK:srecanje:8097
X-WR-TIMEZONE:Europe/Ljubljana
END:VEVENT
BEGIN:VEVENT
SUMMARY:Višja kvantna mehanika (FIZ-M1\, FIZ-M2)\, Predavanja (P)
DTSTART;TZID=Europe/Ljubljana:20221128T130000
DTEND;TZID=Europe/Ljubljana:20221128T160000
DTSTAMP:20260425T135252Z
UID:fmf-AFLABS-URNIK:premaknjeno-srecanje:120237
ATTENDEE:1. letnik (Fizika, 2. stopnja)
ATTENDEE:2. letnik (Fizika, 2. stopnja)
CATEGORIES:Entry,Standard
COLOR:darkgreen
DESCRIPTION:Predmet: Višja kvantna mehanika (FIZ-M1\, FIZ-M2)\, Predavanj
 a (P)\nLetniki: 1. letnik (Fizika\, 2. stopnja)\, 2. letnik (Fizika\, 2. s
 topnja)\nIzvajalci: Tomaž Prosen\nProstor: F2
LOCATION:F2
ORGANIZER:Tomaž Prosen
RELATED-TO:fmf-AFLABS-URNIK:srecanje:8097
X-WR-TIMEZONE:Europe/Ljubljana
END:VEVENT
BEGIN:VEVENT
SUMMARY:Višja kvantna mehanika (FIZ-M1\, FIZ-M2)\, Predavanja (P)
DTSTART;TZID=Europe/Ljubljana:20221205T130000
DTEND;TZID=Europe/Ljubljana:20221205T160000
DTSTAMP:20260425T135252Z
UID:fmf-AFLABS-URNIK:premaknjeno-srecanje:120238
ATTENDEE:1. letnik (Fizika, 2. stopnja)
ATTENDEE:2. letnik (Fizika, 2. stopnja)
CATEGORIES:Entry,Standard
COLOR:darkgreen
DESCRIPTION:Predmet: Višja kvantna mehanika (FIZ-M1\, FIZ-M2)\, Predavanj
 a (P)\nLetniki: 1. letnik (Fizika\, 2. stopnja)\, 2. letnik (Fizika\, 2. s
 topnja)\nIzvajalci: Tomaž Prosen\nProstor: F2
LOCATION:F2
ORGANIZER:Tomaž Prosen
RELATED-TO:fmf-AFLABS-URNIK:srecanje:8097
X-WR-TIMEZONE:Europe/Ljubljana
END:VEVENT
BEGIN:VEVENT
SUMMARY:Višja kvantna mehanika (FIZ-M1\, FIZ-M2)\, Predavanja (P)
DTSTART;TZID=Europe/Ljubljana:20221212T130000
DTEND;TZID=Europe/Ljubljana:20221212T160000
DTSTAMP:20260425T135252Z
UID:fmf-AFLABS-URNIK:premaknjeno-srecanje:120239
ATTENDEE:1. letnik (Fizika, 2. stopnja)
ATTENDEE:2. letnik (Fizika, 2. stopnja)
CATEGORIES:Entry,Standard
COLOR:darkgreen
DESCRIPTION:Predmet: Višja kvantna mehanika (FIZ-M1\, FIZ-M2)\, Predavanj
 a (P)\nLetniki: 1. letnik (Fizika\, 2. stopnja)\, 2. letnik (Fizika\, 2. s
 topnja)\nIzvajalci: Tomaž Prosen\nProstor: F2
LOCATION:F2
ORGANIZER:Tomaž Prosen
RELATED-TO:fmf-AFLABS-URNIK:srecanje:8097
X-WR-TIMEZONE:Europe/Ljubljana
END:VEVENT
BEGIN:VEVENT
SUMMARY:Višja kvantna mehanika (FIZ-M1\, FIZ-M2)\, Predavanja (P)
DTSTART;TZID=Europe/Ljubljana:20221219T130000
DTEND;TZID=Europe/Ljubljana:20221219T160000
DTSTAMP:20260425T135252Z
UID:fmf-AFLABS-URNIK:premaknjeno-srecanje:120240
ATTENDEE:1. letnik (Fizika, 2. stopnja)
ATTENDEE:2. letnik (Fizika, 2. stopnja)
CATEGORIES:Entry,Standard
COLOR:darkgreen
DESCRIPTION:Predmet: Višja kvantna mehanika (FIZ-M1\, FIZ-M2)\, Predavanj
 a (P)\nLetniki: 1. letnik (Fizika\, 2. stopnja)\, 2. letnik (Fizika\, 2. s
 topnja)\nIzvajalci: Tomaž Prosen\nProstor: F2
LOCATION:F2
ORGANIZER:Tomaž Prosen
RELATED-TO:fmf-AFLABS-URNIK:srecanje:8097
X-WR-TIMEZONE:Europe/Ljubljana
END:VEVENT
BEGIN:VEVENT
SUMMARY:Višja kvantna mehanika (FIZ-M1\, FIZ-M2)\, Predavanja (P)
DTSTART;TZID=Europe/Ljubljana:20221226T130000
DTEND;TZID=Europe/Ljubljana:20221226T160000
DTSTAMP:20260425T135252Z
UID:fmf-AFLABS-URNIK:premaknjeno-srecanje:120241
ATTENDEE:1. letnik (Fizika, 2. stopnja)
ATTENDEE:2. letnik (Fizika, 2. stopnja)
CATEGORIES:Entry,Standard
COLOR:darkgreen
DESCRIPTION:Predmet: Višja kvantna mehanika (FIZ-M1\, FIZ-M2)\, Predavanj
 a (P)\nLetniki: 1. letnik (Fizika\, 2. stopnja)\, 2. letnik (Fizika\, 2. s
 topnja)\nIzvajalci: Tomaž Prosen\nProstor: F2
LOCATION:F2
ORGANIZER:Tomaž Prosen
RELATED-TO:fmf-AFLABS-URNIK:srecanje:8097
X-WR-TIMEZONE:Europe/Ljubljana
END:VEVENT
BEGIN:VEVENT
SUMMARY:Višja kvantna mehanika (FIZ-M1\, FIZ-M2)\, Predavanja (P)
DTSTART;TZID=Europe/Ljubljana:20230102T130000
DTEND;TZID=Europe/Ljubljana:20230102T160000
DTSTAMP:20260425T135252Z
UID:fmf-AFLABS-URNIK:premaknjeno-srecanje:120242
ATTENDEE:1. letnik (Fizika, 2. stopnja)
ATTENDEE:2. letnik (Fizika, 2. stopnja)
CATEGORIES:Entry,Standard
COLOR:darkgreen
DESCRIPTION:Predmet: Višja kvantna mehanika (FIZ-M1\, FIZ-M2)\, Predavanj
 a (P)\nLetniki: 1. letnik (Fizika\, 2. stopnja)\, 2. letnik (Fizika\, 2. s
 topnja)\nIzvajalci: Tomaž Prosen\nProstor: F2
LOCATION:F2
ORGANIZER:Tomaž Prosen
RELATED-TO:fmf-AFLABS-URNIK:srecanje:8097
X-WR-TIMEZONE:Europe/Ljubljana
END:VEVENT
BEGIN:VEVENT
SUMMARY:Višja kvantna mehanika (FIZ-M1\, FIZ-M2)\, Predavanja (P)
DTSTART;TZID=Europe/Ljubljana:20230109T130000
DTEND;TZID=Europe/Ljubljana:20230109T160000
DTSTAMP:20260425T135252Z
UID:fmf-AFLABS-URNIK:premaknjeno-srecanje:120243
ATTENDEE:1. letnik (Fizika, 2. stopnja)
ATTENDEE:2. letnik (Fizika, 2. stopnja)
CATEGORIES:Entry,Standard
COLOR:darkgreen
DESCRIPTION:Predmet: Višja kvantna mehanika (FIZ-M1\, FIZ-M2)\, Predavanj
 a (P)\nLetniki: 1. letnik (Fizika\, 2. stopnja)\, 2. letnik (Fizika\, 2. s
 topnja)\nIzvajalci: Tomaž Prosen\nProstor: F2
LOCATION:F2
ORGANIZER:Tomaž Prosen
RELATED-TO:fmf-AFLABS-URNIK:srecanje:8097
X-WR-TIMEZONE:Europe/Ljubljana
END:VEVENT
BEGIN:VEVENT
SUMMARY:Višja kvantna mehanika (FIZ-M1\, FIZ-M2)\, Predavanja (P)
DTSTART;TZID=Europe/Ljubljana:20230116T130000
DTEND;TZID=Europe/Ljubljana:20230116T160000
DTSTAMP:20260425T135252Z
UID:fmf-AFLABS-URNIK:premaknjeno-srecanje:120244
ATTENDEE:1. letnik (Fizika, 2. stopnja)
ATTENDEE:2. letnik (Fizika, 2. stopnja)
CATEGORIES:Entry,Standard
COLOR:darkgreen
DESCRIPTION:Predmet: Višja kvantna mehanika (FIZ-M1\, FIZ-M2)\, Predavanj
 a (P)\nLetniki: 1. letnik (Fizika\, 2. stopnja)\, 2. letnik (Fizika\, 2. s
 topnja)\nIzvajalci: Tomaž Prosen\nProstor: F2
LOCATION:F2
ORGANIZER:Tomaž Prosen
RELATED-TO:fmf-AFLABS-URNIK:srecanje:8097
X-WR-TIMEZONE:Europe/Ljubljana
END:VEVENT
BEGIN:VEVENT
SUMMARY:Seminar za matematično fiziko ()\, Ostalo (O)
DTSTART;TZID=Europe/Ljubljana:20221004T140000
DTEND;TZID=Europe/Ljubljana:20221004T160000
DTSTAMP:20260425T135252Z
UID:fmf-AFLABS-URNIK:premaknjeno-srecanje:102776
CATEGORIES:Entry,Standard
COLOR:darkgreen
DESCRIPTION:Predmet: Seminar za matematično fiziko ()\, Ostalo (O)\nLetni
 ki: \nIzvajalci: Tomaž Prosen\nProstor: Kuščerjev seminar
LOCATION:Kuščerjev seminar
ORGANIZER:Tomaž Prosen
RELATED-TO:fmf-AFLABS-URNIK:srecanje:8000
X-WR-TIMEZONE:Europe/Ljubljana
END:VEVENT
BEGIN:VEVENT
SUMMARY:Seminar za matematično fiziko ()\, Ostalo (O)
DTSTART;TZID=Europe/Ljubljana:20221011T140000
DTEND;TZID=Europe/Ljubljana:20221011T160000
DTSTAMP:20260425T135252Z
UID:fmf-AFLABS-URNIK:premaknjeno-srecanje:102777
CATEGORIES:Entry,Standard
COLOR:darkgreen
DESCRIPTION:Predmet: Seminar za matematično fiziko ()\, Ostalo (O)\nLetni
 ki: \nIzvajalci: Tomaž Prosen\nProstor: Kuščerjev seminar
LOCATION:Kuščerjev seminar
ORGANIZER:Tomaž Prosen
RELATED-TO:fmf-AFLABS-URNIK:srecanje:8000
X-WR-TIMEZONE:Europe/Ljubljana
END:VEVENT
BEGIN:VEVENT
SUMMARY:Seminar za matematično fiziko ()\, Ostalo (O)
DTSTART;TZID=Europe/Ljubljana:20221018T140000
DTEND;TZID=Europe/Ljubljana:20221018T160000
DTSTAMP:20260425T135252Z
UID:fmf-AFLABS-URNIK:premaknjeno-srecanje:102778
CATEGORIES:Entry,Standard
COLOR:darkgreen
DESCRIPTION:Predmet: Seminar za matematično fiziko ()\, Ostalo (O)\nLetni
 ki: \nIzvajalci: Tomaž Prosen\nProstor: Kuščerjev seminar
LOCATION:Kuščerjev seminar
ORGANIZER:Tomaž Prosen
RELATED-TO:fmf-AFLABS-URNIK:srecanje:8000
X-WR-TIMEZONE:Europe/Ljubljana
END:VEVENT
BEGIN:VEVENT
SUMMARY:Seminar za matematično fiziko ()\, Ostalo (O)
DTSTART;TZID=Europe/Ljubljana:20221025T140000
DTEND;TZID=Europe/Ljubljana:20221025T160000
DTSTAMP:20260425T135252Z
UID:fmf-AFLABS-URNIK:premaknjeno-srecanje:102779
CATEGORIES:Entry,Standard
COLOR:darkgreen
DESCRIPTION:Predmet: Seminar za matematično fiziko ()\, Ostalo (O)\nLetni
 ki: \nIzvajalci: Tomaž Prosen\nProstor: Kuščerjev seminar
LOCATION:Kuščerjev seminar
ORGANIZER:Tomaž Prosen
RELATED-TO:fmf-AFLABS-URNIK:srecanje:8000
X-WR-TIMEZONE:Europe/Ljubljana
END:VEVENT
BEGIN:VEVENT
SUMMARY:Seminar za matematično fiziko ()\, Ostalo (O)
DTSTART;TZID=Europe/Ljubljana:20221101T140000
DTEND;TZID=Europe/Ljubljana:20221101T160000
DTSTAMP:20260425T135252Z
UID:fmf-AFLABS-URNIK:premaknjeno-srecanje:102780
CATEGORIES:Entry,Standard
COLOR:darkgreen
DESCRIPTION:Predmet: Seminar za matematično fiziko ()\, Ostalo (O)\nLetni
 ki: \nIzvajalci: Tomaž Prosen\nProstor: Kuščerjev seminar
LOCATION:Kuščerjev seminar
ORGANIZER:Tomaž Prosen
RELATED-TO:fmf-AFLABS-URNIK:srecanje:8000
X-WR-TIMEZONE:Europe/Ljubljana
END:VEVENT
BEGIN:VEVENT
SUMMARY:Seminar za matematično fiziko ()\, Ostalo (O)
DTSTART;TZID=Europe/Ljubljana:20221108T140000
DTEND;TZID=Europe/Ljubljana:20221108T160000
DTSTAMP:20260425T135252Z
UID:fmf-AFLABS-URNIK:premaknjeno-srecanje:102781
CATEGORIES:Entry,Standard
COLOR:darkgreen
DESCRIPTION:Predmet: Seminar za matematično fiziko ()\, Ostalo (O)\nLetni
 ki: \nIzvajalci: Tomaž Prosen\nProstor: Kuščerjev seminar
LOCATION:Kuščerjev seminar
ORGANIZER:Tomaž Prosen
RELATED-TO:fmf-AFLABS-URNIK:srecanje:8000
X-WR-TIMEZONE:Europe/Ljubljana
END:VEVENT
BEGIN:VEVENT
SUMMARY:Seminar za matematično fiziko ()\, Ostalo (O)
DTSTART;TZID=Europe/Ljubljana:20221115T140000
DTEND;TZID=Europe/Ljubljana:20221115T160000
DTSTAMP:20260425T135252Z
UID:fmf-AFLABS-URNIK:premaknjeno-srecanje:102782
CATEGORIES:Entry,Standard
COLOR:darkgreen
DESCRIPTION:Predmet: Seminar za matematično fiziko ()\, Ostalo (O)\nLetni
 ki: \nIzvajalci: Tomaž Prosen\nProstor: Kuščerjev seminar
LOCATION:Kuščerjev seminar
ORGANIZER:Tomaž Prosen
RELATED-TO:fmf-AFLABS-URNIK:srecanje:8000
X-WR-TIMEZONE:Europe/Ljubljana
END:VEVENT
BEGIN:VEVENT
SUMMARY:Seminar za matematično fiziko ()\, Ostalo (O)
DTSTART;TZID=Europe/Ljubljana:20221122T140000
DTEND;TZID=Europe/Ljubljana:20221122T160000
DTSTAMP:20260425T135252Z
UID:fmf-AFLABS-URNIK:premaknjeno-srecanje:102783
CATEGORIES:Entry,Standard
COLOR:darkgreen
DESCRIPTION:Predmet: Seminar za matematično fiziko ()\, Ostalo (O)\nLetni
 ki: \nIzvajalci: Tomaž Prosen\nProstor: Kuščerjev seminar
LOCATION:Kuščerjev seminar
ORGANIZER:Tomaž Prosen
RELATED-TO:fmf-AFLABS-URNIK:srecanje:8000
X-WR-TIMEZONE:Europe/Ljubljana
END:VEVENT
BEGIN:VEVENT
SUMMARY:Seminar za matematično fiziko ()\, Ostalo (O)
DTSTART;TZID=Europe/Ljubljana:20221129T140000
DTEND;TZID=Europe/Ljubljana:20221129T160000
DTSTAMP:20260425T135252Z
UID:fmf-AFLABS-URNIK:premaknjeno-srecanje:102784
CATEGORIES:Entry,Standard
COLOR:darkgreen
DESCRIPTION:Predmet: Seminar za matematično fiziko ()\, Ostalo (O)\nLetni
 ki: \nIzvajalci: Tomaž Prosen\nProstor: Kuščerjev seminar
LOCATION:Kuščerjev seminar
ORGANIZER:Tomaž Prosen
RELATED-TO:fmf-AFLABS-URNIK:srecanje:8000
X-WR-TIMEZONE:Europe/Ljubljana
END:VEVENT
BEGIN:VEVENT
SUMMARY:Seminar za matematično fiziko ()\, Ostalo (O)
DTSTART;TZID=Europe/Ljubljana:20221206T140000
DTEND;TZID=Europe/Ljubljana:20221206T160000
DTSTAMP:20260425T135252Z
UID:fmf-AFLABS-URNIK:premaknjeno-srecanje:102785
CATEGORIES:Entry,Standard
COLOR:darkgreen
DESCRIPTION:Predmet: Seminar za matematično fiziko ()\, Ostalo (O)\nLetni
 ki: \nIzvajalci: Tomaž Prosen\nProstor: Kuščerjev seminar
LOCATION:Kuščerjev seminar
ORGANIZER:Tomaž Prosen
RELATED-TO:fmf-AFLABS-URNIK:srecanje:8000
X-WR-TIMEZONE:Europe/Ljubljana
END:VEVENT
BEGIN:VEVENT
SUMMARY:Seminar za matematično fiziko ()\, Ostalo (O)
DTSTART;TZID=Europe/Ljubljana:20221213T140000
DTEND;TZID=Europe/Ljubljana:20221213T160000
DTSTAMP:20260425T135252Z
UID:fmf-AFLABS-URNIK:premaknjeno-srecanje:102786
CATEGORIES:Entry,Standard
COLOR:darkgreen
DESCRIPTION:Predmet: Seminar za matematično fiziko ()\, Ostalo (O)\nLetni
 ki: \nIzvajalci: Tomaž Prosen\nProstor: Kuščerjev seminar
LOCATION:Kuščerjev seminar
ORGANIZER:Tomaž Prosen
RELATED-TO:fmf-AFLABS-URNIK:srecanje:8000
X-WR-TIMEZONE:Europe/Ljubljana
END:VEVENT
BEGIN:VEVENT
SUMMARY:Seminar za matematično fiziko ()\, Ostalo (O)
DTSTART;TZID=Europe/Ljubljana:20221220T140000
DTEND;TZID=Europe/Ljubljana:20221220T160000
DTSTAMP:20260425T135252Z
UID:fmf-AFLABS-URNIK:premaknjeno-srecanje:102787
CATEGORIES:Entry,Standard
COLOR:darkgreen
DESCRIPTION:Predmet: Seminar za matematično fiziko ()\, Ostalo (O)\nLetni
 ki: \nIzvajalci: Tomaž Prosen\nProstor: Kuščerjev seminar
LOCATION:Kuščerjev seminar
ORGANIZER:Tomaž Prosen
RELATED-TO:fmf-AFLABS-URNIK:srecanje:8000
X-WR-TIMEZONE:Europe/Ljubljana
END:VEVENT
BEGIN:VEVENT
SUMMARY:Seminar za matematično fiziko ()\, Ostalo (O)
DTSTART;TZID=Europe/Ljubljana:20221227T140000
DTEND;TZID=Europe/Ljubljana:20221227T160000
DTSTAMP:20260425T135252Z
UID:fmf-AFLABS-URNIK:premaknjeno-srecanje:102788
CATEGORIES:Entry,Standard
COLOR:darkgreen
DESCRIPTION:Predmet: Seminar za matematično fiziko ()\, Ostalo (O)\nLetni
 ki: \nIzvajalci: Tomaž Prosen\nProstor: Kuščerjev seminar
LOCATION:Kuščerjev seminar
ORGANIZER:Tomaž Prosen
RELATED-TO:fmf-AFLABS-URNIK:srecanje:8000
X-WR-TIMEZONE:Europe/Ljubljana
END:VEVENT
BEGIN:VEVENT
SUMMARY:Seminar za matematično fiziko ()\, Ostalo (O)
DTSTART;TZID=Europe/Ljubljana:20230103T140000
DTEND;TZID=Europe/Ljubljana:20230103T160000
DTSTAMP:20260425T135252Z
UID:fmf-AFLABS-URNIK:premaknjeno-srecanje:102789
CATEGORIES:Entry,Standard
COLOR:darkgreen
DESCRIPTION:Predmet: Seminar za matematično fiziko ()\, Ostalo (O)\nLetni
 ki: \nIzvajalci: Tomaž Prosen\nProstor: Kuščerjev seminar
LOCATION:Kuščerjev seminar
ORGANIZER:Tomaž Prosen
RELATED-TO:fmf-AFLABS-URNIK:srecanje:8000
X-WR-TIMEZONE:Europe/Ljubljana
END:VEVENT
BEGIN:VEVENT
SUMMARY:Seminar za matematično fiziko ()\, Ostalo (O)
DTSTART;TZID=Europe/Ljubljana:20230110T140000
DTEND;TZID=Europe/Ljubljana:20230110T160000
DTSTAMP:20260425T135252Z
UID:fmf-AFLABS-URNIK:premaknjeno-srecanje:102790
CATEGORIES:Entry,Standard
COLOR:darkgreen
DESCRIPTION:Predmet: Seminar za matematično fiziko ()\, Ostalo (O)\nLetni
 ki: \nIzvajalci: Tomaž Prosen\nProstor: Kuščerjev seminar
LOCATION:Kuščerjev seminar
ORGANIZER:Tomaž Prosen
RELATED-TO:fmf-AFLABS-URNIK:srecanje:8000
X-WR-TIMEZONE:Europe/Ljubljana
END:VEVENT
END:VCALENDAR
