BEGIN:VCALENDAR
VERSION:2.0
PRODID:-//AFLabs urnik izvoz - fmf//aflabs.si//SI
DTSTAMP:20260425T120740Z
NAME:UL FMF urnik
REFRESH-INTERVAL:PT1H
SOURCE:https://urnik.fmf.uni-lj.si/teacher/135?day=2023-07-31&export=1
URL:https://urnik.fmf.uni-lj.si/teacher/135?day=2023-07-31&export=1
X-PUBLISHED-TTL:PT1H
X-WR-CALNAME:UL FMF urnik
X-WR-TIMEZONE:Europe/Ljubljana
BEGIN:VTIMEZONE
TZID:Europe/Ljubljana
BEGIN:DAYLIGHT
DTSTART:20260329T020000
RDATE:20260329T020000
RDATE:20270328T020000
TZNAME:CEST
TZOFFSETFROM:+0100
TZOFFSETTO:+0200
END:DAYLIGHT
BEGIN:STANDARD
DTSTART:20261025T030000
RDATE:20261025T030000
RDATE:20271031T030000
TZNAME:CET
TZOFFSETFROM:+0200
TZOFFSETTO:+0100
END:STANDARD
END:VTIMEZONE
BEGIN:VEVENT
SUMMARY:Rezervacija
DTSTART;TZID=Europe/Ljubljana:20230704T090000
DTEND;TZID=Europe/Ljubljana:20230704T170000
DTSTAMP:20260425T120740Z
UID:fmf-AFLABS-URNIK:rezervacija:12633
ATTENDEE:1. letnik (Fizika, 1. stopnja)
CATEGORIES:Reservation
COLOR:royalblue
DESCRIPTION:Predmeti: Klasična fizika (FIZ-1)\nLetniki: 1. letnik (Fizika
 \, 1. stopnja)\nIzvajalci: Marko Mikuž\nProstori: Kuščerjev seminar
LOCATION:Kuščerjev seminar
ORGANIZER:Marko Mikuž
X-WR-TIMEZONE:Europe/Ljubljana
END:VEVENT
BEGIN:VEVENT
SUMMARY:Rezervacija
DTSTART;TZID=Europe/Ljubljana:20230705T090000
DTEND;TZID=Europe/Ljubljana:20230705T170000
DTSTAMP:20260425T120740Z
UID:fmf-AFLABS-URNIK:rezervacija:12634
ATTENDEE:1. letnik (Fizika, 1. stopnja)
CATEGORIES:Reservation
COLOR:royalblue
DESCRIPTION:Predmeti: Klasična fizika (FIZ-1)\nLetniki: 1. letnik (Fizika
 \, 1. stopnja)\nIzvajalci: Marko Mikuž\nProstori: Kuščerjev seminar
LOCATION:Kuščerjev seminar
ORGANIZER:Marko Mikuž
X-WR-TIMEZONE:Europe/Ljubljana
END:VEVENT
BEGIN:VEVENT
SUMMARY:Rezervacija
DTSTART;TZID=Europe/Ljubljana:20230830T090000
DTEND;TZID=Europe/Ljubljana:20230830T170000
DTSTAMP:20260425T120740Z
UID:fmf-AFLABS-URNIK:rezervacija:12991
ATTENDEE:1. letnik (Fizika, 1. stopnja)
CATEGORIES:Reservation
COLOR:royalblue
DESCRIPTION:Predmeti: Klasična fizika (FIZ-1)\nLetniki: 1. letnik (Fizika
 \, 1. stopnja)\nIzvajalci: Marko Mikuž\nProstori: Kuščerjev seminar
LOCATION:Kuščerjev seminar
ORGANIZER:Marko Mikuž
X-WR-TIMEZONE:Europe/Ljubljana
END:VEVENT
END:VCALENDAR
