BEGIN:VCALENDAR
VERSION:2.0
PRODID:-//AFLabs urnik izvoz - fmf//aflabs.si//SI
DTSTAMP:20260423T113303Z
NAME:UL FMF urnik
REFRESH-INTERVAL:PT1H
SOURCE:https://urnik.fmf.uni-lj.si/teacher/135?day=2024-06-10&export=1
URL:https://urnik.fmf.uni-lj.si/teacher/135?day=2024-06-10&export=1
X-PUBLISHED-TTL:PT1H
X-WR-CALNAME:UL FMF urnik
X-WR-TIMEZONE:Europe/Ljubljana
BEGIN:VTIMEZONE
TZID:Europe/Ljubljana
BEGIN:DAYLIGHT
DTSTART:20260329T020000
RDATE:20260329T020000
RDATE:20270328T020000
TZNAME:CEST
TZOFFSETFROM:+0100
TZOFFSETTO:+0200
END:DAYLIGHT
BEGIN:STANDARD
DTSTART:20261025T030000
RDATE:20261025T030000
RDATE:20271031T030000
TZNAME:CET
TZOFFSETFROM:+0200
TZOFFSETTO:+0100
END:STANDARD
END:VTIMEZONE
BEGIN:VEVENT
SUMMARY:Klasična fizika (FIZ-1)\, Predavanja (P)
DTSTART;TZID=Europe/Ljubljana:20240508T110000
DTEND;TZID=Europe/Ljubljana:20240508T130000
DTSTAMP:20260423T113303Z
UID:fmf-AFLABS-URNIK:premaknjeno-srecanje:126085
ATTENDEE:1. letnik (Fizika, 1. stopnja)
CATEGORIES:Entry,Standard
COLOR:darkgreen
DESCRIPTION:Predmet: Klasična fizika (FIZ-1)\, Predavanja (P)\nLetniki: 1
 . letnik (Fizika\, 1. stopnja)\nIzvajalci: Marko Mikuž\nProstor: VFP
LOCATION:VFP
ORGANIZER:Marko Mikuž
RELATED-TO:fmf-AFLABS-URNIK:srecanje:9972
X-WR-TIMEZONE:Europe/Ljubljana
END:VEVENT
BEGIN:VEVENT
SUMMARY:Klasična fizika (FIZ-1)\, Predavanja (P)
DTSTART;TZID=Europe/Ljubljana:20240515T110000
DTEND;TZID=Europe/Ljubljana:20240515T130000
DTSTAMP:20260423T113303Z
UID:fmf-AFLABS-URNIK:premaknjeno-srecanje:126086
ATTENDEE:1. letnik (Fizika, 1. stopnja)
CATEGORIES:Entry,Standard
COLOR:darkgreen
DESCRIPTION:Predmet: Klasična fizika (FIZ-1)\, Predavanja (P)\nLetniki: 1
 . letnik (Fizika\, 1. stopnja)\nIzvajalci: Marko Mikuž\nProstor: VFP
LOCATION:VFP
ORGANIZER:Marko Mikuž
RELATED-TO:fmf-AFLABS-URNIK:srecanje:9972
X-WR-TIMEZONE:Europe/Ljubljana
END:VEVENT
BEGIN:VEVENT
SUMMARY:Klasična fizika (FIZ-1)\, Predavanja (P)
DTSTART;TZID=Europe/Ljubljana:20240522T110000
DTEND;TZID=Europe/Ljubljana:20240522T130000
DTSTAMP:20260423T113303Z
UID:fmf-AFLABS-URNIK:premaknjeno-srecanje:126087
ATTENDEE:1. letnik (Fizika, 1. stopnja)
CATEGORIES:Entry,Standard
COLOR:darkgreen
DESCRIPTION:Predmet: Klasična fizika (FIZ-1)\, Predavanja (P)\nLetniki: 1
 . letnik (Fizika\, 1. stopnja)\nIzvajalci: Marko Mikuž\nProstor: VFP
LOCATION:VFP
ORGANIZER:Marko Mikuž
RELATED-TO:fmf-AFLABS-URNIK:srecanje:9972
X-WR-TIMEZONE:Europe/Ljubljana
END:VEVENT
BEGIN:VEVENT
SUMMARY:Klasična fizika (FIZ-1)\, Predavanja (P)
DTSTART;TZID=Europe/Ljubljana:20240529T110000
DTEND;TZID=Europe/Ljubljana:20240529T130000
DTSTAMP:20260423T113303Z
UID:fmf-AFLABS-URNIK:premaknjeno-srecanje:126088
ATTENDEE:1. letnik (Fizika, 1. stopnja)
CATEGORIES:Entry,Standard
COLOR:darkgreen
DESCRIPTION:Predmet: Klasična fizika (FIZ-1)\, Predavanja (P)\nLetniki: 1
 . letnik (Fizika\, 1. stopnja)\nIzvajalci: Marko Mikuž\nProstor: VFP
LOCATION:VFP
ORGANIZER:Marko Mikuž
RELATED-TO:fmf-AFLABS-URNIK:srecanje:9972
X-WR-TIMEZONE:Europe/Ljubljana
END:VEVENT
BEGIN:VEVENT
SUMMARY:Klasična fizika (FIZ-1)\, Seminar (S)
DTSTART;TZID=Europe/Ljubljana:20240508T130000
DTEND;TZID=Europe/Ljubljana:20240508T140000
DTSTAMP:20260423T113303Z
UID:fmf-AFLABS-URNIK:premaknjeno-srecanje:126115
ATTENDEE:1. letnik (Fizika, 1. stopnja)
CATEGORIES:Entry,Standard
COLOR:darkgreen
DESCRIPTION:Predmet: Klasična fizika (FIZ-1)\, Seminar (S)\nLetniki: 1. l
 etnik (Fizika\, 1. stopnja)\nIzvajalci: Marko Mikuž\nProstor: VFP
LOCATION:VFP
ORGANIZER:Marko Mikuž
RELATED-TO:fmf-AFLABS-URNIK:srecanje:9974
X-WR-TIMEZONE:Europe/Ljubljana
END:VEVENT
BEGIN:VEVENT
SUMMARY:Klasična fizika (FIZ-1)\, Seminar (S)
DTSTART;TZID=Europe/Ljubljana:20240515T130000
DTEND;TZID=Europe/Ljubljana:20240515T140000
DTSTAMP:20260423T113303Z
UID:fmf-AFLABS-URNIK:premaknjeno-srecanje:126116
ATTENDEE:1. letnik (Fizika, 1. stopnja)
CATEGORIES:Entry,Standard
COLOR:darkgreen
DESCRIPTION:Predmet: Klasična fizika (FIZ-1)\, Seminar (S)\nLetniki: 1. l
 etnik (Fizika\, 1. stopnja)\nIzvajalci: Marko Mikuž\nProstor: VFP
LOCATION:VFP
ORGANIZER:Marko Mikuž
RELATED-TO:fmf-AFLABS-URNIK:srecanje:9974
X-WR-TIMEZONE:Europe/Ljubljana
END:VEVENT
BEGIN:VEVENT
SUMMARY:Klasična fizika (FIZ-1)\, Seminar (S)
DTSTART;TZID=Europe/Ljubljana:20240522T130000
DTEND;TZID=Europe/Ljubljana:20240522T140000
DTSTAMP:20260423T113303Z
UID:fmf-AFLABS-URNIK:premaknjeno-srecanje:126117
ATTENDEE:1. letnik (Fizika, 1. stopnja)
CATEGORIES:Entry,Standard
COLOR:darkgreen
DESCRIPTION:Predmet: Klasična fizika (FIZ-1)\, Seminar (S)\nLetniki: 1. l
 etnik (Fizika\, 1. stopnja)\nIzvajalci: Marko Mikuž\nProstor: VFP
LOCATION:VFP
ORGANIZER:Marko Mikuž
RELATED-TO:fmf-AFLABS-URNIK:srecanje:9974
X-WR-TIMEZONE:Europe/Ljubljana
END:VEVENT
BEGIN:VEVENT
SUMMARY:Klasična fizika (FIZ-1)\, Seminar (S)
DTSTART;TZID=Europe/Ljubljana:20240529T130000
DTEND;TZID=Europe/Ljubljana:20240529T140000
DTSTAMP:20260423T113303Z
UID:fmf-AFLABS-URNIK:premaknjeno-srecanje:126118
ATTENDEE:1. letnik (Fizika, 1. stopnja)
CATEGORIES:Entry,Standard
COLOR:darkgreen
DESCRIPTION:Predmet: Klasična fizika (FIZ-1)\, Seminar (S)\nLetniki: 1. l
 etnik (Fizika\, 1. stopnja)\nIzvajalci: Marko Mikuž\nProstor: VFP
LOCATION:VFP
ORGANIZER:Marko Mikuž
RELATED-TO:fmf-AFLABS-URNIK:srecanje:9974
X-WR-TIMEZONE:Europe/Ljubljana
END:VEVENT
BEGIN:VEVENT
SUMMARY:Klasična fizika (FIZ-1)\, Predavanja (P)
DTSTART;TZID=Europe/Ljubljana:20240509T100000
DTEND;TZID=Europe/Ljubljana:20240509T130000
DTSTAMP:20260423T113303Z
UID:fmf-AFLABS-URNIK:premaknjeno-srecanje:126100
ATTENDEE:1. letnik (Fizika, 1. stopnja)
CATEGORIES:Entry,Standard
COLOR:darkgreen
DESCRIPTION:Predmet: Klasična fizika (FIZ-1)\, Predavanja (P)\nLetniki: 1
 . letnik (Fizika\, 1. stopnja)\nIzvajalci: Marko Mikuž\nProstor: VFP
LOCATION:VFP
ORGANIZER:Marko Mikuž
RELATED-TO:fmf-AFLABS-URNIK:srecanje:9973
X-WR-TIMEZONE:Europe/Ljubljana
END:VEVENT
BEGIN:VEVENT
SUMMARY:Klasična fizika (FIZ-1)\, Predavanja (P)
DTSTART;TZID=Europe/Ljubljana:20240516T100000
DTEND;TZID=Europe/Ljubljana:20240516T130000
DTSTAMP:20260423T113303Z
UID:fmf-AFLABS-URNIK:premaknjeno-srecanje:126101
ATTENDEE:1. letnik (Fizika, 1. stopnja)
CATEGORIES:Entry,Standard
COLOR:darkgreen
DESCRIPTION:Predmet: Klasična fizika (FIZ-1)\, Predavanja (P)\nLetniki: 1
 . letnik (Fizika\, 1. stopnja)\nIzvajalci: Marko Mikuž\nProstor: VFP
LOCATION:VFP
ORGANIZER:Marko Mikuž
RELATED-TO:fmf-AFLABS-URNIK:srecanje:9973
X-WR-TIMEZONE:Europe/Ljubljana
END:VEVENT
BEGIN:VEVENT
SUMMARY:Klasična fizika (FIZ-1)\, Predavanja (P)
DTSTART;TZID=Europe/Ljubljana:20240523T100000
DTEND;TZID=Europe/Ljubljana:20240523T130000
DTSTAMP:20260423T113303Z
UID:fmf-AFLABS-URNIK:premaknjeno-srecanje:126102
ATTENDEE:1. letnik (Fizika, 1. stopnja)
CATEGORIES:Entry,Standard
COLOR:darkgreen
DESCRIPTION:Predmet: Klasična fizika (FIZ-1)\, Predavanja (P)\nLetniki: 1
 . letnik (Fizika\, 1. stopnja)\nIzvajalci: Marko Mikuž\nProstor: VFP
LOCATION:VFP
ORGANIZER:Marko Mikuž
RELATED-TO:fmf-AFLABS-URNIK:srecanje:9973
X-WR-TIMEZONE:Europe/Ljubljana
END:VEVENT
BEGIN:VEVENT
SUMMARY:Klasična fizika (FIZ-1)\, Predavanja (P)
DTSTART;TZID=Europe/Ljubljana:20240530T100000
DTEND;TZID=Europe/Ljubljana:20240530T130000
DTSTAMP:20260423T113303Z
UID:fmf-AFLABS-URNIK:premaknjeno-srecanje:126103
ATTENDEE:1. letnik (Fizika, 1. stopnja)
CATEGORIES:Entry,Standard
COLOR:darkgreen
DESCRIPTION:Predmet: Klasična fizika (FIZ-1)\, Predavanja (P)\nLetniki: 1
 . letnik (Fizika\, 1. stopnja)\nIzvajalci: Marko Mikuž\nProstor: VFP
LOCATION:VFP
ORGANIZER:Marko Mikuž
RELATED-TO:fmf-AFLABS-URNIK:srecanje:9973
X-WR-TIMEZONE:Europe/Ljubljana
END:VEVENT
BEGIN:VEVENT
SUMMARY:Ustni izpit KF
DTSTART;TZID=Europe/Ljubljana:20240612T080000
DTEND;TZID=Europe/Ljubljana:20240612T170000
DTSTAMP:20260423T113303Z
UID:fmf-AFLABS-URNIK:rezervacija:17145
ATTENDEE:1. letnik (Fizika, 1. stopnja)
CATEGORIES:Reservation
COLOR:royalblue
DESCRIPTION:Predmeti: Klasična fizika (FIZ-1)\nLetniki: 1. letnik (Fizika
 \, 1. stopnja)\nIzvajalci: Marko Mikuž\nProstori: F8
LOCATION:F8
ORGANIZER:Marko Mikuž
X-WR-TIMEZONE:Europe/Ljubljana
END:VEVENT
BEGIN:VEVENT
SUMMARY:Izpit KF.
DTSTART;TZID=Europe/Ljubljana:20240614T120000
DTEND;TZID=Europe/Ljubljana:20240614T130000
DTSTAMP:20260423T113303Z
UID:fmf-AFLABS-URNIK:rezervacija:17286
ATTENDEE:1. letnik (Fizika, 1. stopnja)
CATEGORIES:Reservation
COLOR:royalblue
DESCRIPTION:Predmeti: Klasična fizika (FIZ-1)\nLetniki: 1. letnik (Fizika
 \, 1. stopnja)\nIzvajalci: Marko Mikuž\nProstori: MFP
LOCATION:MFP
ORGANIZER:Marko Mikuž
X-WR-TIMEZONE:Europe/Ljubljana
END:VEVENT
BEGIN:VEVENT
SUMMARY:Ustni izpiti KF
DTSTART;TZID=Europe/Ljubljana:20240626T130000
DTEND;TZID=Europe/Ljubljana:20240626T170000
DTSTAMP:20260423T113303Z
UID:fmf-AFLABS-URNIK:rezervacija:17428
ATTENDEE:1. letnik (Fizika, 1. stopnja)
CATEGORIES:Reservation
COLOR:royalblue
DESCRIPTION:Predmeti: Klasična fizika (FIZ-1)\nLetniki: 1. letnik (Fizika
 \, 1. stopnja)\nIzvajalci: Marko Mikuž\nProstori: MFP
LOCATION:MFP
ORGANIZER:Marko Mikuž
X-WR-TIMEZONE:Europe/Ljubljana
END:VEVENT
BEGIN:VEVENT
SUMMARY:Ustni izpiti KF
DTSTART;TZID=Europe/Ljubljana:20240626T090000
DTEND;TZID=Europe/Ljubljana:20240626T130000
DTSTAMP:20260423T113303Z
UID:fmf-AFLABS-URNIK:rezervacija:17432
ATTENDEE:1. letnik (Fizika, 1. stopnja)
CATEGORIES:Reservation
COLOR:royalblue
DESCRIPTION:Predmeti: Klasična fizika (FIZ-1)\nLetniki: 1. letnik (Fizika
 \, 1. stopnja)\nIzvajalci: Marko Mikuž\nProstori: F1
LOCATION:F1
ORGANIZER:Marko Mikuž
X-WR-TIMEZONE:Europe/Ljubljana
END:VEVENT
BEGIN:VEVENT
SUMMARY:Ustni izpiti KF
DTSTART;TZID=Europe/Ljubljana:20240701T090000
DTEND;TZID=Europe/Ljubljana:20240701T170000
DTSTAMP:20260423T113303Z
UID:fmf-AFLABS-URNIK:rezervacija:17440
ATTENDEE:1. letnik (Fizika, 1. stopnja)
CATEGORIES:Reservation
COLOR:royalblue
DESCRIPTION:Predmeti: Klasična fizika (FIZ-1)\nLetniki: 1. letnik (Fizika
 \, 1. stopnja)\nIzvajalci: Marko Mikuž\nProstori: MFP
LOCATION:MFP
ORGANIZER:Marko Mikuž
X-WR-TIMEZONE:Europe/Ljubljana
END:VEVENT
BEGIN:VEVENT
SUMMARY:Ustni izpiti KF
DTSTART;TZID=Europe/Ljubljana:20240702T090000
DTEND;TZID=Europe/Ljubljana:20240702T140000
DTSTAMP:20260423T113303Z
UID:fmf-AFLABS-URNIK:rezervacija:17446
ATTENDEE:1. letnik (Fizika, 1. stopnja)
CATEGORIES:Reservation
COLOR:royalblue
DESCRIPTION:Predmeti: Klasična fizika (FIZ-1)\nLetniki: 1. letnik (Fizika
 \, 1. stopnja)\nIzvajalci: Marko Mikuž\nProstori: MFP
LOCATION:MFP
ORGANIZER:Marko Mikuž
X-WR-TIMEZONE:Europe/Ljubljana
END:VEVENT
BEGIN:VEVENT
SUMMARY:Ustni izpiti KF
DTSTART;TZID=Europe/Ljubljana:20240703T090000
DTEND;TZID=Europe/Ljubljana:20240703T120000
DTSTAMP:20260423T113303Z
UID:fmf-AFLABS-URNIK:rezervacija:17501
ATTENDEE:1. letnik (Fizika, 1. stopnja)
CATEGORIES:Reservation
COLOR:royalblue
DESCRIPTION:Predmeti: Klasična fizika (FIZ-1)\nLetniki: 1. letnik (Fizika
 \, 1. stopnja)\nIzvajalci: Marko Mikuž\nProstori: F6
LOCATION:F6
ORGANIZER:Marko Mikuž
X-WR-TIMEZONE:Europe/Ljubljana
END:VEVENT
BEGIN:VEVENT
SUMMARY:Ustni izpiti KF
DTSTART;TZID=Europe/Ljubljana:20240709T090000
DTEND;TZID=Europe/Ljubljana:20240709T130000
DTSTAMP:20260423T113303Z
UID:fmf-AFLABS-URNIK:rezervacija:17548
ATTENDEE:1. letnik (Fizika, 1. stopnja)
CATEGORIES:Reservation
COLOR:royalblue
DESCRIPTION:Predmeti: Klasična fizika (FIZ-1)\nLetniki: 1. letnik (Fizika
 \, 1. stopnja)\nIzvajalci: Marko Mikuž\nProstori: Kuščerjev seminar
LOCATION:Kuščerjev seminar
ORGANIZER:Marko Mikuž
X-WR-TIMEZONE:Europe/Ljubljana
END:VEVENT
BEGIN:VEVENT
SUMMARY:Ustni izpiti KF
DTSTART;TZID=Europe/Ljubljana:20240710T090000
DTEND;TZID=Europe/Ljubljana:20240710T170000
DTSTAMP:20260423T113303Z
UID:fmf-AFLABS-URNIK:rezervacija:17549
ATTENDEE:1. letnik (Fizika, 1. stopnja)
CATEGORIES:Reservation
COLOR:royalblue
DESCRIPTION:Predmeti: Klasična fizika (FIZ-1)\nLetniki: 1. letnik (Fizika
 \, 1. stopnja)\nIzvajalci: Marko Mikuž\nProstori: Kuščerjev seminar
LOCATION:Kuščerjev seminar
ORGANIZER:Marko Mikuž
X-WR-TIMEZONE:Europe/Ljubljana
END:VEVENT
BEGIN:VEVENT
SUMMARY:Ustni izpiti KF
DTSTART;TZID=Europe/Ljubljana:20240711T090000
DTEND;TZID=Europe/Ljubljana:20240711T130000
DTSTAMP:20260423T113303Z
UID:fmf-AFLABS-URNIK:rezervacija:17551
ATTENDEE:1. letnik (Fizika, 1. stopnja)
CATEGORIES:Reservation
COLOR:royalblue
DESCRIPTION:Predmeti: Klasična fizika (FIZ-1)\nLetniki: 1. letnik (Fizika
 \, 1. stopnja)\nIzvajalci: Marko Mikuž\nProstori: Kuščerjev seminar
LOCATION:Kuščerjev seminar
ORGANIZER:Marko Mikuž
X-WR-TIMEZONE:Europe/Ljubljana
END:VEVENT
END:VCALENDAR
