BEGIN:VCALENDAR
VERSION:2.0
PRODID:-//AFLabs urnik izvoz - fmf//aflabs.si//SI
DTSTAMP:20260423T003757Z
NAME:UL FMF urnik
REFRESH-INTERVAL:PT1H
SOURCE:https://urnik.fmf.uni-lj.si/teacher/135?day=2024-11-04&export=1
URL:https://urnik.fmf.uni-lj.si/teacher/135?day=2024-11-04&export=1
X-PUBLISHED-TTL:PT1H
X-WR-CALNAME:UL FMF urnik
X-WR-TIMEZONE:Europe/Ljubljana
BEGIN:VTIMEZONE
TZID:Europe/Ljubljana
BEGIN:DAYLIGHT
DTSTART:20260329T020000
RDATE:20260329T020000
RDATE:20270328T020000
TZNAME:CEST
TZOFFSETFROM:+0100
TZOFFSETTO:+0200
END:DAYLIGHT
BEGIN:STANDARD
DTSTART:20261025T030000
RDATE:20261025T030000
RDATE:20271031T030000
TZNAME:CET
TZOFFSETFROM:+0200
TZOFFSETTO:+0100
END:STANDARD
END:VTIMEZONE
BEGIN:VEVENT
SUMMARY:Klasična fizika (FIZ-1)\, Predavanja (P)
DTSTART;TZID=Europe/Ljubljana:20241001T110000
DTEND;TZID=Europe/Ljubljana:20241001T120000
DTSTAMP:20260423T003757Z
UID:fmf-AFLABS-URNIK:premaknjeno-srecanje:180757
ATTENDEE:1. letnik (Fizika, 1. stopnja)
CATEGORIES:Entry,Standard
COLOR:darkgreen
DESCRIPTION:Predmet: Klasična fizika (FIZ-1)\, Predavanja (P)\nLetniki: 1
 . letnik (Fizika\, 1. stopnja)\nIzvajalci: Marko Mikuž\nProstor: VFP
LOCATION:VFP
ORGANIZER:Marko Mikuž
RELATED-TO:fmf-AFLABS-URNIK:srecanje:13770
X-WR-TIMEZONE:Europe/Ljubljana
END:VEVENT
BEGIN:VEVENT
SUMMARY:Klasična fizika (FIZ-1)\, Predavanja (P)
DTSTART;TZID=Europe/Ljubljana:20241008T110000
DTEND;TZID=Europe/Ljubljana:20241008T120000
DTSTAMP:20260423T003757Z
UID:fmf-AFLABS-URNIK:premaknjeno-srecanje:180758
ATTENDEE:1. letnik (Fizika, 1. stopnja)
CATEGORIES:Entry,Standard
COLOR:darkgreen
DESCRIPTION:Predmet: Klasična fizika (FIZ-1)\, Predavanja (P)\nLetniki: 1
 . letnik (Fizika\, 1. stopnja)\nIzvajalci: Marko Mikuž\nProstor: VFP
LOCATION:VFP
ORGANIZER:Marko Mikuž
RELATED-TO:fmf-AFLABS-URNIK:srecanje:13770
X-WR-TIMEZONE:Europe/Ljubljana
END:VEVENT
BEGIN:VEVENT
SUMMARY:Klasična fizika (FIZ-1)\, Predavanja (P)
DTSTART;TZID=Europe/Ljubljana:20241015T110000
DTEND;TZID=Europe/Ljubljana:20241015T120000
DTSTAMP:20260423T003757Z
UID:fmf-AFLABS-URNIK:premaknjeno-srecanje:180759
ATTENDEE:1. letnik (Fizika, 1. stopnja)
CATEGORIES:Entry,Standard
COLOR:darkgreen
DESCRIPTION:Predmet: Klasična fizika (FIZ-1)\, Predavanja (P)\nLetniki: 1
 . letnik (Fizika\, 1. stopnja)\nIzvajalci: Marko Mikuž\nProstor: VFP
LOCATION:VFP
ORGANIZER:Marko Mikuž
RELATED-TO:fmf-AFLABS-URNIK:srecanje:13770
X-WR-TIMEZONE:Europe/Ljubljana
END:VEVENT
BEGIN:VEVENT
SUMMARY:Klasična fizika (FIZ-1)\, Predavanja (P)
DTSTART;TZID=Europe/Ljubljana:20241022T110000
DTEND;TZID=Europe/Ljubljana:20241022T120000
DTSTAMP:20260423T003757Z
UID:fmf-AFLABS-URNIK:premaknjeno-srecanje:180760
ATTENDEE:1. letnik (Fizika, 1. stopnja)
CATEGORIES:Entry,Standard
COLOR:darkgreen
DESCRIPTION:Predmet: Klasična fizika (FIZ-1)\, Predavanja (P)\nLetniki: 1
 . letnik (Fizika\, 1. stopnja)\nIzvajalci: Marko Mikuž\nProstor: VFP
LOCATION:VFP
ORGANIZER:Marko Mikuž
RELATED-TO:fmf-AFLABS-URNIK:srecanje:13770
X-WR-TIMEZONE:Europe/Ljubljana
END:VEVENT
BEGIN:VEVENT
SUMMARY:Klasična fizika (FIZ-1)\, Predavanja (P)
DTSTART;TZID=Europe/Ljubljana:20241029T110000
DTEND;TZID=Europe/Ljubljana:20241029T120000
DTSTAMP:20260423T003757Z
UID:fmf-AFLABS-URNIK:premaknjeno-srecanje:180761
ATTENDEE:1. letnik (Fizika, 1. stopnja)
CATEGORIES:Entry,Standard
COLOR:darkgreen
DESCRIPTION:Predmet: Klasična fizika (FIZ-1)\, Predavanja (P)\nLetniki: 1
 . letnik (Fizika\, 1. stopnja)\nIzvajalci: Marko Mikuž\nProstor: VFP
LOCATION:VFP
ORGANIZER:Marko Mikuž
RELATED-TO:fmf-AFLABS-URNIK:srecanje:13770
X-WR-TIMEZONE:Europe/Ljubljana
END:VEVENT
BEGIN:VEVENT
SUMMARY:Klasična fizika (FIZ-1)\, Predavanja (P)
DTSTART;TZID=Europe/Ljubljana:20241105T110000
DTEND;TZID=Europe/Ljubljana:20241105T120000
DTSTAMP:20260423T003757Z
UID:fmf-AFLABS-URNIK:premaknjeno-srecanje:180762
ATTENDEE:1. letnik (Fizika, 1. stopnja)
CATEGORIES:Entry,Standard
COLOR:darkgreen
DESCRIPTION:Predmet: Klasična fizika (FIZ-1)\, Predavanja (P)\nLetniki: 1
 . letnik (Fizika\, 1. stopnja)\nIzvajalci: Marko Mikuž\nProstor: VFP
LOCATION:VFP
ORGANIZER:Marko Mikuž
RELATED-TO:fmf-AFLABS-URNIK:srecanje:13770
X-WR-TIMEZONE:Europe/Ljubljana
END:VEVENT
BEGIN:VEVENT
SUMMARY:Klasična fizika (FIZ-1)\, Predavanja (P)
DTSTART;TZID=Europe/Ljubljana:20241112T110000
DTEND;TZID=Europe/Ljubljana:20241112T120000
DTSTAMP:20260423T003757Z
UID:fmf-AFLABS-URNIK:premaknjeno-srecanje:180763
ATTENDEE:1. letnik (Fizika, 1. stopnja)
CATEGORIES:Entry,Standard
COLOR:darkgreen
DESCRIPTION:Predmet: Klasična fizika (FIZ-1)\, Predavanja (P)\nLetniki: 1
 . letnik (Fizika\, 1. stopnja)\nIzvajalci: Marko Mikuž\nProstor: VFP
LOCATION:VFP
ORGANIZER:Marko Mikuž
RELATED-TO:fmf-AFLABS-URNIK:srecanje:13770
X-WR-TIMEZONE:Europe/Ljubljana
END:VEVENT
BEGIN:VEVENT
SUMMARY:Klasična fizika (FIZ-1)\, Predavanja (P)
DTSTART;TZID=Europe/Ljubljana:20241119T110000
DTEND;TZID=Europe/Ljubljana:20241119T120000
DTSTAMP:20260423T003757Z
UID:fmf-AFLABS-URNIK:premaknjeno-srecanje:180764
ATTENDEE:1. letnik (Fizika, 1. stopnja)
CATEGORIES:Entry,Standard
COLOR:darkgreen
DESCRIPTION:Predmet: Klasična fizika (FIZ-1)\, Predavanja (P)\nLetniki: 1
 . letnik (Fizika\, 1. stopnja)\nIzvajalci: Marko Mikuž\nProstor: VFP
LOCATION:VFP
ORGANIZER:Marko Mikuž
RELATED-TO:fmf-AFLABS-URNIK:srecanje:13770
X-WR-TIMEZONE:Europe/Ljubljana
END:VEVENT
BEGIN:VEVENT
SUMMARY:Klasična fizika (FIZ-1)\, Predavanja (P)
DTSTART;TZID=Europe/Ljubljana:20241126T110000
DTEND;TZID=Europe/Ljubljana:20241126T120000
DTSTAMP:20260423T003757Z
UID:fmf-AFLABS-URNIK:premaknjeno-srecanje:180765
ATTENDEE:1. letnik (Fizika, 1. stopnja)
CATEGORIES:Entry,Standard
COLOR:darkgreen
DESCRIPTION:Predmet: Klasična fizika (FIZ-1)\, Predavanja (P)\nLetniki: 1
 . letnik (Fizika\, 1. stopnja)\nIzvajalci: Marko Mikuž\nProstor: VFP
LOCATION:VFP
ORGANIZER:Marko Mikuž
RELATED-TO:fmf-AFLABS-URNIK:srecanje:13770
X-WR-TIMEZONE:Europe/Ljubljana
END:VEVENT
BEGIN:VEVENT
SUMMARY:Klasična fizika (FIZ-1)\, Predavanja (P)
DTSTART;TZID=Europe/Ljubljana:20241203T110000
DTEND;TZID=Europe/Ljubljana:20241203T120000
DTSTAMP:20260423T003757Z
UID:fmf-AFLABS-URNIK:premaknjeno-srecanje:180766
ATTENDEE:1. letnik (Fizika, 1. stopnja)
CATEGORIES:Entry,Standard
COLOR:darkgreen
DESCRIPTION:Predmet: Klasična fizika (FIZ-1)\, Predavanja (P)\nLetniki: 1
 . letnik (Fizika\, 1. stopnja)\nIzvajalci: Marko Mikuž\nProstor: VFP
LOCATION:VFP
ORGANIZER:Marko Mikuž
RELATED-TO:fmf-AFLABS-URNIK:srecanje:13770
X-WR-TIMEZONE:Europe/Ljubljana
END:VEVENT
BEGIN:VEVENT
SUMMARY:Klasična fizika (FIZ-1)\, Predavanja (P)
DTSTART;TZID=Europe/Ljubljana:20241210T110000
DTEND;TZID=Europe/Ljubljana:20241210T120000
DTSTAMP:20260423T003757Z
UID:fmf-AFLABS-URNIK:premaknjeno-srecanje:180767
ATTENDEE:1. letnik (Fizika, 1. stopnja)
CATEGORIES:Entry,Standard
COLOR:darkgreen
DESCRIPTION:Predmet: Klasična fizika (FIZ-1)\, Predavanja (P)\nLetniki: 1
 . letnik (Fizika\, 1. stopnja)\nIzvajalci: Marko Mikuž\nProstor: VFP
LOCATION:VFP
ORGANIZER:Marko Mikuž
RELATED-TO:fmf-AFLABS-URNIK:srecanje:13770
X-WR-TIMEZONE:Europe/Ljubljana
END:VEVENT
BEGIN:VEVENT
SUMMARY:Klasična fizika (FIZ-1)\, Predavanja (P)
DTSTART;TZID=Europe/Ljubljana:20241217T110000
DTEND;TZID=Europe/Ljubljana:20241217T120000
DTSTAMP:20260423T003757Z
UID:fmf-AFLABS-URNIK:premaknjeno-srecanje:180768
ATTENDEE:1. letnik (Fizika, 1. stopnja)
CATEGORIES:Entry,Standard
COLOR:darkgreen
DESCRIPTION:Predmet: Klasična fizika (FIZ-1)\, Predavanja (P)\nLetniki: 1
 . letnik (Fizika\, 1. stopnja)\nIzvajalci: Marko Mikuž\nProstor: VFP
LOCATION:VFP
ORGANIZER:Marko Mikuž
RELATED-TO:fmf-AFLABS-URNIK:srecanje:13770
X-WR-TIMEZONE:Europe/Ljubljana
END:VEVENT
BEGIN:VEVENT
SUMMARY:Klasična fizika (FIZ-1)\, Predavanja (P)
DTSTART;TZID=Europe/Ljubljana:20241224T110000
DTEND;TZID=Europe/Ljubljana:20241224T120000
DTSTAMP:20260423T003757Z
UID:fmf-AFLABS-URNIK:premaknjeno-srecanje:180769
ATTENDEE:1. letnik (Fizika, 1. stopnja)
CATEGORIES:Entry,Standard
COLOR:darkgreen
DESCRIPTION:Predmet: Klasična fizika (FIZ-1)\, Predavanja (P)\nLetniki: 1
 . letnik (Fizika\, 1. stopnja)\nIzvajalci: Marko Mikuž\nProstor: VFP
LOCATION:VFP
ORGANIZER:Marko Mikuž
RELATED-TO:fmf-AFLABS-URNIK:srecanje:13770
X-WR-TIMEZONE:Europe/Ljubljana
END:VEVENT
BEGIN:VEVENT
SUMMARY:Klasična fizika (FIZ-1)\, Predavanja (P)
DTSTART;TZID=Europe/Ljubljana:20241231T110000
DTEND;TZID=Europe/Ljubljana:20241231T120000
DTSTAMP:20260423T003757Z
UID:fmf-AFLABS-URNIK:premaknjeno-srecanje:180770
ATTENDEE:1. letnik (Fizika, 1. stopnja)
CATEGORIES:Entry,Standard
COLOR:darkgreen
DESCRIPTION:Predmet: Klasična fizika (FIZ-1)\, Predavanja (P)\nLetniki: 1
 . letnik (Fizika\, 1. stopnja)\nIzvajalci: Marko Mikuž\nProstor: VFP
LOCATION:VFP
ORGANIZER:Marko Mikuž
RELATED-TO:fmf-AFLABS-URNIK:srecanje:13770
X-WR-TIMEZONE:Europe/Ljubljana
END:VEVENT
BEGIN:VEVENT
SUMMARY:Klasična fizika (FIZ-1)\, Predavanja (P)
DTSTART;TZID=Europe/Ljubljana:20250107T110000
DTEND;TZID=Europe/Ljubljana:20250107T120000
DTSTAMP:20260423T003757Z
UID:fmf-AFLABS-URNIK:premaknjeno-srecanje:180771
ATTENDEE:1. letnik (Fizika, 1. stopnja)
CATEGORIES:Entry,Standard
COLOR:darkgreen
DESCRIPTION:Predmet: Klasična fizika (FIZ-1)\, Predavanja (P)\nLetniki: 1
 . letnik (Fizika\, 1. stopnja)\nIzvajalci: Marko Mikuž\nProstor: VFP
LOCATION:VFP
ORGANIZER:Marko Mikuž
RELATED-TO:fmf-AFLABS-URNIK:srecanje:13770
X-WR-TIMEZONE:Europe/Ljubljana
END:VEVENT
BEGIN:VEVENT
SUMMARY:Klasična fizika (FIZ-1)\, Predavanja (P)
DTSTART;TZID=Europe/Ljubljana:20250114T110000
DTEND;TZID=Europe/Ljubljana:20250114T120000
DTSTAMP:20260423T003757Z
UID:fmf-AFLABS-URNIK:premaknjeno-srecanje:186853
ATTENDEE:1. letnik (Fizika, 1. stopnja)
CATEGORIES:Entry,Standard
COLOR:darkgreen
DESCRIPTION:Predmet: Klasična fizika (FIZ-1)\, Predavanja (P)\nLetniki: 1
 . letnik (Fizika\, 1. stopnja)\nIzvajalci: Marko Mikuž\nProstor: VFP
LOCATION:VFP
ORGANIZER:Marko Mikuž
RELATED-TO:fmf-AFLABS-URNIK:srecanje:13770
X-WR-TIMEZONE:Europe/Ljubljana
END:VEVENT
BEGIN:VEVENT
SUMMARY:Klasična fizika (FIZ-1)\, Predavanja (P)
DTSTART;TZID=Europe/Ljubljana:20241002T090000
DTEND;TZID=Europe/Ljubljana:20241002T110000
DTSTAMP:20260423T003757Z
UID:fmf-AFLABS-URNIK:premaknjeno-srecanje:180772
ATTENDEE:1. letnik (Fizika, 1. stopnja)
CATEGORIES:Entry,Standard
COLOR:darkgreen
DESCRIPTION:Predmet: Klasična fizika (FIZ-1)\, Predavanja (P)\nLetniki: 1
 . letnik (Fizika\, 1. stopnja)\nIzvajalci: Marko Mikuž\nProstor: VFP
LOCATION:VFP
ORGANIZER:Marko Mikuž
RELATED-TO:fmf-AFLABS-URNIK:srecanje:13771
X-WR-TIMEZONE:Europe/Ljubljana
END:VEVENT
BEGIN:VEVENT
SUMMARY:Klasična fizika (FIZ-1)\, Predavanja (P)
DTSTART;TZID=Europe/Ljubljana:20241009T090000
DTEND;TZID=Europe/Ljubljana:20241009T110000
DTSTAMP:20260423T003757Z
UID:fmf-AFLABS-URNIK:premaknjeno-srecanje:180773
ATTENDEE:1. letnik (Fizika, 1. stopnja)
CATEGORIES:Entry,Standard
COLOR:darkgreen
DESCRIPTION:Predmet: Klasična fizika (FIZ-1)\, Predavanja (P)\nLetniki: 1
 . letnik (Fizika\, 1. stopnja)\nIzvajalci: Marko Mikuž\nProstor: VFP
LOCATION:VFP
ORGANIZER:Marko Mikuž
RELATED-TO:fmf-AFLABS-URNIK:srecanje:13771
X-WR-TIMEZONE:Europe/Ljubljana
END:VEVENT
BEGIN:VEVENT
SUMMARY:Klasična fizika (FIZ-1)\, Predavanja (P)
DTSTART;TZID=Europe/Ljubljana:20241016T090000
DTEND;TZID=Europe/Ljubljana:20241016T110000
DTSTAMP:20260423T003757Z
UID:fmf-AFLABS-URNIK:premaknjeno-srecanje:180774
ATTENDEE:1. letnik (Fizika, 1. stopnja)
CATEGORIES:Entry,Standard
COLOR:darkgreen
DESCRIPTION:Predmet: Klasična fizika (FIZ-1)\, Predavanja (P)\nLetniki: 1
 . letnik (Fizika\, 1. stopnja)\nIzvajalci: Marko Mikuž\nProstor: VFP
LOCATION:VFP
ORGANIZER:Marko Mikuž
RELATED-TO:fmf-AFLABS-URNIK:srecanje:13771
X-WR-TIMEZONE:Europe/Ljubljana
END:VEVENT
BEGIN:VEVENT
SUMMARY:Klasična fizika (FIZ-1)\, Predavanja (P)
DTSTART;TZID=Europe/Ljubljana:20241023T090000
DTEND;TZID=Europe/Ljubljana:20241023T110000
DTSTAMP:20260423T003757Z
UID:fmf-AFLABS-URNIK:premaknjeno-srecanje:180775
ATTENDEE:1. letnik (Fizika, 1. stopnja)
CATEGORIES:Entry,Standard
COLOR:darkgreen
DESCRIPTION:Predmet: Klasična fizika (FIZ-1)\, Predavanja (P)\nLetniki: 1
 . letnik (Fizika\, 1. stopnja)\nIzvajalci: Marko Mikuž\nProstor: VFP
LOCATION:VFP
ORGANIZER:Marko Mikuž
RELATED-TO:fmf-AFLABS-URNIK:srecanje:13771
X-WR-TIMEZONE:Europe/Ljubljana
END:VEVENT
BEGIN:VEVENT
SUMMARY:Klasična fizika (FIZ-1)\, Predavanja (P)
DTSTART;TZID=Europe/Ljubljana:20241030T090000
DTEND;TZID=Europe/Ljubljana:20241030T110000
DTSTAMP:20260423T003757Z
UID:fmf-AFLABS-URNIK:premaknjeno-srecanje:180776
ATTENDEE:1. letnik (Fizika, 1. stopnja)
CATEGORIES:Entry,Standard
COLOR:darkgreen
DESCRIPTION:Predmet: Klasična fizika (FIZ-1)\, Predavanja (P)\nLetniki: 1
 . letnik (Fizika\, 1. stopnja)\nIzvajalci: Marko Mikuž\nProstor: VFP
LOCATION:VFP
ORGANIZER:Marko Mikuž
RELATED-TO:fmf-AFLABS-URNIK:srecanje:13771
X-WR-TIMEZONE:Europe/Ljubljana
END:VEVENT
BEGIN:VEVENT
SUMMARY:Klasična fizika (FIZ-1)\, Predavanja (P)
DTSTART;TZID=Europe/Ljubljana:20241106T090000
DTEND;TZID=Europe/Ljubljana:20241106T110000
DTSTAMP:20260423T003757Z
UID:fmf-AFLABS-URNIK:premaknjeno-srecanje:180777
ATTENDEE:1. letnik (Fizika, 1. stopnja)
CATEGORIES:Entry,Standard
COLOR:darkgreen
DESCRIPTION:Predmet: Klasična fizika (FIZ-1)\, Predavanja (P)\nLetniki: 1
 . letnik (Fizika\, 1. stopnja)\nIzvajalci: Marko Mikuž\nProstor: VFP
LOCATION:VFP
ORGANIZER:Marko Mikuž
RELATED-TO:fmf-AFLABS-URNIK:srecanje:13771
X-WR-TIMEZONE:Europe/Ljubljana
END:VEVENT
BEGIN:VEVENT
SUMMARY:Klasična fizika (FIZ-1)\, Predavanja (P)
DTSTART;TZID=Europe/Ljubljana:20241113T090000
DTEND;TZID=Europe/Ljubljana:20241113T110000
DTSTAMP:20260423T003757Z
UID:fmf-AFLABS-URNIK:premaknjeno-srecanje:180778
ATTENDEE:1. letnik (Fizika, 1. stopnja)
CATEGORIES:Entry,Standard
COLOR:darkgreen
DESCRIPTION:Predmet: Klasična fizika (FIZ-1)\, Predavanja (P)\nLetniki: 1
 . letnik (Fizika\, 1. stopnja)\nIzvajalci: Marko Mikuž\nProstor: VFP
LOCATION:VFP
ORGANIZER:Marko Mikuž
RELATED-TO:fmf-AFLABS-URNIK:srecanje:13771
X-WR-TIMEZONE:Europe/Ljubljana
END:VEVENT
BEGIN:VEVENT
SUMMARY:Klasična fizika (FIZ-1)\, Predavanja (P)
DTSTART;TZID=Europe/Ljubljana:20241120T090000
DTEND;TZID=Europe/Ljubljana:20241120T110000
DTSTAMP:20260423T003757Z
UID:fmf-AFLABS-URNIK:premaknjeno-srecanje:180779
ATTENDEE:1. letnik (Fizika, 1. stopnja)
CATEGORIES:Entry,Standard
COLOR:darkgreen
DESCRIPTION:Predmet: Klasična fizika (FIZ-1)\, Predavanja (P)\nLetniki: 1
 . letnik (Fizika\, 1. stopnja)\nIzvajalci: Marko Mikuž\nProstor: VFP
LOCATION:VFP
ORGANIZER:Marko Mikuž
RELATED-TO:fmf-AFLABS-URNIK:srecanje:13771
X-WR-TIMEZONE:Europe/Ljubljana
END:VEVENT
BEGIN:VEVENT
SUMMARY:Klasična fizika (FIZ-1)\, Predavanja (P)
DTSTART;TZID=Europe/Ljubljana:20241127T090000
DTEND;TZID=Europe/Ljubljana:20241127T110000
DTSTAMP:20260423T003757Z
UID:fmf-AFLABS-URNIK:premaknjeno-srecanje:180780
ATTENDEE:1. letnik (Fizika, 1. stopnja)
CATEGORIES:Entry,Standard
COLOR:darkgreen
DESCRIPTION:Predmet: Klasična fizika (FIZ-1)\, Predavanja (P)\nLetniki: 1
 . letnik (Fizika\, 1. stopnja)\nIzvajalci: Marko Mikuž\nProstor: VFP
LOCATION:VFP
ORGANIZER:Marko Mikuž
RELATED-TO:fmf-AFLABS-URNIK:srecanje:13771
X-WR-TIMEZONE:Europe/Ljubljana
END:VEVENT
BEGIN:VEVENT
SUMMARY:Klasična fizika (FIZ-1)\, Predavanja (P)
DTSTART;TZID=Europe/Ljubljana:20241204T090000
DTEND;TZID=Europe/Ljubljana:20241204T110000
DTSTAMP:20260423T003757Z
UID:fmf-AFLABS-URNIK:premaknjeno-srecanje:180781
ATTENDEE:1. letnik (Fizika, 1. stopnja)
CATEGORIES:Entry,Standard
COLOR:darkgreen
DESCRIPTION:Predmet: Klasična fizika (FIZ-1)\, Predavanja (P)\nLetniki: 1
 . letnik (Fizika\, 1. stopnja)\nIzvajalci: Marko Mikuž\nProstor: VFP
LOCATION:VFP
ORGANIZER:Marko Mikuž
RELATED-TO:fmf-AFLABS-URNIK:srecanje:13771
X-WR-TIMEZONE:Europe/Ljubljana
END:VEVENT
BEGIN:VEVENT
SUMMARY:Klasična fizika (FIZ-1)\, Predavanja (P)
DTSTART;TZID=Europe/Ljubljana:20241211T090000
DTEND;TZID=Europe/Ljubljana:20241211T110000
DTSTAMP:20260423T003757Z
UID:fmf-AFLABS-URNIK:premaknjeno-srecanje:180782
ATTENDEE:1. letnik (Fizika, 1. stopnja)
CATEGORIES:Entry,Standard
COLOR:darkgreen
DESCRIPTION:Predmet: Klasična fizika (FIZ-1)\, Predavanja (P)\nLetniki: 1
 . letnik (Fizika\, 1. stopnja)\nIzvajalci: Marko Mikuž\nProstor: VFP
LOCATION:VFP
ORGANIZER:Marko Mikuž
RELATED-TO:fmf-AFLABS-URNIK:srecanje:13771
X-WR-TIMEZONE:Europe/Ljubljana
END:VEVENT
BEGIN:VEVENT
SUMMARY:Klasična fizika (FIZ-1)\, Predavanja (P)
DTSTART;TZID=Europe/Ljubljana:20241218T090000
DTEND;TZID=Europe/Ljubljana:20241218T110000
DTSTAMP:20260423T003757Z
UID:fmf-AFLABS-URNIK:premaknjeno-srecanje:180783
ATTENDEE:1. letnik (Fizika, 1. stopnja)
CATEGORIES:Entry,Standard
COLOR:darkgreen
DESCRIPTION:Predmet: Klasična fizika (FIZ-1)\, Predavanja (P)\nLetniki: 1
 . letnik (Fizika\, 1. stopnja)\nIzvajalci: Marko Mikuž\nProstor: VFP
LOCATION:VFP
ORGANIZER:Marko Mikuž
RELATED-TO:fmf-AFLABS-URNIK:srecanje:13771
X-WR-TIMEZONE:Europe/Ljubljana
END:VEVENT
BEGIN:VEVENT
SUMMARY:Klasična fizika (FIZ-1)\, Predavanja (P)
DTSTART;TZID=Europe/Ljubljana:20241225T090000
DTEND;TZID=Europe/Ljubljana:20241225T110000
DTSTAMP:20260423T003757Z
UID:fmf-AFLABS-URNIK:premaknjeno-srecanje:180784
ATTENDEE:1. letnik (Fizika, 1. stopnja)
CATEGORIES:Entry,Standard
COLOR:darkgreen
DESCRIPTION:Predmet: Klasična fizika (FIZ-1)\, Predavanja (P)\nLetniki: 1
 . letnik (Fizika\, 1. stopnja)\nIzvajalci: Marko Mikuž\nProstor: VFP
LOCATION:VFP
ORGANIZER:Marko Mikuž
RELATED-TO:fmf-AFLABS-URNIK:srecanje:13771
X-WR-TIMEZONE:Europe/Ljubljana
END:VEVENT
BEGIN:VEVENT
SUMMARY:Klasična fizika (FIZ-1)\, Predavanja (P)
DTSTART;TZID=Europe/Ljubljana:20250101T090000
DTEND;TZID=Europe/Ljubljana:20250101T110000
DTSTAMP:20260423T003757Z
UID:fmf-AFLABS-URNIK:premaknjeno-srecanje:180785
ATTENDEE:1. letnik (Fizika, 1. stopnja)
CATEGORIES:Entry,Standard
COLOR:darkgreen
DESCRIPTION:Predmet: Klasična fizika (FIZ-1)\, Predavanja (P)\nLetniki: 1
 . letnik (Fizika\, 1. stopnja)\nIzvajalci: Marko Mikuž\nProstor: VFP
LOCATION:VFP
ORGANIZER:Marko Mikuž
RELATED-TO:fmf-AFLABS-URNIK:srecanje:13771
X-WR-TIMEZONE:Europe/Ljubljana
END:VEVENT
BEGIN:VEVENT
SUMMARY:Klasična fizika (FIZ-1)\, Predavanja (P)
DTSTART;TZID=Europe/Ljubljana:20250108T090000
DTEND;TZID=Europe/Ljubljana:20250108T110000
DTSTAMP:20260423T003757Z
UID:fmf-AFLABS-URNIK:premaknjeno-srecanje:180786
ATTENDEE:1. letnik (Fizika, 1. stopnja)
CATEGORIES:Entry,Standard
COLOR:darkgreen
DESCRIPTION:Predmet: Klasična fizika (FIZ-1)\, Predavanja (P)\nLetniki: 1
 . letnik (Fizika\, 1. stopnja)\nIzvajalci: Marko Mikuž\nProstor: VFP
LOCATION:VFP
ORGANIZER:Marko Mikuž
RELATED-TO:fmf-AFLABS-URNIK:srecanje:13771
X-WR-TIMEZONE:Europe/Ljubljana
END:VEVENT
BEGIN:VEVENT
SUMMARY:Klasična fizika (FIZ-1)\, Predavanja (P)
DTSTART;TZID=Europe/Ljubljana:20250115T090000
DTEND;TZID=Europe/Ljubljana:20250115T110000
DTSTAMP:20260423T003757Z
UID:fmf-AFLABS-URNIK:premaknjeno-srecanje:186854
ATTENDEE:1. letnik (Fizika, 1. stopnja)
CATEGORIES:Entry,Standard
COLOR:darkgreen
DESCRIPTION:Predmet: Klasična fizika (FIZ-1)\, Predavanja (P)\nLetniki: 1
 . letnik (Fizika\, 1. stopnja)\nIzvajalci: Marko Mikuž\nProstor: VFP
LOCATION:VFP
ORGANIZER:Marko Mikuž
RELATED-TO:fmf-AFLABS-URNIK:srecanje:13771
X-WR-TIMEZONE:Europe/Ljubljana
END:VEVENT
BEGIN:VEVENT
SUMMARY:Klasična fizika (FIZ-1)\, Seminar (S)
DTSTART;TZID=Europe/Ljubljana:20241002T110000
DTEND;TZID=Europe/Ljubljana:20241002T120000
DTSTAMP:20260423T003757Z
UID:fmf-AFLABS-URNIK:premaknjeno-srecanje:180787
ATTENDEE:1. letnik (Fizika, 1. stopnja)
CATEGORIES:Entry,Standard
COLOR:darkgreen
DESCRIPTION:Predmet: Klasična fizika (FIZ-1)\, Seminar (S)\nLetniki: 1. l
 etnik (Fizika\, 1. stopnja)\nIzvajalci: Marko Mikuž\nProstor: VFP
LOCATION:VFP
ORGANIZER:Marko Mikuž
RELATED-TO:fmf-AFLABS-URNIK:srecanje:13772
X-WR-TIMEZONE:Europe/Ljubljana
END:VEVENT
BEGIN:VEVENT
SUMMARY:Klasična fizika (FIZ-1)\, Seminar (S)
DTSTART;TZID=Europe/Ljubljana:20241009T110000
DTEND;TZID=Europe/Ljubljana:20241009T120000
DTSTAMP:20260423T003757Z
UID:fmf-AFLABS-URNIK:premaknjeno-srecanje:180788
ATTENDEE:1. letnik (Fizika, 1. stopnja)
CATEGORIES:Entry,Standard
COLOR:darkgreen
DESCRIPTION:Predmet: Klasična fizika (FIZ-1)\, Seminar (S)\nLetniki: 1. l
 etnik (Fizika\, 1. stopnja)\nIzvajalci: Marko Mikuž\nProstor: VFP
LOCATION:VFP
ORGANIZER:Marko Mikuž
RELATED-TO:fmf-AFLABS-URNIK:srecanje:13772
X-WR-TIMEZONE:Europe/Ljubljana
END:VEVENT
BEGIN:VEVENT
SUMMARY:Klasična fizika (FIZ-1)\, Seminar (S)
DTSTART;TZID=Europe/Ljubljana:20241016T110000
DTEND;TZID=Europe/Ljubljana:20241016T120000
DTSTAMP:20260423T003757Z
UID:fmf-AFLABS-URNIK:premaknjeno-srecanje:180789
ATTENDEE:1. letnik (Fizika, 1. stopnja)
CATEGORIES:Entry,Standard
COLOR:darkgreen
DESCRIPTION:Predmet: Klasična fizika (FIZ-1)\, Seminar (S)\nLetniki: 1. l
 etnik (Fizika\, 1. stopnja)\nIzvajalci: Marko Mikuž\nProstor: VFP
LOCATION:VFP
ORGANIZER:Marko Mikuž
RELATED-TO:fmf-AFLABS-URNIK:srecanje:13772
X-WR-TIMEZONE:Europe/Ljubljana
END:VEVENT
BEGIN:VEVENT
SUMMARY:Klasična fizika (FIZ-1)\, Seminar (S)
DTSTART;TZID=Europe/Ljubljana:20241023T110000
DTEND;TZID=Europe/Ljubljana:20241023T120000
DTSTAMP:20260423T003757Z
UID:fmf-AFLABS-URNIK:premaknjeno-srecanje:180790
ATTENDEE:1. letnik (Fizika, 1. stopnja)
CATEGORIES:Entry,Standard
COLOR:darkgreen
DESCRIPTION:Predmet: Klasična fizika (FIZ-1)\, Seminar (S)\nLetniki: 1. l
 etnik (Fizika\, 1. stopnja)\nIzvajalci: Marko Mikuž\nProstor: VFP
LOCATION:VFP
ORGANIZER:Marko Mikuž
RELATED-TO:fmf-AFLABS-URNIK:srecanje:13772
X-WR-TIMEZONE:Europe/Ljubljana
END:VEVENT
BEGIN:VEVENT
SUMMARY:Klasična fizika (FIZ-1)\, Seminar (S)
DTSTART;TZID=Europe/Ljubljana:20241030T110000
DTEND;TZID=Europe/Ljubljana:20241030T120000
DTSTAMP:20260423T003757Z
UID:fmf-AFLABS-URNIK:premaknjeno-srecanje:180791
ATTENDEE:1. letnik (Fizika, 1. stopnja)
CATEGORIES:Entry,Standard
COLOR:darkgreen
DESCRIPTION:Predmet: Klasična fizika (FIZ-1)\, Seminar (S)\nLetniki: 1. l
 etnik (Fizika\, 1. stopnja)\nIzvajalci: Marko Mikuž\nProstor: VFP
LOCATION:VFP
ORGANIZER:Marko Mikuž
RELATED-TO:fmf-AFLABS-URNIK:srecanje:13772
X-WR-TIMEZONE:Europe/Ljubljana
END:VEVENT
BEGIN:VEVENT
SUMMARY:Klasična fizika (FIZ-1)\, Seminar (S)
DTSTART;TZID=Europe/Ljubljana:20241106T110000
DTEND;TZID=Europe/Ljubljana:20241106T120000
DTSTAMP:20260423T003757Z
UID:fmf-AFLABS-URNIK:premaknjeno-srecanje:180792
ATTENDEE:1. letnik (Fizika, 1. stopnja)
CATEGORIES:Entry,Standard
COLOR:darkgreen
DESCRIPTION:Predmet: Klasična fizika (FIZ-1)\, Seminar (S)\nLetniki: 1. l
 etnik (Fizika\, 1. stopnja)\nIzvajalci: Marko Mikuž\nProstor: VFP
LOCATION:VFP
ORGANIZER:Marko Mikuž
RELATED-TO:fmf-AFLABS-URNIK:srecanje:13772
X-WR-TIMEZONE:Europe/Ljubljana
END:VEVENT
BEGIN:VEVENT
SUMMARY:Klasična fizika (FIZ-1)\, Seminar (S)
DTSTART;TZID=Europe/Ljubljana:20241113T110000
DTEND;TZID=Europe/Ljubljana:20241113T120000
DTSTAMP:20260423T003757Z
UID:fmf-AFLABS-URNIK:premaknjeno-srecanje:180793
ATTENDEE:1. letnik (Fizika, 1. stopnja)
CATEGORIES:Entry,Standard
COLOR:darkgreen
DESCRIPTION:Predmet: Klasična fizika (FIZ-1)\, Seminar (S)\nLetniki: 1. l
 etnik (Fizika\, 1. stopnja)\nIzvajalci: Marko Mikuž\nProstor: VFP
LOCATION:VFP
ORGANIZER:Marko Mikuž
RELATED-TO:fmf-AFLABS-URNIK:srecanje:13772
X-WR-TIMEZONE:Europe/Ljubljana
END:VEVENT
BEGIN:VEVENT
SUMMARY:Klasična fizika (FIZ-1)\, Seminar (S)
DTSTART;TZID=Europe/Ljubljana:20241120T110000
DTEND;TZID=Europe/Ljubljana:20241120T120000
DTSTAMP:20260423T003757Z
UID:fmf-AFLABS-URNIK:premaknjeno-srecanje:180794
ATTENDEE:1. letnik (Fizika, 1. stopnja)
CATEGORIES:Entry,Standard
COLOR:darkgreen
DESCRIPTION:Predmet: Klasična fizika (FIZ-1)\, Seminar (S)\nLetniki: 1. l
 etnik (Fizika\, 1. stopnja)\nIzvajalci: Marko Mikuž\nProstor: VFP
LOCATION:VFP
ORGANIZER:Marko Mikuž
RELATED-TO:fmf-AFLABS-URNIK:srecanje:13772
X-WR-TIMEZONE:Europe/Ljubljana
END:VEVENT
BEGIN:VEVENT
SUMMARY:Klasična fizika (FIZ-1)\, Seminar (S)
DTSTART;TZID=Europe/Ljubljana:20241127T110000
DTEND;TZID=Europe/Ljubljana:20241127T120000
DTSTAMP:20260423T003757Z
UID:fmf-AFLABS-URNIK:premaknjeno-srecanje:180795
ATTENDEE:1. letnik (Fizika, 1. stopnja)
CATEGORIES:Entry,Standard
COLOR:darkgreen
DESCRIPTION:Predmet: Klasična fizika (FIZ-1)\, Seminar (S)\nLetniki: 1. l
 etnik (Fizika\, 1. stopnja)\nIzvajalci: Marko Mikuž\nProstor: VFP
LOCATION:VFP
ORGANIZER:Marko Mikuž
RELATED-TO:fmf-AFLABS-URNIK:srecanje:13772
X-WR-TIMEZONE:Europe/Ljubljana
END:VEVENT
BEGIN:VEVENT
SUMMARY:Klasična fizika (FIZ-1)\, Seminar (S)
DTSTART;TZID=Europe/Ljubljana:20241204T110000
DTEND;TZID=Europe/Ljubljana:20241204T120000
DTSTAMP:20260423T003757Z
UID:fmf-AFLABS-URNIK:premaknjeno-srecanje:180796
ATTENDEE:1. letnik (Fizika, 1. stopnja)
CATEGORIES:Entry,Standard
COLOR:darkgreen
DESCRIPTION:Predmet: Klasična fizika (FIZ-1)\, Seminar (S)\nLetniki: 1. l
 etnik (Fizika\, 1. stopnja)\nIzvajalci: Marko Mikuž\nProstor: VFP
LOCATION:VFP
ORGANIZER:Marko Mikuž
RELATED-TO:fmf-AFLABS-URNIK:srecanje:13772
X-WR-TIMEZONE:Europe/Ljubljana
END:VEVENT
BEGIN:VEVENT
SUMMARY:Klasična fizika (FIZ-1)\, Seminar (S)
DTSTART;TZID=Europe/Ljubljana:20241211T110000
DTEND;TZID=Europe/Ljubljana:20241211T120000
DTSTAMP:20260423T003757Z
UID:fmf-AFLABS-URNIK:premaknjeno-srecanje:180797
ATTENDEE:1. letnik (Fizika, 1. stopnja)
CATEGORIES:Entry,Standard
COLOR:darkgreen
DESCRIPTION:Predmet: Klasična fizika (FIZ-1)\, Seminar (S)\nLetniki: 1. l
 etnik (Fizika\, 1. stopnja)\nIzvajalci: Marko Mikuž\nProstor: VFP
LOCATION:VFP
ORGANIZER:Marko Mikuž
RELATED-TO:fmf-AFLABS-URNIK:srecanje:13772
X-WR-TIMEZONE:Europe/Ljubljana
END:VEVENT
BEGIN:VEVENT
SUMMARY:Klasična fizika (FIZ-1)\, Seminar (S)
DTSTART;TZID=Europe/Ljubljana:20241218T110000
DTEND;TZID=Europe/Ljubljana:20241218T120000
DTSTAMP:20260423T003757Z
UID:fmf-AFLABS-URNIK:premaknjeno-srecanje:180798
ATTENDEE:1. letnik (Fizika, 1. stopnja)
CATEGORIES:Entry,Standard
COLOR:darkgreen
DESCRIPTION:Predmet: Klasična fizika (FIZ-1)\, Seminar (S)\nLetniki: 1. l
 etnik (Fizika\, 1. stopnja)\nIzvajalci: Marko Mikuž\nProstor: VFP
LOCATION:VFP
ORGANIZER:Marko Mikuž
RELATED-TO:fmf-AFLABS-URNIK:srecanje:13772
X-WR-TIMEZONE:Europe/Ljubljana
END:VEVENT
BEGIN:VEVENT
SUMMARY:Klasična fizika (FIZ-1)\, Seminar (S)
DTSTART;TZID=Europe/Ljubljana:20241225T110000
DTEND;TZID=Europe/Ljubljana:20241225T120000
DTSTAMP:20260423T003757Z
UID:fmf-AFLABS-URNIK:premaknjeno-srecanje:180799
ATTENDEE:1. letnik (Fizika, 1. stopnja)
CATEGORIES:Entry,Standard
COLOR:darkgreen
DESCRIPTION:Predmet: Klasična fizika (FIZ-1)\, Seminar (S)\nLetniki: 1. l
 etnik (Fizika\, 1. stopnja)\nIzvajalci: Marko Mikuž\nProstor: VFP
LOCATION:VFP
ORGANIZER:Marko Mikuž
RELATED-TO:fmf-AFLABS-URNIK:srecanje:13772
X-WR-TIMEZONE:Europe/Ljubljana
END:VEVENT
BEGIN:VEVENT
SUMMARY:Klasična fizika (FIZ-1)\, Seminar (S)
DTSTART;TZID=Europe/Ljubljana:20250101T110000
DTEND;TZID=Europe/Ljubljana:20250101T120000
DTSTAMP:20260423T003757Z
UID:fmf-AFLABS-URNIK:premaknjeno-srecanje:180800
ATTENDEE:1. letnik (Fizika, 1. stopnja)
CATEGORIES:Entry,Standard
COLOR:darkgreen
DESCRIPTION:Predmet: Klasična fizika (FIZ-1)\, Seminar (S)\nLetniki: 1. l
 etnik (Fizika\, 1. stopnja)\nIzvajalci: Marko Mikuž\nProstor: VFP
LOCATION:VFP
ORGANIZER:Marko Mikuž
RELATED-TO:fmf-AFLABS-URNIK:srecanje:13772
X-WR-TIMEZONE:Europe/Ljubljana
END:VEVENT
BEGIN:VEVENT
SUMMARY:Klasična fizika (FIZ-1)\, Seminar (S)
DTSTART;TZID=Europe/Ljubljana:20250108T110000
DTEND;TZID=Europe/Ljubljana:20250108T120000
DTSTAMP:20260423T003757Z
UID:fmf-AFLABS-URNIK:premaknjeno-srecanje:180801
ATTENDEE:1. letnik (Fizika, 1. stopnja)
CATEGORIES:Entry,Standard
COLOR:darkgreen
DESCRIPTION:Predmet: Klasična fizika (FIZ-1)\, Seminar (S)\nLetniki: 1. l
 etnik (Fizika\, 1. stopnja)\nIzvajalci: Marko Mikuž\nProstor: VFP
LOCATION:VFP
ORGANIZER:Marko Mikuž
RELATED-TO:fmf-AFLABS-URNIK:srecanje:13772
X-WR-TIMEZONE:Europe/Ljubljana
END:VEVENT
BEGIN:VEVENT
SUMMARY:Klasična fizika (FIZ-1)\, Seminar (S)
DTSTART;TZID=Europe/Ljubljana:20250115T110000
DTEND;TZID=Europe/Ljubljana:20250115T120000
DTSTAMP:20260423T003757Z
UID:fmf-AFLABS-URNIK:premaknjeno-srecanje:186855
ATTENDEE:1. letnik (Fizika, 1. stopnja)
CATEGORIES:Entry,Standard
COLOR:darkgreen
DESCRIPTION:Predmet: Klasična fizika (FIZ-1)\, Seminar (S)\nLetniki: 1. l
 etnik (Fizika\, 1. stopnja)\nIzvajalci: Marko Mikuž\nProstor: VFP
LOCATION:VFP
ORGANIZER:Marko Mikuž
RELATED-TO:fmf-AFLABS-URNIK:srecanje:13772
X-WR-TIMEZONE:Europe/Ljubljana
END:VEVENT
BEGIN:VEVENT
SUMMARY:Izpiti KF
DTSTART;TZID=Europe/Ljubljana:20241125T100000
DTEND;TZID=Europe/Ljubljana:20241125T130000
DTSTAMP:20260423T003757Z
UID:fmf-AFLABS-URNIK:rezervacija:19725
ATTENDEE:1. letnik (Fizika, 1. stopnja)
CATEGORIES:Reservation
COLOR:royalblue
DESCRIPTION:Predmeti: Klasična fizika (FIZ-1)\nLetniki: 1. letnik (Fizika
 \, 1. stopnja)\nIzvajalci: Marko Mikuž\nProstori: F8
LOCATION:F8
ORGANIZER:Marko Mikuž
X-WR-TIMEZONE:Europe/Ljubljana
END:VEVENT
BEGIN:VEVENT
SUMMARY:Izpiti KF
DTSTART;TZID=Europe/Ljubljana:20241125T120000
DTEND;TZID=Europe/Ljubljana:20241125T140000
DTSTAMP:20260423T003757Z
UID:fmf-AFLABS-URNIK:rezervacija:19872
ATTENDEE:1. letnik (Fizika, 1. stopnja)
CATEGORIES:Reservation
COLOR:royalblue
DESCRIPTION:Predmeti: Klasična fizika (FIZ-1)\nLetniki: 1. letnik (Fizika
 \, 1. stopnja)\nIzvajalci: Marko Mikuž\nProstori: F6
LOCATION:F6
ORGANIZER:Marko Mikuž
X-WR-TIMEZONE:Europe/Ljubljana
END:VEVENT
END:VCALENDAR
