BEGIN:VCALENDAR
VERSION:2.0
PRODID:-//AFLabs urnik izvoz - fmf//aflabs.si//SI
DTSTAMP:20260423T211336Z
NAME:UL FMF urnik
REFRESH-INTERVAL:PT1H
SOURCE:https://urnik.fmf.uni-lj.si/teacher/135?day=2025-02-10&export=1
URL:https://urnik.fmf.uni-lj.si/teacher/135?day=2025-02-10&export=1
X-PUBLISHED-TTL:PT1H
X-WR-CALNAME:UL FMF urnik
X-WR-TIMEZONE:Europe/Ljubljana
BEGIN:VTIMEZONE
TZID:Europe/Ljubljana
BEGIN:DAYLIGHT
DTSTART:20260329T020000
RDATE:20260329T020000
RDATE:20270328T020000
TZNAME:CEST
TZOFFSETFROM:+0100
TZOFFSETTO:+0200
END:DAYLIGHT
BEGIN:STANDARD
DTSTART:20261025T030000
RDATE:20261025T030000
RDATE:20271031T030000
TZNAME:CET
TZOFFSETFROM:+0200
TZOFFSETTO:+0100
END:STANDARD
END:VTIMEZONE
BEGIN:VEVENT
SUMMARY:Klasična fizika (FIZ-1)\, Predavanja (P)
DTSTART;TZID=Europe/Ljubljana:20250219T110000
DTEND;TZID=Europe/Ljubljana:20250219T130000
DTSTAMP:20260423T211336Z
UID:fmf-AFLABS-URNIK:premaknjeno-srecanje:201352
ATTENDEE:1. letnik (Fizika, 1. stopnja)
CATEGORIES:Entry,Standard
COLOR:darkgreen
DESCRIPTION:Predmet: Klasična fizika (FIZ-1)\, Predavanja (P)\nLetniki: 1
 . letnik (Fizika\, 1. stopnja)\nIzvajalci: Marko Mikuž\nProstor: VFP
LOCATION:VFP
ORGANIZER:Marko Mikuž
RELATED-TO:fmf-AFLABS-URNIK:srecanje:14897
X-WR-TIMEZONE:Europe/Ljubljana
END:VEVENT
BEGIN:VEVENT
SUMMARY:Klasična fizika (FIZ-1)\, Predavanja (P)
DTSTART;TZID=Europe/Ljubljana:20250226T110000
DTEND;TZID=Europe/Ljubljana:20250226T130000
DTSTAMP:20260423T211336Z
UID:fmf-AFLABS-URNIK:premaknjeno-srecanje:201353
ATTENDEE:1. letnik (Fizika, 1. stopnja)
CATEGORIES:Entry,Standard
COLOR:darkgreen
DESCRIPTION:Predmet: Klasična fizika (FIZ-1)\, Predavanja (P)\nLetniki: 1
 . letnik (Fizika\, 1. stopnja)\nIzvajalci: Marko Mikuž\nProstor: VFP
LOCATION:VFP
ORGANIZER:Marko Mikuž
RELATED-TO:fmf-AFLABS-URNIK:srecanje:14897
X-WR-TIMEZONE:Europe/Ljubljana
END:VEVENT
BEGIN:VEVENT
SUMMARY:Klasična fizika (FIZ-1)\, Predavanja (P)
DTSTART;TZID=Europe/Ljubljana:20250305T110000
DTEND;TZID=Europe/Ljubljana:20250305T130000
DTSTAMP:20260423T211336Z
UID:fmf-AFLABS-URNIK:premaknjeno-srecanje:201354
ATTENDEE:1. letnik (Fizika, 1. stopnja)
CATEGORIES:Entry,Standard
COLOR:darkgreen
DESCRIPTION:Predmet: Klasična fizika (FIZ-1)\, Predavanja (P)\nLetniki: 1
 . letnik (Fizika\, 1. stopnja)\nIzvajalci: Marko Mikuž\nProstor: VFP
LOCATION:VFP
ORGANIZER:Marko Mikuž
RELATED-TO:fmf-AFLABS-URNIK:srecanje:14897
X-WR-TIMEZONE:Europe/Ljubljana
END:VEVENT
BEGIN:VEVENT
SUMMARY:Klasična fizika (FIZ-1)\, Predavanja (P)
DTSTART;TZID=Europe/Ljubljana:20250312T110000
DTEND;TZID=Europe/Ljubljana:20250312T130000
DTSTAMP:20260423T211336Z
UID:fmf-AFLABS-URNIK:premaknjeno-srecanje:201355
ATTENDEE:1. letnik (Fizika, 1. stopnja)
CATEGORIES:Entry,Standard
COLOR:darkgreen
DESCRIPTION:Predmet: Klasična fizika (FIZ-1)\, Predavanja (P)\nLetniki: 1
 . letnik (Fizika\, 1. stopnja)\nIzvajalci: Marko Mikuž\nProstor: VFP
LOCATION:VFP
ORGANIZER:Marko Mikuž
RELATED-TO:fmf-AFLABS-URNIK:srecanje:14897
X-WR-TIMEZONE:Europe/Ljubljana
END:VEVENT
BEGIN:VEVENT
SUMMARY:Klasična fizika (FIZ-1)\, Seminar (S)
DTSTART;TZID=Europe/Ljubljana:20250219T130000
DTEND;TZID=Europe/Ljubljana:20250219T140000
DTSTAMP:20260423T211336Z
UID:fmf-AFLABS-URNIK:premaknjeno-srecanje:201384
ATTENDEE:1. letnik (Fizika, 1. stopnja)
CATEGORIES:Entry,Standard
COLOR:darkgreen
DESCRIPTION:Predmet: Klasična fizika (FIZ-1)\, Seminar (S)\nLetniki: 1. l
 etnik (Fizika\, 1. stopnja)\nIzvajalci: Marko Mikuž\nProstor: VFP
LOCATION:VFP
ORGANIZER:Marko Mikuž
RELATED-TO:fmf-AFLABS-URNIK:srecanje:14899
X-WR-TIMEZONE:Europe/Ljubljana
END:VEVENT
BEGIN:VEVENT
SUMMARY:Klasična fizika (FIZ-1)\, Seminar (S)
DTSTART;TZID=Europe/Ljubljana:20250226T130000
DTEND;TZID=Europe/Ljubljana:20250226T140000
DTSTAMP:20260423T211336Z
UID:fmf-AFLABS-URNIK:premaknjeno-srecanje:201385
ATTENDEE:1. letnik (Fizika, 1. stopnja)
CATEGORIES:Entry,Standard
COLOR:darkgreen
DESCRIPTION:Predmet: Klasična fizika (FIZ-1)\, Seminar (S)\nLetniki: 1. l
 etnik (Fizika\, 1. stopnja)\nIzvajalci: Marko Mikuž\nProstor: VFP
LOCATION:VFP
ORGANIZER:Marko Mikuž
RELATED-TO:fmf-AFLABS-URNIK:srecanje:14899
X-WR-TIMEZONE:Europe/Ljubljana
END:VEVENT
BEGIN:VEVENT
SUMMARY:Klasična fizika (FIZ-1)\, Seminar (S)
DTSTART;TZID=Europe/Ljubljana:20250305T130000
DTEND;TZID=Europe/Ljubljana:20250305T140000
DTSTAMP:20260423T211336Z
UID:fmf-AFLABS-URNIK:premaknjeno-srecanje:201386
ATTENDEE:1. letnik (Fizika, 1. stopnja)
CATEGORIES:Entry,Standard
COLOR:darkgreen
DESCRIPTION:Predmet: Klasična fizika (FIZ-1)\, Seminar (S)\nLetniki: 1. l
 etnik (Fizika\, 1. stopnja)\nIzvajalci: Marko Mikuž\nProstor: VFP
LOCATION:VFP
ORGANIZER:Marko Mikuž
RELATED-TO:fmf-AFLABS-URNIK:srecanje:14899
X-WR-TIMEZONE:Europe/Ljubljana
END:VEVENT
BEGIN:VEVENT
SUMMARY:Klasična fizika (FIZ-1)\, Seminar (S)
DTSTART;TZID=Europe/Ljubljana:20250312T130000
DTEND;TZID=Europe/Ljubljana:20250312T140000
DTSTAMP:20260423T211336Z
UID:fmf-AFLABS-URNIK:premaknjeno-srecanje:201387
ATTENDEE:1. letnik (Fizika, 1. stopnja)
CATEGORIES:Entry,Standard
COLOR:darkgreen
DESCRIPTION:Predmet: Klasična fizika (FIZ-1)\, Seminar (S)\nLetniki: 1. l
 etnik (Fizika\, 1. stopnja)\nIzvajalci: Marko Mikuž\nProstor: VFP
LOCATION:VFP
ORGANIZER:Marko Mikuž
RELATED-TO:fmf-AFLABS-URNIK:srecanje:14899
X-WR-TIMEZONE:Europe/Ljubljana
END:VEVENT
BEGIN:VEVENT
SUMMARY:Klasična fizika (FIZ-1)\, Predavanja (P)
DTSTART;TZID=Europe/Ljubljana:20250220T100000
DTEND;TZID=Europe/Ljubljana:20250220T130000
DTSTAMP:20260423T211336Z
UID:fmf-AFLABS-URNIK:premaknjeno-srecanje:201368
ATTENDEE:1. letnik (Fizika, 1. stopnja)
CATEGORIES:Entry,Standard
COLOR:darkgreen
DESCRIPTION:Predmet: Klasična fizika (FIZ-1)\, Predavanja (P)\nLetniki: 1
 . letnik (Fizika\, 1. stopnja)\nIzvajalci: Marko Mikuž\nProstor: VFP
LOCATION:VFP
ORGANIZER:Marko Mikuž
RELATED-TO:fmf-AFLABS-URNIK:srecanje:14898
X-WR-TIMEZONE:Europe/Ljubljana
END:VEVENT
BEGIN:VEVENT
SUMMARY:Klasična fizika (FIZ-1)\, Predavanja (P)
DTSTART;TZID=Europe/Ljubljana:20250227T100000
DTEND;TZID=Europe/Ljubljana:20250227T130000
DTSTAMP:20260423T211336Z
UID:fmf-AFLABS-URNIK:premaknjeno-srecanje:201369
ATTENDEE:1. letnik (Fizika, 1. stopnja)
CATEGORIES:Entry,Standard
COLOR:darkgreen
DESCRIPTION:Predmet: Klasična fizika (FIZ-1)\, Predavanja (P)\nLetniki: 1
 . letnik (Fizika\, 1. stopnja)\nIzvajalci: Marko Mikuž\nProstor: VFP
LOCATION:VFP
ORGANIZER:Marko Mikuž
RELATED-TO:fmf-AFLABS-URNIK:srecanje:14898
X-WR-TIMEZONE:Europe/Ljubljana
END:VEVENT
BEGIN:VEVENT
SUMMARY:Klasična fizika (FIZ-1)\, Predavanja (P)
DTSTART;TZID=Europe/Ljubljana:20250306T100000
DTEND;TZID=Europe/Ljubljana:20250306T130000
DTSTAMP:20260423T211336Z
UID:fmf-AFLABS-URNIK:premaknjeno-srecanje:201370
ATTENDEE:1. letnik (Fizika, 1. stopnja)
CATEGORIES:Entry,Standard
COLOR:darkgreen
DESCRIPTION:Predmet: Klasična fizika (FIZ-1)\, Predavanja (P)\nLetniki: 1
 . letnik (Fizika\, 1. stopnja)\nIzvajalci: Marko Mikuž\nProstor: VFP
LOCATION:VFP
ORGANIZER:Marko Mikuž
RELATED-TO:fmf-AFLABS-URNIK:srecanje:14898
X-WR-TIMEZONE:Europe/Ljubljana
END:VEVENT
BEGIN:VEVENT
SUMMARY:Klasična fizika (FIZ-1)\, Predavanja (P)
DTSTART;TZID=Europe/Ljubljana:20250313T100000
DTEND;TZID=Europe/Ljubljana:20250313T130000
DTSTAMP:20260423T211336Z
UID:fmf-AFLABS-URNIK:premaknjeno-srecanje:201371
ATTENDEE:1. letnik (Fizika, 1. stopnja)
CATEGORIES:Entry,Standard
COLOR:darkgreen
DESCRIPTION:Predmet: Klasična fizika (FIZ-1)\, Predavanja (P)\nLetniki: 1
 . letnik (Fizika\, 1. stopnja)\nIzvajalci: Marko Mikuž\nProstor: VFP
LOCATION:VFP
ORGANIZER:Marko Mikuž
RELATED-TO:fmf-AFLABS-URNIK:srecanje:14898
X-WR-TIMEZONE:Europe/Ljubljana
END:VEVENT
BEGIN:VEVENT
SUMMARY:Nadomescanje KF
DTSTART;TZID=Europe/Ljubljana:20250221T130000
DTEND;TZID=Europe/Ljubljana:20250221T160000
DTSTAMP:20260423T211336Z
UID:fmf-AFLABS-URNIK:rezervacija:21217
ATTENDEE:1. letnik (Fizika, 1. stopnja)
CATEGORIES:Reservation
COLOR:royalblue
DESCRIPTION:Predmeti: Klasična fizika (FIZ-1)\nLetniki: 1. letnik (Fizika
 \, 1. stopnja)\nIzvajalci: Marko Mikuž\nProstori: VFP
LOCATION:VFP
ORGANIZER:Marko Mikuž
X-WR-TIMEZONE:Europe/Ljubljana
END:VEVENT
END:VCALENDAR
