BEGIN:VCALENDAR
VERSION:2.0
PRODID:-//AFLabs urnik izvoz - fmf//aflabs.si//SI
DTSTAMP:20260424T212115Z
NAME:UL FMF urnik
REFRESH-INTERVAL:PT1H
SOURCE:https://urnik.fmf.uni-lj.si/teacher/1363?day=2024-01-01&export=1
URL:https://urnik.fmf.uni-lj.si/teacher/1363?day=2024-01-01&export=1
X-PUBLISHED-TTL:PT1H
X-WR-CALNAME:UL FMF urnik
X-WR-TIMEZONE:Europe/Ljubljana
BEGIN:VTIMEZONE
TZID:Europe/Ljubljana
BEGIN:DAYLIGHT
DTSTART:20260329T020000
RDATE:20260329T020000
RDATE:20270328T020000
TZNAME:CEST
TZOFFSETFROM:+0100
TZOFFSETTO:+0200
END:DAYLIGHT
BEGIN:STANDARD
DTSTART:20261025T030000
RDATE:20261025T030000
RDATE:20271031T030000
TZNAME:CET
TZOFFSETFROM:+0200
TZOFFSETTO:+0100
END:STANDARD
END:VTIMEZONE
BEGIN:VEVENT
SUMMARY:Rezervacija
DTSTART;TZID=Europe/Ljubljana:20231005T140000
DTEND;TZID=Europe/Ljubljana:20231005T160000
DTSTAMP:20260424T212115Z
UID:fmf-AFLABS-URNIK:rezervacija:13408
CATEGORIES:Reservation
COLOR:royalblue
DESCRIPTION:Predmeti: \nLetniki: \nIzvajalci: Barbara Dorić\nProstori: Se
 jna soba J21
LOCATION:Sejna soba J21
ORGANIZER:Barbara Dorić
X-WR-TIMEZONE:Europe/Ljubljana
END:VEVENT
BEGIN:VEVENT
SUMMARY:Rezervacija
DTSTART;TZID=Europe/Ljubljana:20231019T140000
DTEND;TZID=Europe/Ljubljana:20231019T160000
DTSTAMP:20260424T212115Z
UID:fmf-AFLABS-URNIK:rezervacija:13466
CATEGORIES:Reservation
COLOR:royalblue
DESCRIPTION:Predmeti: \nLetniki: \nIzvajalci: Barbara Dorić\nProstori: Se
 jna soba J21
LOCATION:Sejna soba J21
ORGANIZER:Barbara Dorić
X-WR-TIMEZONE:Europe/Ljubljana
END:VEVENT
BEGIN:VEVENT
SUMMARY:Rezervacija
DTSTART;TZID=Europe/Ljubljana:20231025T090000
DTEND;TZID=Europe/Ljubljana:20231025T110000
DTSTAMP:20260424T212115Z
UID:fmf-AFLABS-URNIK:rezervacija:13499
CATEGORIES:Reservation
COLOR:royalblue
DESCRIPTION:Predmeti: \nLetniki: \nIzvajalci: Barbara Dorić\nProstori: Ku
 ščerjev seminar
LOCATION:Kuščerjev seminar
ORGANIZER:Barbara Dorić
X-WR-TIMEZONE:Europe/Ljubljana
END:VEVENT
BEGIN:VEVENT
SUMMARY:Rezervacija
DTSTART;TZID=Europe/Ljubljana:20231026T090000
DTEND;TZID=Europe/Ljubljana:20231026T120000
DTSTAMP:20260424T212115Z
UID:fmf-AFLABS-URNIK:rezervacija:13507
CATEGORIES:Reservation
COLOR:royalblue
DESCRIPTION:Predmeti: \nLetniki: \nIzvajalci: Barbara Dorić\nProstori: Se
 jna soba J21
LOCATION:Sejna soba J21
ORGANIZER:Barbara Dorić
X-WR-TIMEZONE:Europe/Ljubljana
END:VEVENT
BEGIN:VEVENT
SUMMARY:Rezervacija
DTSTART;TZID=Europe/Ljubljana:20231026T120000
DTEND;TZID=Europe/Ljubljana:20231026T130000
DTSTAMP:20260424T212115Z
UID:fmf-AFLABS-URNIK:rezervacija:13508
CATEGORIES:Reservation
COLOR:royalblue
DESCRIPTION:Predmeti: \nLetniki: \nIzvajalci: Barbara Dorić\nProstori: Se
 jna soba J21
LOCATION:Sejna soba J21
ORGANIZER:Barbara Dorić
X-WR-TIMEZONE:Europe/Ljubljana
END:VEVENT
BEGIN:VEVENT
SUMMARY:Rezervacija
DTSTART;TZID=Europe/Ljubljana:20231109T140000
DTEND;TZID=Europe/Ljubljana:20231109T150000
DTSTAMP:20260424T212115Z
UID:fmf-AFLABS-URNIK:rezervacija:13550
CATEGORIES:Reservation
COLOR:royalblue
DESCRIPTION:Predmeti: \nLetniki: \nIzvajalci: Barbara Dorić\nProstori: MF
 P
LOCATION:MFP
ORGANIZER:Barbara Dorić
X-WR-TIMEZONE:Europe/Ljubljana
END:VEVENT
BEGIN:VEVENT
SUMMARY:Rezervacija
DTSTART;TZID=Europe/Ljubljana:20231109T140000
DTEND;TZID=Europe/Ljubljana:20231109T160000
DTSTAMP:20260424T212115Z
UID:fmf-AFLABS-URNIK:rezervacija:13552
CATEGORIES:Reservation
COLOR:royalblue
DESCRIPTION:Predmeti: \nLetniki: \nIzvajalci: Barbara Dorić\nProstori: 3.
 07
LOCATION:3.07
ORGANIZER:Barbara Dorić
X-WR-TIMEZONE:Europe/Ljubljana
END:VEVENT
BEGIN:VEVENT
SUMMARY:Rezervacija
DTSTART;TZID=Europe/Ljubljana:20231109T150000
DTEND;TZID=Europe/Ljubljana:20231109T160000
DTSTAMP:20260424T212115Z
UID:fmf-AFLABS-URNIK:rezervacija:13553
CATEGORIES:Reservation
COLOR:royalblue
DESCRIPTION:Predmeti: \nLetniki: \nIzvajalci: Barbara Dorić\nProstori: F3
LOCATION:F3
ORGANIZER:Barbara Dorić
X-WR-TIMEZONE:Europe/Ljubljana
END:VEVENT
BEGIN:VEVENT
SUMMARY:Rezervacija
DTSTART;TZID=Europe/Ljubljana:20231120T140000
DTEND;TZID=Europe/Ljubljana:20231120T150000
DTSTAMP:20260424T212115Z
UID:fmf-AFLABS-URNIK:rezervacija:13595
CATEGORIES:Reservation
COLOR:royalblue
DESCRIPTION:Predmeti: \nLetniki: \nIzvajalci: Barbara Dorić\nProstori: Se
 jna soba J21
LOCATION:Sejna soba J21
ORGANIZER:Barbara Dorić
X-WR-TIMEZONE:Europe/Ljubljana
END:VEVENT
BEGIN:VEVENT
SUMMARY:Rezervacija
DTSTART;TZID=Europe/Ljubljana:20231123T140000
DTEND;TZID=Europe/Ljubljana:20231123T160000
DTSTAMP:20260424T212115Z
UID:fmf-AFLABS-URNIK:rezervacija:13625
CATEGORIES:Reservation
COLOR:royalblue
DESCRIPTION:Predmeti: \nLetniki: \nIzvajalci: Barbara Dorić\nProstori: Se
 jna soba J21
LOCATION:Sejna soba J21
ORGANIZER:Barbara Dorić
X-WR-TIMEZONE:Europe/Ljubljana
END:VEVENT
BEGIN:VEVENT
SUMMARY:Rezervacija
DTSTART;TZID=Europe/Ljubljana:20231207T090000
DTEND;TZID=Europe/Ljubljana:20231207T120000
DTSTAMP:20260424T212115Z
UID:fmf-AFLABS-URNIK:rezervacija:13728
CATEGORIES:Reservation
COLOR:royalblue
DESCRIPTION:Predmeti: \nLetniki: \nIzvajalci: Barbara Dorić\nProstori: Se
 jna soba J21
LOCATION:Sejna soba J21
ORGANIZER:Barbara Dorić
X-WR-TIMEZONE:Europe/Ljubljana
END:VEVENT
BEGIN:VEVENT
SUMMARY:Rezervacija
DTSTART;TZID=Europe/Ljubljana:20231207T140000
DTEND;TZID=Europe/Ljubljana:20231207T160000
DTSTAMP:20260424T212115Z
UID:fmf-AFLABS-URNIK:rezervacija:13731
CATEGORIES:Reservation
COLOR:royalblue
DESCRIPTION:Predmeti: \nLetniki: \nIzvajalci: Barbara Dorić\nProstori: Se
 jna soba J21
LOCATION:Sejna soba J21
ORGANIZER:Barbara Dorić
X-WR-TIMEZONE:Europe/Ljubljana
END:VEVENT
BEGIN:VEVENT
SUMMARY:Rezervacija
DTSTART;TZID=Europe/Ljubljana:20231208T100000
DTEND;TZID=Europe/Ljubljana:20231208T110000
DTSTAMP:20260424T212115Z
UID:fmf-AFLABS-URNIK:rezervacija:13743
CATEGORIES:Reservation
COLOR:royalblue
DESCRIPTION:Predmeti: \nLetniki: \nIzvajalci: Barbara Dorić\nProstori: Se
 jna soba J21
LOCATION:Sejna soba J21
ORGANIZER:Barbara Dorić
X-WR-TIMEZONE:Europe/Ljubljana
END:VEVENT
BEGIN:VEVENT
SUMMARY:Rezervacija
DTSTART;TZID=Europe/Ljubljana:20231214T080000
DTEND;TZID=Europe/Ljubljana:20231214T110000
DTSTAMP:20260424T212115Z
UID:fmf-AFLABS-URNIK:rezervacija:13789
CATEGORIES:Reservation
COLOR:royalblue
DESCRIPTION:Predmeti: \nLetniki: \nIzvajalci: Barbara Dorić\nProstori: Se
 jna soba J21
LOCATION:Sejna soba J21
ORGANIZER:Barbara Dorić
X-WR-TIMEZONE:Europe/Ljubljana
END:VEVENT
BEGIN:VEVENT
SUMMARY:Rezervacija
DTSTART;TZID=Europe/Ljubljana:20231219T090000
DTEND;TZID=Europe/Ljubljana:20231219T110000
DTSTAMP:20260424T212115Z
UID:fmf-AFLABS-URNIK:rezervacija:13816
CATEGORIES:Reservation
COLOR:royalblue
DESCRIPTION:Predmeti: \nLetniki: \nIzvajalci: Barbara Dorić\nProstori: Se
 jna soba J21
LOCATION:Sejna soba J21
ORGANIZER:Barbara Dorić
X-WR-TIMEZONE:Europe/Ljubljana
END:VEVENT
BEGIN:VEVENT
SUMMARY:Rezervacija
DTSTART;TZID=Europe/Ljubljana:20231221T140000
DTEND;TZID=Europe/Ljubljana:20231221T160000
DTSTAMP:20260424T212115Z
UID:fmf-AFLABS-URNIK:rezervacija:13833
CATEGORIES:Reservation
COLOR:royalblue
DESCRIPTION:Predmeti: \nLetniki: \nIzvajalci: Barbara Dorić\nProstori: Se
 jna soba J21
LOCATION:Sejna soba J21
ORGANIZER:Barbara Dorić
X-WR-TIMEZONE:Europe/Ljubljana
END:VEVENT
BEGIN:VEVENT
SUMMARY:Rezervacija
DTSTART;TZID=Europe/Ljubljana:20240111T140000
DTEND;TZID=Europe/Ljubljana:20240111T160000
DTSTAMP:20260424T212115Z
UID:fmf-AFLABS-URNIK:rezervacija:13850
CATEGORIES:Reservation
COLOR:royalblue
DESCRIPTION:Predmeti: \nLetniki: \nIzvajalci: Barbara Dorić\nProstori: Se
 jna soba J21
LOCATION:Sejna soba J21
ORGANIZER:Barbara Dorić
X-WR-TIMEZONE:Europe/Ljubljana
END:VEVENT
BEGIN:VEVENT
SUMMARY:Rezervacija
DTSTART;TZID=Europe/Ljubljana:20240118T090000
DTEND;TZID=Europe/Ljubljana:20240118T120000
DTSTAMP:20260424T212115Z
UID:fmf-AFLABS-URNIK:rezervacija:13869
CATEGORIES:Reservation
COLOR:royalblue
DESCRIPTION:Predmeti: \nLetniki: \nIzvajalci: Barbara Dorić\nProstori: Se
 jna soba J21
LOCATION:Sejna soba J21
ORGANIZER:Barbara Dorić
X-WR-TIMEZONE:Europe/Ljubljana
END:VEVENT
BEGIN:VEVENT
SUMMARY:RR sestanek
DTSTART;TZID=Europe/Ljubljana:20231219T080000
DTEND;TZID=Europe/Ljubljana:20231219T090000
DTSTAMP:20260424T212115Z
UID:fmf-AFLABS-URNIK:rezervacija:14187
CATEGORIES:Reservation
COLOR:royalblue
DESCRIPTION:Predmeti: \nLetniki: \nIzvajalci: Barbara Dorić\nProstori: Se
 jna soba J21
LOCATION:Sejna soba J21
ORGANIZER:Barbara Dorić
X-WR-TIMEZONE:Europe/Ljubljana
END:VEVENT
BEGIN:VEVENT
SUMMARY:MSCA prijava
DTSTART;TZID=Europe/Ljubljana:20240112T090000
DTEND;TZID=Europe/Ljubljana:20240112T120000
DTSTAMP:20260424T212115Z
UID:fmf-AFLABS-URNIK:rezervacija:14197
CATEGORIES:Reservation
COLOR:royalblue
DESCRIPTION:Predmeti: \nLetniki: \nIzvajalci: Barbara Dorić\nProstori: Se
 jna soba J21
LOCATION:Sejna soba J21
ORGANIZER:Barbara Dorić
X-WR-TIMEZONE:Europe/Ljubljana
END:VEVENT
BEGIN:VEVENT
SUMMARY:RR
DTSTART;TZID=Europe/Ljubljana:20231220T080000
DTEND;TZID=Europe/Ljubljana:20231220T100000
DTSTAMP:20260424T212115Z
UID:fmf-AFLABS-URNIK:rezervacija:14205
CATEGORIES:Reservation
COLOR:royalblue
DESCRIPTION:Predmeti: \nLetniki: \nIzvajalci: Barbara Dorić\nProstori: Se
 jna soba J21
LOCATION:Sejna soba J21
ORGANIZER:Barbara Dorić
X-WR-TIMEZONE:Europe/Ljubljana
END:VEVENT
BEGIN:VEVENT
SUMMARY:RR
DTSTART;TZID=Europe/Ljubljana:20240104T080000
DTEND;TZID=Europe/Ljubljana:20240104T100000
DTSTAMP:20260424T212115Z
UID:fmf-AFLABS-URNIK:rezervacija:14249
CATEGORIES:Reservation
COLOR:royalblue
DESCRIPTION:Predmeti: \nLetniki: \nIzvajalci: Barbara Dorić\nProstori: Se
 jna soba J21
LOCATION:Sejna soba J21
ORGANIZER:Barbara Dorić
X-WR-TIMEZONE:Europe/Ljubljana
END:VEVENT
BEGIN:VEVENT
SUMMARY:RR
DTSTART;TZID=Europe/Ljubljana:20240109T090000
DTEND;TZID=Europe/Ljubljana:20240109T110000
DTSTAMP:20260424T212115Z
UID:fmf-AFLABS-URNIK:rezervacija:14293
CATEGORIES:Reservation
COLOR:royalblue
DESCRIPTION:Predmeti: \nLetniki: \nIzvajalci: Barbara Dorić\nProstori: Se
 jna soba J21
LOCATION:Sejna soba J21
ORGANIZER:Barbara Dorić
X-WR-TIMEZONE:Europe/Ljubljana
END:VEVENT
BEGIN:VEVENT
SUMMARY:RR
DTSTART;TZID=Europe/Ljubljana:20240111T100000
DTEND;TZID=Europe/Ljubljana:20240111T120000
DTSTAMP:20260424T212115Z
UID:fmf-AFLABS-URNIK:rezervacija:14360
CATEGORIES:Reservation
COLOR:royalblue
DESCRIPTION:Predmeti: \nLetniki: \nIzvajalci: Barbara Dorić\nProstori: Se
 jna soba J21
LOCATION:Sejna soba J21
ORGANIZER:Barbara Dorić
X-WR-TIMEZONE:Europe/Ljubljana
END:VEVENT
BEGIN:VEVENT
SUMMARY:RR
DTSTART;TZID=Europe/Ljubljana:20240124T090000
DTEND;TZID=Europe/Ljubljana:20240124T110000
DTSTAMP:20260424T212115Z
UID:fmf-AFLABS-URNIK:rezervacija:14492
CATEGORIES:Reservation
COLOR:royalblue
DESCRIPTION:Predmeti: \nLetniki: \nIzvajalci: Barbara Dorić\nProstori: Se
 jna soba J21
LOCATION:Sejna soba J21
ORGANIZER:Barbara Dorić
X-WR-TIMEZONE:Europe/Ljubljana
END:VEVENT
BEGIN:VEVENT
SUMMARY:RR
DTSTART;TZID=Europe/Ljubljana:20240130T090000
DTEND;TZID=Europe/Ljubljana:20240130T110000
DTSTAMP:20260424T212115Z
UID:fmf-AFLABS-URNIK:rezervacija:14643
CATEGORIES:Reservation
COLOR:royalblue
DESCRIPTION:Predmeti: \nLetniki: \nIzvajalci: Barbara Dorić\nProstori: Se
 jna soba J21
LOCATION:Sejna soba J21
ORGANIZER:Barbara Dorić
X-WR-TIMEZONE:Europe/Ljubljana
END:VEVENT
BEGIN:VEVENT
SUMMARY:SIQUID
DTSTART;TZID=Europe/Ljubljana:20240201T130000
DTEND;TZID=Europe/Ljubljana:20240201T150000
DTSTAMP:20260424T212115Z
UID:fmf-AFLABS-URNIK:rezervacija:14648
CATEGORIES:Reservation
COLOR:royalblue
DESCRIPTION:Predmeti: \nLetniki: \nIzvajalci: Barbara Dorić\nProstori: P.
 02
LOCATION:P.02
ORGANIZER:Barbara Dorić
X-WR-TIMEZONE:Europe/Ljubljana
END:VEVENT
END:VCALENDAR
